BEGIN:VCALENDAR
VERSION:2.0
PRODID:-//Mercados Medievales - ECPv6.15.20//NONSGML v1.0//EN
CALSCALE:GREGORIAN
METHOD:PUBLISH
X-WR-CALNAME:Mercados Medievales
X-ORIGINAL-URL:https://demercadosmedievales.info
X-WR-CALDESC:Eventos para Mercados Medievales
REFRESH-INTERVAL;VALUE=DURATION:PT1H
X-Robots-Tag:noindex
X-PUBLISHED-TTL:PT1H
BEGIN:VTIMEZONE
TZID:Europe/Madrid
BEGIN:DAYLIGHT
TZOFFSETFROM:+0100
TZOFFSETTO:+0200
TZNAME:CEST
DTSTART:20230326T010000
END:DAYLIGHT
BEGIN:STANDARD
TZOFFSETFROM:+0200
TZOFFSETTO:+0100
TZNAME:CET
DTSTART:20231029T010000
END:STANDARD
BEGIN:DAYLIGHT
TZOFFSETFROM:+0100
TZOFFSETTO:+0200
TZNAME:CEST
DTSTART:20240331T010000
END:DAYLIGHT
BEGIN:STANDARD
TZOFFSETFROM:+0200
TZOFFSETTO:+0100
TZNAME:CET
DTSTART:20241027T010000
END:STANDARD
BEGIN:DAYLIGHT
TZOFFSETFROM:+0100
TZOFFSETTO:+0200
TZNAME:CEST
DTSTART:20250330T010000
END:DAYLIGHT
BEGIN:STANDARD
TZOFFSETFROM:+0200
TZOFFSETTO:+0100
TZNAME:CET
DTSTART:20251026T010000
END:STANDARD
BEGIN:DAYLIGHT
TZOFFSETFROM:+0100
TZOFFSETTO:+0200
TZNAME:CEST
DTSTART:20260329T010000
END:DAYLIGHT
BEGIN:STANDARD
TZOFFSETFROM:+0200
TZOFFSETTO:+0100
TZNAME:CET
DTSTART:20261025T010000
END:STANDARD
END:VTIMEZONE
BEGIN:VEVENT
DTSTART;TZID=Europe/Madrid:20251003T000000
DTEND;TZID=Europe/Madrid:20251005T235959
DTSTAMP:20260420T082144
CREATED:20251003T165239Z
LAST-MODIFIED:20251003T165240Z
UID:10002760-1759449600-1759708799@demercadosmedievales.info
SUMMARY:Programación : MERCADO MEDIEVAL DE VILLAMAYOR DE SANTIAGO 2025 / CUENCA
DESCRIPTION:Villamayor de Santiago celebra su Mercado Medieval del 3 al 5 de octubre con cetrería\, música y talleres. \n\n\n\n\n\n\n\n \n\n\n\n \n\n\n\nMERCADO MEDIEVAL\n\n\n\nPREGÓN DE INAUGURACIÓN 📜📆Viernes 3 a las 18h en la Plaza de la Villa \n\n\n\nCONCURSO DE DISFRACES MEDIEVALES POR GRUPOS.(Inscripciones en la Biblioteca) \n\n\n\n\nSábado 4 a las 18:00h en la Plaza de la Villa\n\n\n\nMínimo 10 componentes\n\n\n\nPremios a la «Mejor temática» y al «Más original»\n\n\n\n\nTALLERES INFANTILES.   \n\n\n\nACTUACIONES. \n\n\n\n\n\n\n\n\n\n\n\n\n\n\n\n\n\n\n\nProgramción completa\n\n\n\n\n\n \n\n\n\nDESCRIPCION DEL MERCADO MEDIEVAL\n\n\n\n\nFechas: Del 3 al 5 de octubre de 2025 (de Viernes a Domingo)\n\n\n\nUbicación: Centro histórico de Villamayor de Santiago (Cuenca)\n\n\n\nCada cuanto se celebra : Anualmente\n\n\n\nActividades previstas:\n\nMúsica en vivo\n\n\n\nExhibiciones de cetrería\n\n\n\nTalleres artesanales y demostrativos\n\n\n\nEspectáculos de animación y pasacalles\n\n\n\n\n\nOrganiza: Artesanos Reunidos\n\nInformación e inscripciones:\n\n📞 Teléfono: 633 323 561\n\n\n\n\n\n\n\n\n \n\n\n\nDESCRIPCION DE LA LOCALIDAD\n\n\n\nVillamayor de Santiago es un municipio español situado en la provincia de Cuenca y muy cercano a la provincia de Toledo\, en la comunidad autónoma de Castilla-La Mancha. Situada al sudoeste de Cuenca\, casi al límite con la provincia de Toledo. En plena mancha conquense\, Villamayor de Santiago es un cruce natural de caminos entre la afamada Alcarria de Cela\, la Serranía de Cuenca y la Mancha más cervantina de Ciudad Real y Cuenca. \n\n\n\nEstá situado en la comarca de La Mancha Alta Conquense\, muy cerca de Tarancón y Belmonte. \n\n\n\nDistancias kilométricas : \n\n\n\n\n📍 Madrid → 110 km\n\n\n\n📍 Toledo → 120 km\n\n\n\n📍 Cuenca capital → 95 km\n\n\n\n📍 Tarancón → 35 km\n\n\n\n📍 Belmonte → 28 km\n\n\n\n📍 Mota del Cuervo → 32 km\n\n\n\n📍 Valencia → 260 km\n\n\n\n📍 Albacete → 150 km\n\n\n\n📍 Ciudad Real → 165 km\n\n\n\n\n👉 Son distancias por carretera (no en línea recta) y pueden variar un poco según la ruta elegida. \n\n\n\n\n\n \n\n\n\nPara más información puedes consultar :\n\n\n\n\nPuedes Consultar en esté enlace las Ferias y Mercados en España\n\n\n\nHaz clic en ESTE enlace :  Conoce los Organizadores de Mercados y Ferias\n\n\n\n\n\n\n\n\n¿Te apuntas? Dale follow y no te lo pierdas.\n\n\n\n\nTelegram: Recibe nuestras noticias y contenido exclusivo (clic aquí).\n\n\n\nNewsletter: Recibe un correos con nuestras últimas noticias (clic aquí).\n\n\n\nWhatsApp: Suscríbete para seguirnos en nuestro canal (clic aquí).\n\n\n\nInstagram: Síguenos en Instagram ( clic aquí )\n\n\n\n\nEn Resumen…
URL:https://demercadosmedievales.info/mercadomedieval/mercado-medieval-de-villamayor-de-santiago-2025-cuenca/
LOCATION:Villamayor de Santiago (Cuenca) (***)\, Calle Cuenca\, Villamayor de Santiago\, Cuenca\, 16415
CATEGORIES:Cartel,Castilla La Mancha,Cuenca,Mercado Medieval,Programación
ATTACH;FMTTYPE=image/jpeg:https://demercadosmedievales.info/wp-content/uploads/2025/09/f_medieval_villamayor_de_santiago.jpg
ORGANIZER;CN="Artesanos reunidos":MAILTO:artesanosreunidos@gmail.com
GEO:39.7305519;-2.9223399
X-APPLE-STRUCTURED-LOCATION;VALUE=URI;X-ADDRESS=Villamayor de Santiago (Cuenca) (***) Calle Cuenca Villamayor de Santiago Cuenca 16415;X-APPLE-RADIUS=500;X-TITLE=Calle Cuenca:geo:-2.9223399,39.7305519
END:VEVENT
BEGIN:VEVENT
DTSTART;TZID=Europe/Madrid:20241004T000000
DTEND;TZID=Europe/Madrid:20241006T235959
DTSTAMP:20260420T082144
CREATED:20240823T054222Z
LAST-MODIFIED:20240930T113753Z
UID:10001643-1728000000-1728259199@demercadosmedievales.info
SUMMARY:Mercado medieval de Villamayor de Santiago (Cuenca) 2024
DESCRIPTION:Villamayor de Santiago   Villamayor de Santiago es un municipio español situado en la provincia de Cuenca y muy cercano a la provincia de Toledo\, en la comunidad autónoma de Castilla-La Mancha. Situada al sudoeste de Cuenca\, casi al límite con la provincia de Toledo. En plena mancha conquense\, Villamayor de Santiago es un cruce…  \n\n\n\n\n\n\nMercado Medieval\n\n\n\nCartel\n\n\n\n \n\n\n\nProgramación \n\n\n\n \n\n\n\n \n\n\n\nInformación básica del Mercado\n\n\n\nFecha de celebraciónLos días 04 al 06 de Octubre del 2024 \n\n\n\nDonde se realiza \n\n\n\nEn el municipio de Villamayor de Santiago en la provincia de Cuenca \n\n\n\nMontaje:Viernes por la mañana \n\n\n\nInformación del Organizador\n\n\n\nLa empresa organizadora es  ARTESANOS REUNIDOS  \n\n\n\nComo participarLos organizadores han facilitado los siguientes medios de contacto para que se inscriban y/o consulten los artesanos y mercaderes:Información e Inscripciones: artesanosreunidos@gmail.com Teléfono Móvil:  633.323.561 \n\n\n\nMás fechasPuedes conocer mas ferias y mercados en está provincia\, consultando nuestra sección de Eventos en Cuenca \n\n\n\nOtros eventos del mismo organizadorConsulta Aquí otras ferias y mercados que organizará la empresa ARTESANOS REUNIDOS \n\n\n\notros mercados temáticos y FeriasSi quieres conocer cuando se realizan más ferias y mercados\, puedes consultarlos visitando nuestro  Calendario de Eventos \n\n\n\nAcerca de Villamayor de Santiago\n\n\n\nVillamayor de Santiago es un municipio español situado en la provincia de Cuenca y muy cercano a la provincia de Toledo\, en la comunidad autónoma de Castilla-La Mancha. Situada al sudoeste de Cuenca\, casi al límite con la provincia de Toledo. En plena mancha conquense\, Villamayor de Santiago es un cruce natural de caminos entre la afamada Alcarria de Cela\, la Serranía de Cuenca y la Mancha más cervantina de Ciudad Real y Cuenca. \n\n\n\nCalendario 2024\n\n\n\nSobre los Mercados Medievales\n\n\n\nLas ferias medievales son eventos que recrean la atmósfera de la Edad Media. Por lo general\, se llevan a cabo en pueblos o ciudades\, y presentan puestos de vendedores que venden artesanías\, alimentos y bebidas. También puede haber entretenimiento\, como justas\, música y baile. \n\n\n\n\n\n\n\nDetalles del organizador\n\n\n\n\n\nMapa de localización
URL:https://demercadosmedievales.info/mercadomedieval/mercado-medieval-de-villamayor-de-santiago-cuenca-2024/
LOCATION:Villamayor de Santiago (Cuenca) (***)\, Calle Cuenca\, Villamayor de Santiago\, Cuenca\, 16415
CATEGORIES:Cartel,Cuenca,Mercado Medieval,Programación
ATTACH;FMTTYPE=image/jpeg:https://demercadosmedievales.info/wp-content/uploads/2024/08/medieval-villamayor-de-santiago-f.jpg
ORGANIZER;CN="Artesanos reunidos":MAILTO:artesanosreunidos@gmail.com
GEO:39.7305519;-2.9223399
X-APPLE-STRUCTURED-LOCATION;VALUE=URI;X-ADDRESS=Villamayor de Santiago (Cuenca) (***) Calle Cuenca Villamayor de Santiago Cuenca 16415;X-APPLE-RADIUS=500;X-TITLE=Calle Cuenca:geo:-2.9223399,39.7305519
END:VEVENT
END:VCALENDAR