BEGIN:VCALENDAR
VERSION:2.0
PRODID:-//Mercados Medievales - ECPv6.15.20//NONSGML v1.0//EN
CALSCALE:GREGORIAN
METHOD:PUBLISH
X-ORIGINAL-URL:https://demercadosmedievales.info
X-WR-CALDESC:Eventos para Mercados Medievales
REFRESH-INTERVAL;VALUE=DURATION:PT1H
X-Robots-Tag:noindex
X-PUBLISHED-TTL:PT1H
BEGIN:VTIMEZONE
TZID:Europe/Madrid
BEGIN:DAYLIGHT
TZOFFSETFROM:+0100
TZOFFSETTO:+0200
TZNAME:CEST
DTSTART:20230326T010000
END:DAYLIGHT
BEGIN:STANDARD
TZOFFSETFROM:+0200
TZOFFSETTO:+0100
TZNAME:CET
DTSTART:20231029T010000
END:STANDARD
BEGIN:DAYLIGHT
TZOFFSETFROM:+0100
TZOFFSETTO:+0200
TZNAME:CEST
DTSTART:20240331T010000
END:DAYLIGHT
BEGIN:STANDARD
TZOFFSETFROM:+0200
TZOFFSETTO:+0100
TZNAME:CET
DTSTART:20241027T010000
END:STANDARD
BEGIN:DAYLIGHT
TZOFFSETFROM:+0100
TZOFFSETTO:+0200
TZNAME:CEST
DTSTART:20250330T010000
END:DAYLIGHT
BEGIN:STANDARD
TZOFFSETFROM:+0200
TZOFFSETTO:+0100
TZNAME:CET
DTSTART:20251026T010000
END:STANDARD
BEGIN:DAYLIGHT
TZOFFSETFROM:+0100
TZOFFSETTO:+0200
TZNAME:CEST
DTSTART:20260329T010000
END:DAYLIGHT
BEGIN:STANDARD
TZOFFSETFROM:+0200
TZOFFSETTO:+0100
TZNAME:CET
DTSTART:20261025T010000
END:STANDARD
END:VTIMEZONE
BEGIN:VEVENT
DTSTART;TZID=Europe/Madrid:20241201T000000
DTEND;TZID=Europe/Madrid:20250107T235959
DTSTAMP:20260426T013532
CREATED:20241013T081251Z
LAST-MODIFIED:20241013T081255Z
UID:10001809-1733011200-1736294399@demercadosmedievales.info
SUMMARY:Mercado de Navidad en la Villa de Vallecas 2024 (Madrid)
DESCRIPTION:Villa de Vallecas   Villa de Vallecas es uno de los 21 distritos de Madrid\, situado a 9 km al sureste de Madrid. Está organizado administrativamente en tres barrios: Casco Histórico de Vallecas\, Santa Eugenia y Ensanche de Vallecas.   Iglesia San Pedro ad Vincula   La esbelta torre de esta iglesia de principios del siglo XVII…  \n\n\n\n\n\n\nMercado Navideño\n \nCartel – Próximamente\nProgramación – Próximamente\n** Próximamente dispondremos del cartel y del programa con las actividades previstas. \nInformación básica del Mercado\nFecha de celebración Los dias 01 de diciembre al 07 de enero   del  2024 \nDonde se realizaEn el distrito Villa de Vallecas de MADRID que pertenece a la provincia de  MADRID \nInformación del Organizador\nLa empresa organizadora es Michel \nComo participar \nPara más Información e Inscripciones: Teléfono / WhatsApp 645686920 \nMás fechas  Puedes conocer mas ferias y mercados en está provincia\, consultando nuestra sección de Eventos en Madrid \notros mercados temáticos y FeriasSi quieres conocer cuando se realizan más ferias y mercados\, puedes consultarlos visitando nuestro   Calendario de Eventos \nCalendario 2024\nSobre los Mercados Medievales\nLas ferias medievales son eventos que recrean la atmósfera de la Edad Media. Por lo general\, se llevan a cabo en pueblos o ciudades\, y presentan puestos de vendedores que venden artesanías\, alimentos y bebidas. También puede haber entretenimiento\, como justas\, música y baile. \n\n\n\n\n\n\n\n\n\nDetalles del organizador\n\n\n\n\n\nLocalización\n\n\n\nVilla de Vallecas es uno de los 21 distritos de Madrid\, situado a 9 km al sureste de Madrid. Está organizado administrativamente en tres barrios: Casco Histórico de Vallecas\, Santa Eugenia y Ensanche de Vallecas.
URL:https://demercadosmedievales.info/mercadomedieval/mercado-de-navidad-en-la-villa-de-vallecas-2024-madrid/
LOCATION:Vallecas (Madrid) (***)\, Madrid\, Madrid\, Spain
CATEGORIES:Comunidad de Madrid,Mercados de navidad
ATTACH;FMTTYPE=image/jpeg:https://demercadosmedievales.info/wp-content/uploads/2024/10/mercado-navidad-vallecas-2024_f.jpg
GEO:40.3669555;-3.606064
END:VEVENT
END:VCALENDAR