BEGIN:VCALENDAR
VERSION:2.0
PRODID:-//Mercados Medievales - ECPv6.15.20//NONSGML v1.0//EN
CALSCALE:GREGORIAN
METHOD:PUBLISH
X-ORIGINAL-URL:https://demercadosmedievales.info
X-WR-CALDESC:Eventos para Mercados Medievales
REFRESH-INTERVAL;VALUE=DURATION:PT1H
X-Robots-Tag:noindex
X-PUBLISHED-TTL:PT1H
BEGIN:VTIMEZONE
TZID:Europe/Madrid
BEGIN:DAYLIGHT
TZOFFSETFROM:+0100
TZOFFSETTO:+0200
TZNAME:CEST
DTSTART:20230326T010000
END:DAYLIGHT
BEGIN:STANDARD
TZOFFSETFROM:+0200
TZOFFSETTO:+0100
TZNAME:CET
DTSTART:20231029T010000
END:STANDARD
BEGIN:DAYLIGHT
TZOFFSETFROM:+0100
TZOFFSETTO:+0200
TZNAME:CEST
DTSTART:20240331T010000
END:DAYLIGHT
BEGIN:STANDARD
TZOFFSETFROM:+0200
TZOFFSETTO:+0100
TZNAME:CET
DTSTART:20241027T010000
END:STANDARD
BEGIN:DAYLIGHT
TZOFFSETFROM:+0100
TZOFFSETTO:+0200
TZNAME:CEST
DTSTART:20250330T010000
END:DAYLIGHT
BEGIN:STANDARD
TZOFFSETFROM:+0200
TZOFFSETTO:+0100
TZNAME:CET
DTSTART:20251026T010000
END:STANDARD
BEGIN:DAYLIGHT
TZOFFSETFROM:+0100
TZOFFSETTO:+0200
TZNAME:CEST
DTSTART:20260329T010000
END:DAYLIGHT
BEGIN:STANDARD
TZOFFSETFROM:+0200
TZOFFSETTO:+0100
TZNAME:CET
DTSTART:20261025T010000
END:STANDARD
BEGIN:DAYLIGHT
TZOFFSETFROM:+0100
TZOFFSETTO:+0200
TZNAME:CEST
DTSTART:20270328T010000
END:DAYLIGHT
BEGIN:STANDARD
TZOFFSETFROM:+0200
TZOFFSETTO:+0100
TZNAME:CET
DTSTART:20271031T010000
END:STANDARD
END:VTIMEZONE
BEGIN:VEVENT
DTSTART;TZID=Europe/Madrid:20260312T000000
DTEND;TZID=Europe/Madrid:20260319T235959
DTSTAMP:20260425T215253
CREATED:20251025T115801Z
LAST-MODIFIED:20251025T120013Z
UID:10002952-1773273600-1773964799@demercadosmedievales.info
SUMMARY:MERCADO TRADICIONAL DE LA FALLA CUBA – PUERTO RICO 2026 (VALENCIA)
DESCRIPTION:Durante las Fallas de Valencia\, la Falla Cuba – Puerto Rico vuelve a acoger su Mercado Tradicional\, organizado por Corona Eventos\, en la emblemática calle Cuba\, epicentro de la luz y la fiesta fallera. \n\n\n\n \n\n\n\n\n\n\n\n \n\n\n\nLuz\, arte y tradición en el corazón de las Fallas\n\n\n\nEsta falla\, premiada siete años consecutivos en la Sección Especial de Iluminación\, reúne cada año a una gran cantidad de público atraído por su espectáculo de luces\, su ambiente festivo y sus propuestas artesanales. \n\n\n\nEl mercado ofrecerá una selección de puestos de artesanía\, gastronomía y productos tradicionales\, acompañados del inconfundible espíritu fallero de Ruzafa. \n\n\n\n📍 Lugar: Calle Cuba (Falla Cuba – Puerto Rico)\, Valencia📅 Fechas: Durante las Fallas🎪 Organiza: Corona Eventos📞 Teléfono: 653 472 245✉️ Email: coronaeventoscc@gmail.com \n\n\n\n\n\n\n\n🧾 REQUISITOS PARA PARTICIPAR COMO PARADISTA\n\n\n\n\nAlta en Régimen de Autónomos\n\n\n\nDocumentación en regla\n\n\n\nAlta en la Seguridad Social\n\n\n\n\n \n\n\n\nMercado de fallas : \n\n\n\nLas fallas es una de las fiestas más importantes de Valencia que superan la cantidad de turistas al día. Las Fallas (Falles en valenciano) son unas fiestas que son en la semana del 19 de marzo con una tradición arraigada en la ciudad de Valencia y diferentes poblaciones de la Comunidad Valenciana. \n\n\n\nOficialmente empiezan el último domingo de febrero con el acto de la Crida (en valenciano; ‘pregón’\, en español). Actualmente\, esta festividad se ha convertido en un atractivo turístico muy importante\, ya que además de estar catalogadas como fiesta de Interés Turístico Internacional\, en noviembre de 2016 la Unesco las inscribió en su Lista Representativa del Patrimonio Cultural Inmaterial de la Humanidad.​ \n\n\n\nEstas fiestas también son llamadas fiestas josefinas o festes de Sant Josep (en valenciano)\, ya que se celebran en honor de San José\, patrón de los carpinteros\, que era un gremio muy extendido en la ciudad cuando empezaron a celebrarse a finales del siglo XIX\, y que conservó hasta la actualidad\, dada la importancia de la industria del mueble en la región. \n\n\n\n \n\n\n\n🏙️ DESCRIPCIÓN DE LA LOCALIDAD\n\n\n\nValencia es una ciudad vibrante y festiva\, famosa por sus Fallas\, su gastronomía mediterránea y su ambiente único. El barrio de Ruzafa\, uno de los más emblemáticos\, combina tradición\, arte\, cultura y ocio\, atrayendo a miles de visitantes durante las fiestas falleras. \n\n\n\n\n\n \n\n\n\nPara más información puedes consultar :\n\n\n\n\nPuedes Consultar en esté enlace las Ferias y Mercados en España\n\n\n\nHaz clic en ESTE enlace :  Conoce los Organizadores de Mercados y Ferias\n\n\n\n\n\n\n\n\n¿Te apuntas? Dale follow y no te lo pierdas.\n\n\n\n\nTelegram: Recibe nuestras noticias y contenido exclusivo (clic aquí).\n\n\n\nNewsletter: Recibe un correos con nuestras últimas noticias (clic aquí).\n\n\n\nWhatsApp: Suscríbete para seguirnos en nuestro canal (clic aquí).\n\n\n\nInstagram: Síguenos en Instagram ( clic aquí )\n\n\n\n\nEn Resumen…
URL:https://demercadosmedievales.info/mercadomedieval/mercado-tradicional-de-la-falla-cuba-puerto-rico-2026-valencia/
LOCATION:Valencia (Falla Cuba-Puerto Rico) (***)\, C/ Cuba y C/ Puerto Rico\, Valencia\, Valencia\, España
CATEGORIES:Comunidad valenciana,Comunidades y Ciudades Autónomas,Fallas
ATTACH;FMTTYPE=image/jpeg:https://demercadosmedievales.info/wp-content/uploads/2025/10/FALLA_cuba_PUERTO_rico_facebook_2026.jpg
ORGANIZER;CN="Corona eventos":MAILTO:coronaeventoscc@gmail.com
GEO:39.4610555;-0.3763942
X-APPLE-STRUCTURED-LOCATION;VALUE=URI;X-ADDRESS=Valencia (Falla Cuba-Puerto Rico) (***) C/ Cuba y C/ Puerto Rico Valencia Valencia España;X-APPLE-RADIUS=500;X-TITLE=C/ Cuba y C/ Puerto Rico:geo:-0.3763942,39.4610555
END:VEVENT
BEGIN:VEVENT
DTSTART;VALUE=DATE:20240313
DTEND;VALUE=DATE:20240320
DTSTAMP:20260425T215253
CREATED:20231112T104744Z
LAST-MODIFIED:20231120T101602Z
UID:10000675-1710288000-1710892799@demercadosmedievales.info
SUMMARY:MERCADO TRADICIONAL DE FALLA CUBA - PUERTO RICO del 13 al 19 de Marzo 2024
DESCRIPTION:Mercado tradicional de la falla Cuba-Puerto Rico \, del 13 al 19 de Marzo del 2024. Las Inscripciones deben ser antes del 18 de diciembre del 2023. \n \nMERCADO TRADICIONAL DE FALLAS\nFALLA CUBA-PUERTO RICO\nDEL 13 AL 19 DE MARZO DE 2024\nC/ CUBA Y C/ PUERTO RICO \nLa Fragua de Vulcano  está seleccionando un año más\, tras la experiencia del año pasado\, y en colaboración con la Comisión Fallera Cuba-Puerto Rico del Barrio de Ruzafa de Valencia\, un número limitado de paradas participantes para una de las zonas más exclusivas e interesantes a nivel comercial de todas las Fallas de Valencia. La comisión fallera Cuba-Puerto Rico es una de las de más solera y tradición de toda Valencia\, fundada en 1932. \nDesde hace más de 60 años\, es una de las principales participantes en el concurso de iluminación fallera\, que ha ganado en las últimas 5 ediciones consecutivas. Eso\, unido a su ubicación privilegiada junto a dos de las más visitadas Fallas como son Cuba-Literato Azorín y Sueca-Literato Azorín\, por sus espectaculares monumentos de sección especial\, convierten a ese mercado de Fallas en uno de los más interesantes. \nSe selecciona tan solo un pequeño número de puestos\, hasta 8 dependiendo de sus dimensiones\, y siempre de paradas de artesanía o puestos de alimentación sin manipulación (Es decir\, debería estar todo envasado\, tipo garrapiñadas\, caramelos\, chocolates\, conservas…) \nEl número total de participantes que se autorizarán como ya decimos\, como viene siendo habitual ya en las últimas ediciones de los mercados de Fallas\, es muy limitado y por tanto la selección será rigurosa teniendo en cuenta la variedad de productos representados\, y el cumplimiento estricto y escrupuloso de la normativa que se exige. \nImportante señalar que las inscripciones han de registrarse en el Ayuntamiento con mucha antelación dados los trámites de autorización necesarios\, por lo que la selección de artesanos se cerrará el 18 de diciembre\, o con anterioridad si se cubren las plazas disponibles\, por lo que si es de tu interés\, solicita condiciones de participación DE INMEDIATO. \nA modo de resumen:\nMERCADO FALLA CUBA-PUERTO RICO\nDEL 13 AL 19 DE MARZO 2024\nLugar: C/ Cuba y C/ Puerto Rico\nMontaje: 13 de marzo por la mañana (por confirmar horario) \nInformación e inscripciones:\ngestion@espectaculosamb.com \nComo participar ?\nPonte en contacto con LA FRAGUA DE VULCANO\nTeléfono 963 400 037\n\n\n\nLas Fallas de Valencia …. Cuando son los mercados tradicionales en Fallas en 2024 ?\nLas Fallas de Valencia se han convertido en un atractivo turístico muy importante\, ya que además de que están catalogadas como fiesta de Interés Turístico Internacional. \nVer calendario de mercados y ferias en Fallas \n\n  \nMERCADOS MEDIEVALES\, FALLAS DE VALENCIA\, MERCADO TRADICIONAL DE FALLA CUBA – PUERTO RICO 2024\, España\, Comunidad Valenciana\, Valencia\,
URL:https://demercadosmedievales.info/mercadomedieval/mercado-tradicional-de-falla-cuba-puerto-rico-del-13-al-19-de-marzo-2024/
LOCATION:Valencia (Falla Cuba-Puerto Rico) (***)\, C/ Cuba y C/ Puerto Rico\, Valencia\, Valencia\, España
CATEGORIES:Fallas,La Fragua de Vulcano,Valencia
ATTACH;FMTTYPE=image/jpeg:https://demercadosmedievales.info/wp-content/uploads/2023/11/falla_reino_cuba-puerto_rico_2024_redes.jpg
ORGANIZER;CN="La Fragua de Vulcano":MAILTO:lafragua@espectaculosamb.com
GEO:39.4610555;-0.3763942
X-APPLE-STRUCTURED-LOCATION;VALUE=URI;X-ADDRESS=Valencia (Falla Cuba-Puerto Rico) (***) C/ Cuba y C/ Puerto Rico Valencia Valencia España;X-APPLE-RADIUS=500;X-TITLE=C/ Cuba y C/ Puerto Rico:geo:-0.3763942,39.4610555
END:VEVENT
END:VCALENDAR