BEGIN:VCALENDAR
VERSION:2.0
PRODID:-//Mercados Medievales - ECPv6.15.20//NONSGML v1.0//EN
CALSCALE:GREGORIAN
METHOD:PUBLISH
X-WR-CALNAME:Mercados Medievales
X-ORIGINAL-URL:https://demercadosmedievales.info
X-WR-CALDESC:Eventos para Mercados Medievales
REFRESH-INTERVAL;VALUE=DURATION:PT1H
X-Robots-Tag:noindex
X-PUBLISHED-TTL:PT1H
BEGIN:VTIMEZONE
TZID:Europe/Madrid
BEGIN:DAYLIGHT
TZOFFSETFROM:+0100
TZOFFSETTO:+0200
TZNAME:CEST
DTSTART:20230326T010000
END:DAYLIGHT
BEGIN:STANDARD
TZOFFSETFROM:+0200
TZOFFSETTO:+0100
TZNAME:CET
DTSTART:20231029T010000
END:STANDARD
BEGIN:DAYLIGHT
TZOFFSETFROM:+0100
TZOFFSETTO:+0200
TZNAME:CEST
DTSTART:20240331T010000
END:DAYLIGHT
BEGIN:STANDARD
TZOFFSETFROM:+0200
TZOFFSETTO:+0100
TZNAME:CET
DTSTART:20241027T010000
END:STANDARD
BEGIN:DAYLIGHT
TZOFFSETFROM:+0100
TZOFFSETTO:+0200
TZNAME:CEST
DTSTART:20250330T010000
END:DAYLIGHT
BEGIN:STANDARD
TZOFFSETFROM:+0200
TZOFFSETTO:+0100
TZNAME:CET
DTSTART:20251026T010000
END:STANDARD
BEGIN:DAYLIGHT
TZOFFSETFROM:+0100
TZOFFSETTO:+0200
TZNAME:CEST
DTSTART:20260329T010000
END:DAYLIGHT
BEGIN:STANDARD
TZOFFSETFROM:+0200
TZOFFSETTO:+0100
TZNAME:CET
DTSTART:20261025T010000
END:STANDARD
END:VTIMEZONE
BEGIN:VEVENT
DTSTART;TZID=Europe/Madrid:20250315T000000
DTEND;TZID=Europe/Madrid:20250316T235959
DTSTAMP:20260420T110453
CREATED:20241229T123451Z
LAST-MODIFIED:20250223T194058Z
UID:10002058-1741996800-1742169599@demercadosmedievales.info
SUMMARY:Mercado Medieval del Sos del Rey Católico 2025 (Zaragoza)
DESCRIPTION:Sos del Rey Católico es un municipio español de la comarca de las Cinco Villas\, al noroeste de la provincia de Zaragoza\, en la comunidad autónoma de Aragón.  \n\n\n\n\n\n\nMercado Medieval\n\n\n\n\n\n\n\nEl corazón de la celebración es el mercado medieval\, que se extiende por todas las calles de la villa. Aquí\, los artesanos no solo exponen y venden sus productos\, sino que también ofrecen demostraciones en vivo de sus técnicas\, mostrando la maestría detrás de cada creación.. \n\n\n\n\nNobles medievales\, bufones de la corte\, paisanos… \n\n\n\n\nProgramación \n\n\n\n\n\n\n\n\n\n\n\n\n\n\n\nInformación básica del Mercado\n\n\n\n Fecha de Celebración:Los días 8 y 9 de marzo serán conferencias y el 14\,15\,16 de Marzo del 2025 la representaciones teatrales. El Mercado Medieval serán 15 y 16 de Marzo del 2025 \n\n\n\n Dónde se realiza:En la localidad de Sos del Rey Católico\, que pertenece a la provincia de ZARAGOZA. / Sos del Rey Católico es un municipio español de la comarca de las Cinco Villas\, al noroeste de la provincia de Zaragoza\, en la comunidad autónoma de Aragón. Dependen del municipio cinco asentamientos de población: Barués\, Novellaco\, Mamillas\, Campo Real y Sofuentes. \n\n\n\n Ubicación del Evento:Estará ubicado en el centro histórico del municipio. \n\n\n\n¿Qué ofrece el mercado?\n\n\n\n\nAmbientación medieval completa: Las calles estarán decoradas y animadas con elementos de la época.\n\n\n\nGran afluencia de visitantes: Es uno de los eventos más esperados después de las fiestas navideñas.\n\n\n\nEspacios adaptados para cada participante: Áreas diseñadas para optimizar la exhibición y venta.\n\n\n\n\n¿Quién puede participar?\n\n\n\nSe abre la convocatoria a: \n\n\n\n\nArtesanos: Exhibe y vende tus productos hechos a mano\, desde joyería y cerámica hasta artículos de cuero y madera.\n\n\n\nComerciantes de productos temáticos: Regalos\, ropa y accesorios inspirados en la época medieval.\n\n\n\nGastronomía tradicional: puestos con comida y bebida que reflejen los sabores de antaño.\n\n\n\nEspectáculos y talleres: Artistas\, músicos y animadores que deseen realizar exhibiciones o actividades relacionadas con la temática medieval.\n\n\n\n\n¿Cómo inscribirte?\n\n\n\nPresenta tu solicitud con la siguiente información: \n\n\n\n\nDescripción de tus productos o servicios.\n\n\n\nFotografías o ejemplos de tu trabajo.\n\n\n\nRequisitos específicos (espacio\, electricidad\, etc.).\n\n\n\n\nEmpresa organizadora : Ayuntamiento del Sos del Rey Católico\n\n\n\n\nAyuntamiento Teléfonos  · 948 888 065 · 948 888 464\n\n\n\nOficina de Turismo : 948 888 524\n\n\n\n\nEn resumen:\n\n\n\n\nEl mercado medieval es parte de las Jornadas Medievales de Sos del Rey Católico.\n\n\n\nSe celebra durante uno de los fines de semana de las jornadas.\n\n\n\nEs una recreación de un mercado medieval con puestos de artesanos\, espectáculos y ambientación de época.\n\n\n\n\n\n\n\n\n\n\n\n\nMás Ferias y Mercados en la Provincia\n\n\n\nExplora otros eventos en tu zona visitando nuestra sección de Eventos de LA PROVINCIA DE ZARAGOZA\, donde encontrarás información actualizada sobre ferias\, mercados y actividades para todas las edades. \n\n\n\n\n\n\n\nMás Mercados Temáticos y Ferias\n\n\n\n¿Quieres saber cuándo y dónde se realizarán más ferias y mercados?Visita nuestro Calendario de Eventos para obtener detalles de: \n\n\n\n\nCalendario 2025: Planifica con anticipación y no te pierdas ninguna cita.\n\n\n\n\n\n\n\n\nSobre los Mercados Medievales\n\n\n\nLas ferias medievales son auténticos viajes en el tiempo. Estos eventos recrean la atmósfera de la Edad Media. Leer más… \n\n\n\n\n\n\n\n\nMERCADOS MEDIEVALES Y TEMATICOS \n\n\n\nInformación de los próximos mercados medievales\, temáticos\, de artesanía a nivel nacional además de ofrecer información sobre servicios de alquiler de casetas\, venta de paradas\, cooperativas\, decoración y más. \n\n\n\nwww.mercados medievales.net \n\n\n\n\n\n\n\n\nEvento :\n\n\n\n\n\nOrganiza :\n\n\n\n\n\nLugar de Celebración\n\n\n\nEn el centro histórico de Sos del Rey Católico\, que es un municipio español de la comarca de las Cinco Villas\, al noroeste de la provincia de Zaragoza\, en la comunidad autónoma de Aragón. Dependen del municipio cinco asentamientos de población: Barués\, Novellaco\, Mamillas\, Campo Real y Sofuentes.
URL:https://demercadosmedievales.info/mercadomedieval/mercado-medieval-del-sos-del-rey-catolico/
LOCATION:Sos del Rey Católico (Zaragoza) (***)\, Sos del Rey Catolico\, Zaragoza\, España
CATEGORIES:Cartel,Mercado Medieval,Programación,Zaragoza
ATTACH;FMTTYPE=image/jpeg:https://demercadosmedievales.info/wp-content/uploads/2024/12/EL_NACIMIENTO_DE_UN_REY-_PROGRAMA_2025-CARTEL.jpg
GEO:42.4939837;-1.2162051
END:VEVENT
BEGIN:VEVENT
DTSTART;VALUE=DATE:20240301
DTEND;VALUE=DATE:20240304
DTSTAMP:20260420T110453
CREATED:20240225T181528Z
LAST-MODIFIED:20240306T063227Z
UID:10000989-1709251200-1709510399@demercadosmedievales.info
SUMMARY:Jornadas medievales El Nacimiento de un Rey de Sos del Rey Catolico 2024
DESCRIPTION:La localidad cincovillesa de Sos del Rey Católico celebra ‘El nacimiento de un Rey‘\, sus jornadas medievales en torno al nacimiento de Fernando el Católico\, el sosense más famoso de la historia. ‘El nacimiento de un Rey 2024‘ tendrá lugar del 1 al 10 de marzo. \n \nJornadas medievales El Nacimiento de un Rey de Sos del Rey Catolico 2024\nCon ‘El nacimiento de un Rey‘ Sos del Rey Católico\, considerado como uno de los pueblos más bonitos de Aragón\, revive un histórico acontecimiento\, el nacimiento del rey Fernando II de Aragón\, conocido como Fernando el Católico. \nLa programación de ‘El nacimiento de un Rey 2024‘ incluye conferencias\, recreaciones históricas y un mercado medieval. \nLas jornadas medievales de Sos del Rey Católico se reparten en dos fines de semana\, del 1 al 3 de marzo y del 8 al 10 de marzo.  \nLos días 1\, 2 y 3 de marzo tendrán lugar diversas conferencias y espectáculos musicales. \nPor su parte\, del 8 al 10 de marzo se instalará un mercado medieval ambientado con danzas de la época\, recreaciones y teatralizaciones en conmemoración del nacimiento de Fernando el Católico\, que tuvo lugar el 10 de marzo de 1452. \nNo faltarán tampoco comidas populares y otros eventos gastronómicos\, como la elaboración de tapas especiales por los establecimientos hosteleros de Sos. \nUno de los actos principales de las jornadas medievales de Sos del Rey Católico es la representación teatralizada por las calles de la villa de la llegada del séquito real\, con la reina Juana Enríquez a punto de dar a luz\, es uno de los actos que se repiten año a año\, en el que participa el pueblo\, vistiéndose para la ocasión\, como los vecinos de Sos del siglo XV. Este acto tiene lugar la tarde del sábado 9 de marzo. \nProgramación Jornadas Medievales\nEl nacimiento de un Rey 2024 en Sos del Rey Católico\n \n \n Acerca de Sos del Rey Católico\nSos del Rey Católico es un municipio español de la comarca de las Cinco Villas\, al noroeste de la provincia de Zaragoza\, en la comunidad autónoma de Aragón. Dependen del municipio cinco asentamientos de población: Barués\, Novellaco\, Mamillas\, Campo Real y Sofuentes. \n\nCalendario de Mercado Medieval y Ferias 2024 :\n\n\nEnero\nFebrero\nMarzo\nAbril\nMayo\nJunio\nJulio\nAgosto\nSeptiembre\nOctubre\nNoviembre\nDiciembre\n\n Las Ferias y mercados medievales\n\n\nLas ferias medievales son eventos que recrean la atmósfera de la Edad Media. Por lo general\, se llevan a cabo en pueblos o ciudades\, y presentan puestos de vendedores que venden artesanías\, alimentos y bebidas. También puede haber entretenimiento\, como justas\, música y baile. . \nLos Mercados  Medievales son una forma popular de aprender sobre la historia de la Edad Media y experimentar la cultura de la época. También son una actividad divertida para toda la familia.
URL:https://demercadosmedievales.info/mercadomedieval/jornadas-medievales-el-nacimiento-de-un-rey-de-sos-del-rey-catolico-2024/
LOCATION:Sos del Rey Católico (Zaragoza) (***)\, Sos del Rey Catolico\, Zaragoza\, España
CATEGORIES:Mercado Medieval,Zaragoza
ATTACH;FMTTYPE=image/jpeg:https://demercadosmedievales.info/wp-content/uploads/2024/02/jornadas_medievales_sos_del_rey_catolico_2024-portada.jpg
GEO:42.4939837;-1.2162051
END:VEVENT
BEGIN:VEVENT
DTSTART;VALUE=DATE:20240301
DTEND;VALUE=DATE:20240303
DTSTAMP:20260420T110453
CREATED:20240422T045045Z
LAST-MODIFIED:20240422T045053Z
UID:10000990-1709251200-1709423999@demercadosmedievales.info
SUMMARY:Jornadas medievales El Nacimiento de un Rey de Sos del Rey Catolico 2024
DESCRIPTION:La localidad cincovillesa de Sos del Rey Católico celebra ‘El nacimiento de un Rey‘\, sus jornadas medievales en torno al nacimiento de Fernando el Católico\, el sosense más famoso de la historia. ‘El nacimiento de un Rey 2024‘ tendrá lugar del 1 al 10 de marzo. \n \nJornadas medievales El Nacimiento de un Rey de Sos del Rey Catolico 2024\nCon ‘El nacimiento de un Rey‘ Sos del Rey Católico\, considerado como uno de los pueblos más bonitos de Aragón\, revive un histórico acontecimiento\, el nacimiento del rey Fernando II de Aragón\, conocido como Fernando el Católico. \nLa programación de ‘El nacimiento de un Rey 2024‘ incluye conferencias\, recreaciones históricas y un mercado medieval. \nLas jornadas medievales de Sos del Rey Católico se reparten en dos fines de semana\, del 1 al 3 de marzo y del 8 al 10 de marzo.  \nLos días 1\, 2 y 3 de marzo tendrán lugar diversas conferencias y espectáculos musicales. \nPor su parte\, del 8 al 10 de marzo se instalará un mercado medieval ambientado con danzas de la época\, recreaciones y teatralizaciones en conmemoración del nacimiento de Fernando el Católico\, que tuvo lugar el 10 de marzo de 1452. \nNo faltarán tampoco comidas populares y otros eventos gastronómicos\, como la elaboración de tapas especiales por los establecimientos hosteleros de Sos. \nUno de los actos principales de las jornadas medievales de Sos del Rey Católico es la representación teatralizada por las calles de la villa de la llegada del séquito real\, con la reina Juana Enríquez a punto de dar a luz\, es uno de los actos que se repiten año a año\, en el que participa el pueblo\, vistiéndose para la ocasión\, como los vecinos de Sos del siglo XV. Este acto tiene lugar la tarde del sábado 9 de marzo. \nProgramación Jornadas Medievales\nEl nacimiento de un Rey 2024 en Sos del Rey Católico\n \n \n Acerca de Sos del Rey Católico\nSos del Rey Católico es un municipio español de la comarca de las Cinco Villas\, al noroeste de la provincia de Zaragoza\, en la comunidad autónoma de Aragón. Dependen del municipio cinco asentamientos de población: Barués\, Novellaco\, Mamillas\, Campo Real y Sofuentes. \n\nCalendario de Mercado Medieval y Ferias 2024 :\n\n\nEnero\nFebrero\nMarzo\nAbril\nMayo\nJunio\nJulio\nAgosto\nSeptiembre\nOctubre\nNoviembre\nDiciembre\n\n Las Ferias y mercados medievales\n\n\nLas ferias medievales son eventos que recrean la atmósfera de la Edad Media. Por lo general\, se llevan a cabo en pueblos o ciudades\, y presentan puestos de vendedores que venden artesanías\, alimentos y bebidas. También puede haber entretenimiento\, como justas\, música y baile. . \nLos Mercados  Medievales son una forma popular de aprender sobre la historia de la Edad Media y experimentar la cultura de la época. También son una actividad divertida para toda la familia.
URL:https://demercadosmedievales.info/mercadomedieval/jornadas-medievales-el-nacimiento-de-un-rey-de-sos-del-rey-catolico-2024-2/
LOCATION:Sos del Rey Católico (Zaragoza) (***)\, Sos del Rey Catolico\, Zaragoza\, España
CATEGORIES:Mercado Medieval,Zaragoza
ATTACH;FMTTYPE=image/jpeg:https://demercadosmedievales.info/wp-content/uploads/2024/02/jornadas_medievales_sos_del_rey_catolico_2024-portada.jpg
GEO:42.4939837;-1.2162051
END:VEVENT
END:VCALENDAR