BEGIN:VCALENDAR
VERSION:2.0
PRODID:-//Mercados Medievales - ECPv6.15.20//NONSGML v1.0//EN
CALSCALE:GREGORIAN
METHOD:PUBLISH
X-ORIGINAL-URL:https://demercadosmedievales.info
X-WR-CALDESC:Eventos para Mercados Medievales
REFRESH-INTERVAL;VALUE=DURATION:PT1H
X-Robots-Tag:noindex
X-PUBLISHED-TTL:PT1H
BEGIN:VTIMEZONE
TZID:Europe/Madrid
BEGIN:DAYLIGHT
TZOFFSETFROM:+0100
TZOFFSETTO:+0200
TZNAME:CEST
DTSTART:20250330T010000
END:DAYLIGHT
BEGIN:STANDARD
TZOFFSETFROM:+0200
TZOFFSETTO:+0100
TZNAME:CET
DTSTART:20251026T010000
END:STANDARD
BEGIN:DAYLIGHT
TZOFFSETFROM:+0100
TZOFFSETTO:+0200
TZNAME:CEST
DTSTART:20260329T010000
END:DAYLIGHT
BEGIN:STANDARD
TZOFFSETFROM:+0200
TZOFFSETTO:+0100
TZNAME:CET
DTSTART:20261025T010000
END:STANDARD
BEGIN:DAYLIGHT
TZOFFSETFROM:+0100
TZOFFSETTO:+0200
TZNAME:CEST
DTSTART:20270328T010000
END:DAYLIGHT
BEGIN:STANDARD
TZOFFSETFROM:+0200
TZOFFSETTO:+0100
TZNAME:CET
DTSTART:20271031T010000
END:STANDARD
END:VTIMEZONE
BEGIN:VEVENT
DTSTART;TZID=Europe/Madrid:20260717T000000
DTEND;TZID=Europe/Madrid:20260719T235959
DTSTAMP:20260420T062113
CREATED:20260105T125018Z
LAST-MODIFIED:20260226T192931Z
UID:10003103-1784246400-1784505599@demercadosmedievales.info
SUMMARY:Nuevo - XXIV edición del Mercado Medieval Encuentro de Juglares en Sahagún\, León 2026
DESCRIPTION:La villa de Sahagún celebrará los próximos 17\, 18 y 19 de julio la 24ª edición de «Juglares»\, su reconocida fiesta medieval que convierte cada verano sus calles en un escenario vivo del medievo.  \n\n\n\n\n\n\n\n \n\n\n\nÍndice Mercado Medieval Encuentro de JuglaresInformación básica del Mercado Medieval Encuentro de Juglares“Sahagún se llena de música\, historia y juglares”Mercados Medievales 2026: Fechas y Localidades ConfirmadasPara más información puedes consultar :¿Te apuntas? Síguenos y no te pierdas de nada.En Resumen\n\n\n\n \n\n\n\n \n\n\n\nMercado Medieval Encuentro de Juglares\n\n\n\nUn evento único que no solo rinde homenaje a su glorioso pasado\, sino que revive la esencia de la primera Escuela de Juglares de España\, fundada en Sahagún en 1116 por concesión de la reina Urraca I de León. \n\n\n\nEste mercado siempre ha contado con actividades de animación\, personajes\, zancudos\, fuego\, espectáculos circenses\, compañías de música y danzas\, cuentacuentos infantiles\, exposiciones temáticas\, exhibiciones de cetrería\, talleres de oficios\, y numerosos atractivos para sus participantes y visitantes. \n\n\n\n \n\n\n\nInformación básica del Mercado Medieval Encuentro de Juglares\n\n\n\nEvento: Mercado Medieval «Encuentro de Juglares»Fechas: Del 17 al 19 de julio de 2026Horario: Por confirmar \n\n\n\nUbicación: Entorno del Antiguo Monasterio de San Benito.Localidad y provincia: Sahagún (LEON)Periodicidad: AnualProductos permitidos: Artesanía\, alimentación\, gastronomíaServicios incluidos: Animación\, seguridad\, luz\, publicidadOrganiza:   BALCONET Contacto : balconetmedieval@gmail.com \n\n\n\n \n\n\n\n“Sahagún se llena de música\, historia y juglares”\n\n\n\nSahagún es una localidad situada en la provincia de León\, reconocida por su destacado patrimonio histórico y artístico\, especialmente por su vinculación al románico-mudéjar y al Camino de Santiago. Su pasado medieval\, unido a su relevancia cultural\, convierte a Sahagún en un escenario privilegiado para la celebración del Encuentro de Juglares\, reforzando su identidad como destino histórico y cultural. \n\n\n\n\n\n\n\n\n\nMercados Medievales 2026: Fechas y Localidades Confirmadas\n\n\n\nEspaña cuenta con una de las agendas de ferias temáticas más ricas del mundo\, combinando gastronomía tradicional\, artesanía de autor y espectáculos en vivo. Si buscas un plan diferente para el fin de semana o quieres conocer el patrimonio de una forma única\, esta es tu guía definitiva. Leer más \n\n\n\nPara más información puedes consultar :\n\n\n\n\nPuedes Consultar en esté enlace las  Ferias y Mercados en España\n\n\n\nHaz clic en ESTE enlace :  Conoce los Organizadores de Mercados y Ferias\n\n\n\n\n¿Te apuntas? Síguenos y no te pierdas de nada.\n\n\n\n\nTelegram\n\n\n\nNewsletter\n\n\n\nWhatsApp\n\n\n\nInstagram\n\n\n\nPor supuesto en Facebook\n\n\n\n\nEn Resumen
URL:https://demercadosmedievales.info/mercadomedieval/nuevo-xxiv-edicion-del-mercado-medieval-encuentro-de-juglares-en-sahagun-leon-2026/
LOCATION:Sahagún (León) (***)\, Sahagún\, León\, 24320
CATEGORIES:Castilla y Leon,León,Mercado Medieval
ATTACH;FMTTYPE=image/jpeg:https://demercadosmedievales.info/wp-content/uploads/2026/01/medieval_sahagun_2026_fb.jpg
GEO:42.3709599;-5.0299493
END:VEVENT
END:VCALENDAR