BEGIN:VCALENDAR
VERSION:2.0
PRODID:-//Mercados Medievales - ECPv6.15.20//NONSGML v1.0//EN
CALSCALE:GREGORIAN
METHOD:PUBLISH
X-ORIGINAL-URL:https://demercadosmedievales.info
X-WR-CALDESC:Eventos para Mercados Medievales
REFRESH-INTERVAL;VALUE=DURATION:PT1H
X-Robots-Tag:noindex
X-PUBLISHED-TTL:PT1H
BEGIN:VTIMEZONE
TZID:Europe/Madrid
BEGIN:DAYLIGHT
TZOFFSETFROM:+0100
TZOFFSETTO:+0200
TZNAME:CEST
DTSTART:20250330T010000
END:DAYLIGHT
BEGIN:STANDARD
TZOFFSETFROM:+0200
TZOFFSETTO:+0100
TZNAME:CET
DTSTART:20251026T010000
END:STANDARD
BEGIN:DAYLIGHT
TZOFFSETFROM:+0100
TZOFFSETTO:+0200
TZNAME:CEST
DTSTART:20260329T010000
END:DAYLIGHT
BEGIN:STANDARD
TZOFFSETFROM:+0200
TZOFFSETTO:+0100
TZNAME:CET
DTSTART:20261025T010000
END:STANDARD
BEGIN:DAYLIGHT
TZOFFSETFROM:+0100
TZOFFSETTO:+0200
TZNAME:CEST
DTSTART:20270328T010000
END:DAYLIGHT
BEGIN:STANDARD
TZOFFSETFROM:+0200
TZOFFSETTO:+0100
TZNAME:CET
DTSTART:20271031T010000
END:STANDARD
END:VTIMEZONE
BEGIN:VEVENT
DTSTART;TZID=Europe/Madrid:20260419T080000
DTEND;TZID=Europe/Madrid:20260419T170000
DTSTAMP:20260419T165553
CREATED:20260419T103301Z
LAST-MODIFIED:20260419T111008Z
UID:10003430-1776585600-1776618000@demercadosmedievales.info
SUMMARY:Mercado Medieval de Navalafuente 2026\, Madrid | Fechas\, puestos y actividades
DESCRIPTION:Participa en  el Mercado Medieval de Navalafuente (Madrid) del 12 al 14 de junio de 2026. Artesanía\, música en directo\, pulpería y ambiente medieval en la Plaza Mayor. \n\n\n\n\n\n\n\n \n\n\n\nContenido Mercado Medieval de Navalafuente 2026Información para artesanosRequisitos de participaciónCartel y actividadesComo llegar al Mercado Medieval de Navalafuente Mercados Medievales 2026\n\n\n\n \n\n\n\n\n\n\n\n¿Eres artesano o amante de las ferias temáticas? > Descubre el mayor calendario de mercados medievales 2026. Síguenos en nuestro Instagram oficial o conecta con nosotros vía WhatsApp para recibir novedades sobre plazos de inscripción y fechas de eventos. No olvides suscribirte a nuestra Newsletter para no perderte ninguna publicación. \n\n\n\n\n\n\n\n \n\n\n\nMercado Medieval de Navalafuente 2026\n\n\n\nEl Mercado Medieval de Navalafuente regresa para llenar la Plaza Mayor de historia\, tradición y ambiente festivo. Durante todo el fin de semana\, vecinos y visitantes podrán disfrutar de un entorno inspirado en la época medieval. \n\n\n\n \n\n\n\nInformación para artesanos\n\n\n\n\nEvento: Mercado Medieval de Navalafuente\n\n\n\nFecha: 12 al 14 de Junio del  2026\n\n\n\nHorario : inauguración el viernes por la tarde clausura el domingo al mediodía.\n\n\n\n🎪 Duración: 2 dias y medio\n\n\n\n🎭 Temática: Medieval\n\n\n\nLugar: Plaza Mayor\n\n\n\nLocalidad:  Navalafuente\,  Madrid\n\n\n\nActividades: Mercado artesanal\, Contará con pulpería actividades actuación musical del grupo Upsala\n\n\n\nNumero de paradas : Entre 15 a 20 puestos\n\n\n\nProductos a exponer : artesanía y complementos relacionados\, alimentación\, diferentes productos.\n\n\n\nOrganiza: Eventos El Castillo\n\nTeléfono 627821390\n\n\n\n\n\n\n Servicios incluidos para los paradistas \n\n\n\n\nSeguridad nocturna disuasoria\n\n\n\nAtracciones y ambientación del mercado\n\n\n\n\n \n\n\n\nRequisitos de participación\n\n\n\n\nDecoración y vestuario medieval obligatorio\n\n\n\nParadas de madera o carpas ambientadas\n\n\n\nDocumentación en regla\n\n\n\n\n \n\n\n\nCartel  y actividades\n\n\n\nCartel promocional  \n\n\n\n\n\n\n\n \n\n\n\nActividades \n\n\n\nEl evento incluirá una programación pensada para todos los públicos: \n\n\n\n\nMercado artesanal\n\n\n\nPulpería\n\n\n\nActividades infantiles\n\n\n\nActuación musical en directo del grupo Upsala Medieval\n\n\n\n\n \n\n\n\nComo llegar al Mercado Medieval de Navalafuente \n\n\n\nNavalafuente es un municipio y localidad española de la Comunidad de Madrid. Se encuentra al norte de Madrid y es fácilmente accesible: \n\n\n\n\nEn coche: Por la A-1 (Autovía del Norte)\, tomando la salida hacia Venturada/Valdemanco y siguiendo las indicaciones hasta Navalafuente.\n\n\n\nEn transporte público: Líneas de autobús interurbano desde Madrid con conexión a la localidad.\n\n\n\n\nLa actividad se celebra en la Plaza Mayor\, punto céntrico y bien señalizado dentro del municipio. \n\n\n\n\n\n \n\n\n\n \n\n\n\n🗓 Eventos similares y cercanos \n\n\n\nAdemás de este evento\, la provincia acoge otras ferias de artesanía y mercados temáticos. A continuación\, destacamos tres opciones adicionales donde también puedes solicitar tu participación: \n\n\n\nFeria de artesanía y alimentación en Torrelodones 2026 (Madrid) 🎪  Feria gastronómica y artesanal Tierra\, mar y aire16 abril - 19 abrilMercado Medieval de Paracuellos de Jarama 2026 (Madrid) / Mercado de la orden de Santiago17 abril - 19 abrilFeria de Abril de Buitrago de Lozoya\, Madrid 202617 abril - 19 abril \n\n\n\n \n\n\n\nMercados Medievales 2026\n\n\n\nMercados Medievales 2026\n\n\n\n\n\n\n\nEspaña cuenta con una de las agendas de ferias temáticas más ricas del mundo\, combinando gastronomía tradicional\, artesanía de autor y espectáculos en vivo. Si buscas un plan diferente para el fin de semana o quieres conocer el patrimonio de una forma única\, esta es tu guía definitiva. Leer más \n\n\n\nPara más información puedes consultar :\n\n\n\n\nPuedes Consultar en esté enlace las  Ferias y Mercados en España\n\n\n\nHaz clic en ESTE enlace :  Conoce los Organizadores de Mercados y Ferias\n\n\n\n\n¿Te apuntas? Síguenos y no te pierdas de nada.\n\n\n\n\nTelegram\n\n\n\nNewsletter\n\n\n\nWhatsApp\n\n\n\nInstagram\n\n\n\nPor supuesto en Facebook
URL:https://demercadosmedievales.info/mercadomedieval/mercado-medieval-de-navalafuente/
LOCATION:Navalafuente (Madrid)\, Navalafuente\, Comunidad de Madrid\, España
CATEGORIES:Cartel,Comunidad de Madrid,Comunidades y Ciudades Autónomas,Madrid Capital,Mercado Medieval
ATTACH;FMTTYPE=image/jpeg:https://demercadosmedievales.info/wp-content/uploads/2026/04/medieval-navalafuente-2026-1200.jpg
END:VEVENT
END:VCALENDAR