BEGIN:VCALENDAR
VERSION:2.0
PRODID:-//Mercados Medievales - ECPv6.15.20//NONSGML v1.0//EN
CALSCALE:GREGORIAN
METHOD:PUBLISH
X-WR-CALNAME:Mercados Medievales
X-ORIGINAL-URL:https://demercadosmedievales.info
X-WR-CALDESC:Eventos para Mercados Medievales
REFRESH-INTERVAL;VALUE=DURATION:PT1H
X-Robots-Tag:noindex
X-PUBLISHED-TTL:PT1H
BEGIN:VTIMEZONE
TZID:Europe/Madrid
BEGIN:DAYLIGHT
TZOFFSETFROM:+0100
TZOFFSETTO:+0200
TZNAME:CEST
DTSTART:20230326T010000
END:DAYLIGHT
BEGIN:STANDARD
TZOFFSETFROM:+0200
TZOFFSETTO:+0100
TZNAME:CET
DTSTART:20231029T010000
END:STANDARD
BEGIN:DAYLIGHT
TZOFFSETFROM:+0100
TZOFFSETTO:+0200
TZNAME:CEST
DTSTART:20240331T010000
END:DAYLIGHT
BEGIN:STANDARD
TZOFFSETFROM:+0200
TZOFFSETTO:+0100
TZNAME:CET
DTSTART:20241027T010000
END:STANDARD
BEGIN:DAYLIGHT
TZOFFSETFROM:+0100
TZOFFSETTO:+0200
TZNAME:CEST
DTSTART:20250330T010000
END:DAYLIGHT
BEGIN:STANDARD
TZOFFSETFROM:+0200
TZOFFSETTO:+0100
TZNAME:CET
DTSTART:20251026T010000
END:STANDARD
BEGIN:DAYLIGHT
TZOFFSETFROM:+0100
TZOFFSETTO:+0200
TZNAME:CEST
DTSTART:20260329T010000
END:DAYLIGHT
BEGIN:STANDARD
TZOFFSETFROM:+0200
TZOFFSETTO:+0100
TZNAME:CET
DTSTART:20261025T010000
END:STANDARD
BEGIN:DAYLIGHT
TZOFFSETFROM:+0100
TZOFFSETTO:+0200
TZNAME:CEST
DTSTART:20270328T010000
END:DAYLIGHT
BEGIN:STANDARD
TZOFFSETFROM:+0200
TZOFFSETTO:+0100
TZNAME:CET
DTSTART:20271031T010000
END:STANDARD
END:VTIMEZONE
BEGIN:VEVENT
DTSTART;TZID=Europe/Madrid:20260305T000000
DTEND;TZID=Europe/Madrid:20260308T235959
DTSTAMP:20260420T110451
CREATED:20260306T202032Z
LAST-MODIFIED:20260306T202034Z
UID:10003187-1772668800-1773014399@demercadosmedievales.info
SUMMARY:XXIV Feria Astur-Galaica en Mieres 2026 /Asturias
DESCRIPTION:XXIV  edición de la Feria Astur-Galaica en Mieres del Camino del 5 al 8 de marzo de 2026 con tradición\, puestos y ambiente cultural en Asturias. \n\n\n\n\n\n\n\n \n\n\n\n \n\n\n\nXXIV Feria Astur-Galaica en Mieres del Camino\n\n\n\nDel 5 al 8 de marzo de 2026\, Mieres del Camino (Asturias) acoge una nueva edición de la Feria Astur-Galaica\, una cita ya consolidada que combina tradición\, ambiente celta y encuentro cultural en pleno corazón de la villa. \n\n\n\n \n\n\n\nÍndiceXXIV Feria Astur-Galaica en Mieres del CaminoFeria Astur-Galaica en Mieres: donde la tradición cobra vidaArtesanos y Mercaderes \, Información básicaCartel Feria Astur-Galaica en MieresSobre Mieres del Camino\, punto de encuentro y tradiciónMercados Medievales 2026: Fechas y Localidades ConfirmadasPara más información puedes consultar :¿Te apuntas? Síguenos y no te pierdas de nada.En Resumen…\n\n\n\n \n\n\n\nFeria Astur-Galaica en Mieres: donde la tradición cobra vida\n\n\n\nLa XXIV Feria Asturgalaica regresa a Mieres del Camino para llenar el Parque Jovellanos de historia\, cultura y ambiente festivo durante cuatro intensos días. Este evento\, ya todo un referente en Asturias\, reúne a artesanos\, mercaderes y público en un espacio abierto y muy accesible. \n\n\n\nEl mercado contará con punto de luz para los puestos y servicio de seguridad\, garantizando así comodidad y tranquilidad tanto para participantes como para visitantes. Asturgalaica es una feria pensada para disfrutar con calma\, pasear\, descubrir productos únicos y dejarse llevar por una atmósfera cargada de tradición. \n\n\n\nLa organización invita a artesanos y participantes interesados a ponerse en contacto directamente para ampliar información y resolver cualquier duda sobre la feria. \n\n\n\n \n\n\n\nArtesanos y Mercaderes \, Información básica\n\n\n\n\nEvento : Feria Astur-Galaica\n\n\n\nEdición : XXIV \n\n\n\nLocalidad y Provincia : Mieres del camino\,  ASTURIAS \n\n\n\nUbicación : Parque Jovellanos \n\n\n\nFechas : 5\,6\,7\,8 de marzo 2026\n\n\n\nContara con : Punto de luz y seguridad \n\n\n\nOrganiza : Belen Fernandez Novo\n\nContacto:  675630797 / 629422982 Archy\n\n\n\n\n\n\n \n\n\n\nCartel Feria Astur-Galaica en Mieres\n\n\n\n\n\n\n\n \n\n\n\nSobre Mieres del Camino\, punto de encuentro y tradición\n\n\n\nMieres del Camino\, en el centro de Asturias\, es una localidad con gran tradición cultural y excelente comunicación. Se puede llegar fácilmente por carretera desde Oviedo y Gijón a través de la A-66\, así como en tren gracias a sus buenas conexiones ferroviarias. \n\n\n\n\n\nFeria Astur-Galaica en Mieres\n\n\n\n \n\n\n\nMercados Medievales 2026: Fechas y Localidades Confirmadas\n\n\n\n\n\n\n\nEspaña cuenta con una de las agendas de ferias temáticas más ricas del mundo\, combinando gastronomía tradicional\, artesanía de autor y espectáculos en vivo. Si buscas un plan diferente para el fin de semana o quieres conocer el patrimonio de una forma única\, esta es tu guía definitiva. Leer más \n\n\n\nPara más información puedes consultar :\n\n\n\n\nPuedes Consultar en esté enlace las  Ferias y Mercados en España\n\n\n\nHaz clic en ESTE enlace :  Conoce los Organizadores de Mercados y Ferias\n\n\n\n\n¿Te apuntas? Síguenos y no te pierdas de nada.\n\n\n\n\nTelegram\n\n\n\nNewsletter\n\n\n\nWhatsApp\n\n\n\nInstagram\n\n\n\nPor supuesto en Facebook\n\n\n\n\nEn Resumen…\n\n\n\n🌿🔥 XXIV Feria Astur-Galaica – Mieres 2026 🔥🌿 \n\n\n\n📅 5\, 6\, 7 y 8 de marzo📍 Parque Jovellanos – Mieres del Camino (Asturias) \n\n\n\nTradición\, cultura y ambiente único en una feria ya imprescindible.🔌 Punto de luz | 🛡️ Seguridad
URL:https://demercadosmedievales.info/mercadomedieval/xxiv-feria-astur-galaica-en-mieres-2026-asturias/
LOCATION:Mieres del Camino (Asturias) *\, Mieres\, Asturias\, España
CATEGORIES:Multisectorial,Principado de Asturias
ATTACH;FMTTYPE=image/jpeg:https://demercadosmedievales.info/wp-content/uploads/2026/01/feria_atsur_galaica_fb.jpg
ORGANIZER;CN="Belen Fernandez Novo":MAILTO:danafn@hotmail.es
END:VEVENT
BEGIN:VEVENT
DTSTART;TZID=Europe/Madrid:20250313T000000
DTEND;TZID=Europe/Madrid:20250316T235959
DTSTAMP:20260420T110451
CREATED:20250203T122357Z
LAST-MODIFIED:20250203T124620Z
UID:10002172-1741824000-1742169599@demercadosmedievales.info
SUMMARY:03/2025 Feria XXIII Astur-Galaica de Mieres (Asturias)
DESCRIPTION:La convocatoria para la XXIII Feria Astur-Galaica de Mieres\, programada del 13 al 16 de marzo de 2025 en el Parque Jovellanos. \n\n\n\n\n\n\n\n\n\n\n\nMercado de artesanía y alimentación\n\n\n\nInformación del evento\n\n\n\n\nFecha:  13 al 16 de Marzo de  2025 \n\n\n\nPlazo de inscripción : \n\n\n\nLugar: Parque Jovellanos.\n\n\n\nPoblación: Mieres ( ASTURIAS ) Mieres es la parroquia de mayor población del concejo de Mieres\, Principado de Asturias\, España. En el año 2022 tenía una población de 21 782 habitantes\, ​ en una extensión de 2\,32 km².​La parroquia solo comprende la villa de Mieres o Mieres del Camino\, ​ capital del concejo.\n\n\n\nOferta a exponer:    Alimentación\, Gastronomía\, Artesanía y complementos.\n\n\n\nServicios que proporcionara el organizador: Agua\, Luz y Vigilancia Nocturna\n\n\n\nEntidad organizadora: Belén Fernández Novo\n\n\n\n\n \n\n\n\nInscripcionesEl plazo para inscribirse como expositor en el mercado estará abierto hasta completar el cupo. \n\n\n\nInformación del organizador :\n\n\n\nLa organización y decoración de este evento están a cargo de  Belén Fernández Novo. Para más detalles sobre el proceso de inscripción\, tarifas y requisitos específicos\, contacta a través de: \n\n\n\n\nCorreo electrónico : danafn@hotmail.es\n\n\n\nTeléfono / WhatsApp : 675630797\n\n\n\nPersonas de contacto :  Belén Fernández Novo\n\n\n\nDescubre las próximas ferias y mercados en su agenda:  https://demercadosmedievales.info/organizador/belen-fernandez-novo/\n\n\n\n\n\n\n\n\n \n\n\n\nAcerca de .. Mieres\n\n\n\nMieres es la parroquia de mayor población del concejo de Mieres\, Principado de Asturias\, España. En el año 2022 tenía una población de 21 782 habitantes\, ​ en una extensión de 2\,32 km².​La parroquia solo comprende la villa de Mieres o Mieres del Camino\, ​ capital del concejo. \n\n\n\n\n\n \n\n\n\n\n\n\n\nDe tu interés :\n\n\n\n\nEventos de LA PROVINCIA DE ASTURIAS\n\n\n\nCalendario de Mercados Medievales en Marzo\n\n\n\nFerias y Mercados en España\n\n\n\nOrganizadores de Mercados y Ferias\n\n\n\n\n\nVisita nuestro Calendario de Eventos para obtener detalles de: Calendario 2025: Planifica con anticipación y no te pierdas ninguna cita.\n\n\n\n\n\nLas ferias medievales son auténticos viajes en el tiempo. Estos eventos recrean la atmósfera de la Edad Media. Leer más…\n\n\n\n\n\n\n\n\n \n\n\n\nSiguenos….\n\n\n\n\nTelegram: Recibe nuestras noticias y contenido exclusivo (clic aquí).\n\n\n\nNewsletter: Recibe un correos con nuestras últimas noticias (clic aquí).\n\n\n\nWhatsApp: Suscríbete para ver nuestros mejores vídeos (clic aquí).\n\n\n\nInstagram:  Síguenos en Instagram ( clic aquí )\n\n\n\n\n \n\n\n\n\n\n\n\n\n\n\n\nMercadosmedievales.net \n\n\n\nLas ferias medievales son auténticos viajes en el tiempo. Estos eventos recrean la atmósfera de la Edad Media….  \n\n\n\n\n\n\n\n\n\n\nBuscar \n\n\nSearch\n					\n				\n\n\n\n\n\nSocial \n\n\n\n\nFacebook \n\n\n\nInstagram \n\n\n\nTwitter
URL:https://demercadosmedievales.info/mercadomedieval/03-2025-feria-xxiii-astur-galaica-de-mieres-asturias/
LOCATION:Mieres del Camino (Asturias) *\, Mieres\, Asturias\, España
CATEGORIES:Principado de Asturias
ATTACH;FMTTYPE=image/jpeg:https://demercadosmedievales.info/wp-content/uploads/2025/02/feria-astur-galaica-mieres.jpg
ORGANIZER;CN="Belen Fernandez Novo":MAILTO:danafn@hotmail.es
END:VEVENT
BEGIN:VEVENT
DTSTART;VALUE=DATE:20240307
DTEND;VALUE=DATE:20240311
DTSTAMP:20260420T110451
CREATED:20240216T060933Z
LAST-MODIFIED:20240216T060933Z
UID:10000911-1709769600-1710115199@demercadosmedievales.info
SUMMARY:07 al 10 Marzo 2024 XXII Feria ASTUR-GALAICA en MIERES
DESCRIPTION:Mieres tiene más de 22.000 habitantes aproximadamente y este año 2024 es la XXII edición de la Feria ASTUR-GALAICA \, Feria de Artesanía y Alimentación\, con mucha concurrencia de público. Habrá banda de música\, teatro de calle\, agua\, luz y vigilancia.\n \n\n Detalles de la XXII Feria ASTUR-GALAICA\nCuando se celebra ? Los dias  07 al 10 de Marzo del  2024\nEn que localidad y provincia ? Mieres del Camino provincia de    ASTURIAS \nMieres es la parroquia de mayor población del concejo de Mieres\, Principado de Asturias\, España. En el año 2018 tenía una población de 22 685 habitantes\, en una extensión de 2\,32 km².​La parroquia sólo comprende la villa de Mieres o Mieres del Camino\, ​ capital del concejo.\nCual será la ubicación ?  Parque Jovellanos \n\n Quién lo organiza ?  Belén Fernández Novo\n Como participar ? Llamar al organizador para preguntarle como participar\ny estos son los datos de contacto : \n\ndanafn@hotmail.es\nTeléfono 675630797\n\n Acerca de Mieres del camino\nMieres es la parroquia de mayor población del concejo de Mieres\, Principado de Asturias\, España. En el año 2018 tenía una población de 22 685 habitantes\, en una extensión de 2\,32 km².​La parroquia sólo comprende la villa de Mieres o Mieres del Camino\, ​ capital del concejo. \nConstituye la quinta población asturiana tras Gijón\, Oviedo\, Avilés\, y Langreo. \nMieres tiene más de 22.000 habitantes aproximadamente y lleva 15 años realizando la Feria de Artesanía y Alimentación\, Feria astur galaica\, con mucha concurrencia de público. Habrá banda de música\, teatro de calle\, agua\, luz y vigilancia. \n  \n \n  \n\nCalendario de Mercado Medieval y Ferias 2024 :\n\n\nEnero\nFebrero\nMarzo\nAbril\nMayo\nJunio\nJulio\nAgosto\nSeptiembre\nOctubre\nNoviembre\nDiciembre\n\n Las Ferias y mercados medievales\n\n\nLas ferias medievales son eventos que recrean la atmósfera de la Edad Media. Por lo general\, se llevan a cabo en pueblos o ciudades\, y presentan puestos de vendedores que venden artesanías\, alimentos y bebidas. También puede haber entretenimiento\, como justas\, música y baile. . \nLos Mercados  Medievales son una forma popular de aprender sobre la historia de la Edad Media y experimentar la cultura de la época. También son una actividad divertida para toda la familia. \n\n[feedzy-rss feeds=»https://demercadosmedievales.info/feed/» offset=»1″ feed_title=»yes» refresh=»12_hours» lazy=»no» disable_default_style=»no» dryrun=»no» summary=»yes» ] \n\nFeria ASTUR-GALAICA\, Asturgalaica\, Astur Galaica\, Mieres\, Asturias\, España\, 2024\,
URL:https://demercadosmedievales.info/mercadomedieval/07-al-10-marzo-2024-xxii-feria-astur-galaica-en-mieres/
LOCATION:Mieres del Camino (Asturias) *\, Mieres\, Asturias\, España
CATEGORIES:Mercado de artesanía y alimentación,Principado de Asturias
ATTACH;FMTTYPE=image/jpeg:https://demercadosmedievales.info/wp-content/uploads/2024/02/feria_astur-galaica_mieres_2024.jpg
ORGANIZER;CN="Belen Fernandez Novo":MAILTO:danafn@hotmail.es
END:VEVENT
END:VCALENDAR