BEGIN:VCALENDAR
VERSION:2.0
PRODID:-//Mercados Medievales - ECPv6.15.20//NONSGML v1.0//EN
CALSCALE:GREGORIAN
METHOD:PUBLISH
X-WR-CALNAME:Mercados Medievales
X-ORIGINAL-URL:https://demercadosmedievales.info
X-WR-CALDESC:Eventos para Mercados Medievales
REFRESH-INTERVAL;VALUE=DURATION:PT1H
X-Robots-Tag:noindex
X-PUBLISHED-TTL:PT1H
BEGIN:VTIMEZONE
TZID:Europe/Madrid
BEGIN:DAYLIGHT
TZOFFSETFROM:+0100
TZOFFSETTO:+0200
TZNAME:CEST
DTSTART:20230326T010000
END:DAYLIGHT
BEGIN:STANDARD
TZOFFSETFROM:+0200
TZOFFSETTO:+0100
TZNAME:CET
DTSTART:20231029T010000
END:STANDARD
BEGIN:DAYLIGHT
TZOFFSETFROM:+0100
TZOFFSETTO:+0200
TZNAME:CEST
DTSTART:20240331T010000
END:DAYLIGHT
BEGIN:STANDARD
TZOFFSETFROM:+0200
TZOFFSETTO:+0100
TZNAME:CET
DTSTART:20241027T010000
END:STANDARD
BEGIN:DAYLIGHT
TZOFFSETFROM:+0100
TZOFFSETTO:+0200
TZNAME:CEST
DTSTART:20250330T010000
END:DAYLIGHT
BEGIN:STANDARD
TZOFFSETFROM:+0200
TZOFFSETTO:+0100
TZNAME:CET
DTSTART:20251026T010000
END:STANDARD
BEGIN:DAYLIGHT
TZOFFSETFROM:+0100
TZOFFSETTO:+0200
TZNAME:CEST
DTSTART:20260329T010000
END:DAYLIGHT
BEGIN:STANDARD
TZOFFSETFROM:+0200
TZOFFSETTO:+0100
TZNAME:CET
DTSTART:20261025T010000
END:STANDARD
END:VTIMEZONE
BEGIN:VEVENT
DTSTART;TZID=Europe/Madrid:20250301T000000
DTEND;TZID=Europe/Madrid:20250302T235959
DTSTAMP:20260425T190508
CREATED:20241222T090934Z
LAST-MODIFIED:20250203T084516Z
UID:10002042-1740787200-1740959999@demercadosmedievales.info
SUMMARY:28.ª edición de la Fira de l'Aixada de Manresa 2025
DESCRIPTION:Manresa es una ciudad y municipio español\, capital de la comarca del Bages\, en la provincia de Barcelona\, comunidad autónoma de Cataluña.  \n\n\n \n\n\n\n\n\n\n\nFeria de la Azada / Fira de l’Aixada\n\n\n\n\n\n\n\nManresa acogerá el fin de semana del 1 y 2 de marzo de 2025 la 28.ª edición de la Feria de la Azada. El tradicional mercado medieval volverá a llenar las principales calles y plazas del Centro Histórico con espectáculos de danza y teatro\, paradas de artesanos\, demostraciones de oficios y otras actividades. \n\n\n\n La Feria de la Azada\, que se celebra en el marco de la Fiesta de la Luz\, nos transporta al s. XIV para redescubrir como era la ciudad en aquel momento y como los ciudadanos afrontaron la problemática de la sequía por la falta de agua. \n\n\n\nLa Fiesta de Luz se celebra cada año el día 21 de febrero y tiene la finalidad de rememorar el misterio según el cual\, ahora hace unos 680 años\, una luz proveniente de Montserrat entró a la iglesia de Carme. De este modo\, se pudo resolver el conflicto que había interrumpido la construcción de la Acequia de Manresa y el periodo de años de sequía finalizó. \n\n\n\nInformación básica del Mercado\n\n\n\n📅 Fecha de Celebración:Los días 01 y 02 de Marzo del 2025 \n\n\n\n📍 Dónde se realiza:En la localidad de Manresa que pertenece a la provincia de BARCELONA. / Manresa es una ciudad y municipio español\, capital de la comarca del Bages\, en la provincia de Barcelona\, comunidad autónoma de Cataluña.  \n\n\n\n\nMás información\n\n\n\n\n\n\n\n\nMás Ferias y Mercados en la Provincia\n\n\n\nExplora otros eventos en tu zona visitando nuestra sección de Eventos de LA PROVINCIA DE BARCELONA\, donde encontrarás información actualizada sobre ferias\, mercados y actividades para todas las edades. \n\n\n\n\n\n\n\nMás Mercados Temáticos y Ferias\n\n\n\n¿Quieres saber cuándo y dónde se realizarán más ferias y mercados?Visita nuestro Calendario de Eventos para obtener detalles de: \n\n\n\n\nCalendario 2025: Planifica con anticipación y no te pierdas ninguna cita.\n\n\n\n\n\n\n\n\nSobre los Mercados Medievales\n\n\n\nLas ferias medievales son auténticos viajes en el tiempo. Estos eventos recrean la atmósfera de la Edad Media. Leer más… \n\n\n\n\n\n\n\n\nMERCADOS MEDIEVALES Y TEMATICOS \n\n\n\nInformación de los próximos mercados medievales\, temáticos\, de artesanía a nivel nacional además de ofrecer información sobre servicios de alquiler de casetas\, venta de paradas\, cooperativas\, decoración y más. \n\n\n\nwww.mercados medievales.net \n\n\n\n\n\n\n\n\nEn Resumen…\n\n\n\n\n\nOrganiza\n\n\n\n\n\nLugar de celebración :\n\n\n\nManresa es una ciudad y municipio español\, capital de la comarca del Bages\, en la provincia de Barcelona\, comunidad autónoma de Cataluña. 
URL:https://demercadosmedievales.info/mercadomedieval/28-a-edicion-de-la-fira-de-laixada-de-manresa-2025/
LOCATION:Manresa (Barcelona) (***)\, Manresa\, Barcelona\, España
CATEGORIES:Barcelona,Feria tradicional,Mercado tradicional
ATTACH;FMTTYPE=image/jpeg:https://demercadosmedievales.info/wp-content/uploads/2024/12/fira_aixada_manresa_2025-f.jpg
GEO:41.7297841;1.8225882
END:VEVENT
BEGIN:VEVENT
DTSTART;VALUE=DATE:20240224
DTEND;VALUE=DATE:20240226
DTSTAMP:20260425T190508
CREATED:20231207T073144Z
LAST-MODIFIED:20231207T073144Z
UID:10000755-1708732800-1708905599@demercadosmedievales.info
SUMMARY:Mercat medieval de Manresa \, Fira de l'Aixada 2024
DESCRIPTION:Fira de l’Aixada\, Mercat Medieval de MANRESA\, que este año tendrá lugar los días 24 de febrero y 25 de febrero y que\, además\, cumple la vigésimo sexta edición. \n \nUna feria que quiere transportarnos al siglo XIV de nuestra ciudad para redescubrir los espacios y los personajes del momento. \nLa Fiesta de la Luz\, Festa de la Llum\,  que se celebra el 21 de febrero\, rememora el misterio según el cual\, hace unos 650 años\, una luz proveniente de Montserrat entró en la iglesia del Carmen. De esta forma se resolvía el conflicto que había interrumpido la construcción de la Acequia de Manresa. \nUna fiesta llena de valores y reconocida el año 2009 como uno de los 10 tesoros del Patrimonio Inmaterial Cultural de Cataluña y Andorra. \nMercat Medieval en Manresa\n+ Detalles\nDonde es ? \nManresa \, BARCELONA\nManresa es una ciudad y municipio español\, capital de la comarca del Bages\, en la provincia de Barcelona\, comunidad autónoma de Cataluña. Se encuentra situada en el pla de Bages\, cerca del ángulo donde confluyen los ríos Llobregat y Cardener. \nCuando ?\nLos días 24 y 25 Febrero 2024 \nQue productos pueden exponer:\nProductos artesanales diversos \nOrganiza: Ajuntament de Manresa\nTeléfono: 93 877 63 13\nC/e: cultura@ajmanresa.cat\nWeb: www.aixada.cat ; www.ajmanresa.cat \n  \nFerias y mercados medievales\nLas ferias y mercados medievales son eventos populares que recrean el ambiente y la atmósfera de la Edad Media. Estos eventos suelen tener lugar en diferentes partes del mundo y atraen a numerosos visitantes que desean sumergirse en la historia y disfrutar de una experiencia única. \n  \n\nAgenda de Mercados medievales y ferias temáticas\n\n\n¿Eres artesano y quieres participar en mercados medievales o ferias temáticas? Aquí tienes una agenda que te ayudara a prepararte.
URL:https://demercadosmedievales.info/mercadomedieval/mercat-medieval-de-manresa-fira-de-laixada-2024/
LOCATION:Manresa (Barcelona) (***)\, Manresa\, Barcelona\, España
CATEGORIES:Barcelona,Mercado Medieval
ATTACH;FMTTYPE=image/png:https://demercadosmedievales.info/wp-content/uploads/2023/12/Mercat_medieval_manresa_2024_f.png
GEO:41.7297841;1.8225882
END:VEVENT
END:VCALENDAR