BEGIN:VCALENDAR
VERSION:2.0
PRODID:-//Mercados Medievales - ECPv6.15.20//NONSGML v1.0//EN
CALSCALE:GREGORIAN
METHOD:PUBLISH
X-ORIGINAL-URL:https://demercadosmedievales.info
X-WR-CALDESC:Eventos para Mercados Medievales
REFRESH-INTERVAL;VALUE=DURATION:PT1H
X-Robots-Tag:noindex
X-PUBLISHED-TTL:PT1H
BEGIN:VTIMEZONE
TZID:Europe/Madrid
BEGIN:DAYLIGHT
TZOFFSETFROM:+0100
TZOFFSETTO:+0200
TZNAME:CEST
DTSTART:20230326T010000
END:DAYLIGHT
BEGIN:STANDARD
TZOFFSETFROM:+0200
TZOFFSETTO:+0100
TZNAME:CET
DTSTART:20231029T010000
END:STANDARD
BEGIN:DAYLIGHT
TZOFFSETFROM:+0100
TZOFFSETTO:+0200
TZNAME:CEST
DTSTART:20240331T010000
END:DAYLIGHT
BEGIN:STANDARD
TZOFFSETFROM:+0200
TZOFFSETTO:+0100
TZNAME:CET
DTSTART:20241027T010000
END:STANDARD
BEGIN:DAYLIGHT
TZOFFSETFROM:+0100
TZOFFSETTO:+0200
TZNAME:CEST
DTSTART:20250330T010000
END:DAYLIGHT
BEGIN:STANDARD
TZOFFSETFROM:+0200
TZOFFSETTO:+0100
TZNAME:CET
DTSTART:20251026T010000
END:STANDARD
BEGIN:DAYLIGHT
TZOFFSETFROM:+0100
TZOFFSETTO:+0200
TZNAME:CEST
DTSTART:20260329T010000
END:DAYLIGHT
BEGIN:STANDARD
TZOFFSETFROM:+0200
TZOFFSETTO:+0100
TZNAME:CET
DTSTART:20261025T010000
END:STANDARD
BEGIN:DAYLIGHT
TZOFFSETFROM:+0100
TZOFFSETTO:+0200
TZNAME:CEST
DTSTART:20270328T010000
END:DAYLIGHT
BEGIN:STANDARD
TZOFFSETFROM:+0200
TZOFFSETTO:+0100
TZNAME:CET
DTSTART:20271031T010000
END:STANDARD
END:VTIMEZONE
BEGIN:VEVENT
DTSTART;TZID=Europe/Madrid:20260410T000000
DTEND;TZID=Europe/Madrid:20260412T235959
DTSTAMP:20260425T192015
CREATED:20260303T184946Z
LAST-MODIFIED:20260408T173913Z
UID:10003172-1775779200-1776038399@demercadosmedievales.info
SUMMARY:Aplazado - Mercado Barroco de Huércal-Overa 2026 (Almeria) Nueva fecha
DESCRIPTION:Debido al temporal el Mercado Barroco de Huércal-Overa se ha pospuesto para los días 22 al 24 de MAYO DE 2026 por el pronostico de lluvias en la zona. \n\n\n\n\n\n\n\n \n\n\n\nContenido  Mercado Barroco de Huércal-Overa 2026Información sobre el Mercado Barroco de Huércal-OveraCartel del Mercado Barroco de Huércal-OveraProgramación del Mercado Barroco de Huércal-OveraHuércal-Overa se transforma en una ciudad del barroco por unos dias Mercados Medievales 2026: Fechas y Localidades ConfirmadasPara más información puedes consultar :¿Te apuntas? Síguenos y no te pierdas de nada.En Resumen….\n\n\n\n \n\n\n\nMercado Barroco de Huércal-Overa 2026\n\n\n\nHuércal-Overa revive el esplendor del Barroco \n\n\n\nEl Mercado Barroco de Huércal-Overa propone durante tres días un recorrido lleno de historia\, color y tradición. \n\n\n\nPuestos de artesanía\, productos gastronómicos y una cuidada ambientación barroca darán vida al municipio\, creando una experiencia cercana y muy visual para vecinos y visitantes. \n\n\n\nAdemás\, el mercado contará con un entorno animado y pensado para el paseo\, favoreciendo la participación del público y el consumo local. Por ello\, se convierte en una excelente oportunidad tanto para disfrutar del evento como para que artesanos y comerciantes den a conocer sus productos en un espacio con gran afluencia. \n\n\n\nLa organización corre a cargo de Mercados Arlekin S.L.\, que mantiene abiertas las inscripciones para expositores interesados en formar parte de esta cita barroca. \n\n\n\n \n\n\n\nInformación sobre el Mercado Barroco de Huércal-Overa\n\n\n\n\nEvento: Mercado Barroco\n\n\n\nFechas: Del 10 al 12 de Abril de Marzo de 2026 Nueva fecha 22 al 24 de MAYO DE 2026 \n\n\n\nHorario: A confirmar\n\n\n\nUbicación: Huércal-Overa  \, Almeria\n\n\n\nMontaje: A confirmar por la organización\n\n\n\nDesmontaje: A confirmar por la organización\n\n\n\nInauguración: 10 de Abril del 2026 a las 17h\n\n\n\nPeriodicidad: Anual\n\n\n\nProductos permitidos: Artesanía\, complementos\, regalos\, alimentación\n\n\n\nServicios incluidos: Organización\, promoción\, ambiente comercial\n\n\n\nOrganiza : Mercados Arlekin\n\n📲 Inscripciones por WhatsApp: 628 100 548\n\nDatos a enviar:\n\nNombre\n\n\n\nTeléfono\n\n\n\nMetros del puesto\n\n\n\nArtículo a la venta\n\n\n\nMercado interesado\n\n\n\nFoto del puesto\n\n\n\n\n\n\n\n\n\n\n \n\n\n\nCartel del Mercado Barroco de Huércal-Overa\n\n\n\nCartel del Mercado Barroco de Huércal-Overa\n\n\n\n \n\n\n\nProgramación del Mercado Barroco de Huércal-Overa \n\n\n\nDurante todo el mercado podrán disfrutar de rincón infantil\, mesas de juegos didácticos\, diferentes talleres\, atracciones\, cetrería\, artesanía\, gastronomía y más…. \n\n\n\n\n\n\n\n \n\n\n\n\n\n\n\n \n\n\n\nHuércal-Overa se transforma en una ciudad del barroco por unos dias \n\n\n\nHuércal-Overa\, situado en la comarca del Levante Almeriense\, es un municipio con gran tradición cultural y comercial. Se accede fácilmente por la A-7 y la N-340\, lo que facilita la llegada tanto desde Almería como desde Murcia y otras localidades cercanas. \n\n\n\n\n\n \n\n\n\n \n\n\n\nMercados Medievales 2026: Fechas y Localidades Confirmadas\n\n\n\n\n\n\n\nEspaña cuenta con una de las agendas de ferias temáticas más ricas del mundo\, combinando gastronomía tradicional\, artesanía de autor y espectáculos en vivo. Si buscas un plan diferente para el fin de semana o quieres conocer el patrimonio de una forma única\, esta es tu guía definitiva. Leer más \n\n\n\nPara más información puedes consultar :\n\n\n\n\nPuedes Consultar en esté enlace las  Ferias y Mercados en España\n\n\n\nHaz clic en ESTE enlace :  Conoce los Organizadores de Mercados y Ferias\n\n\n\n\n¿Te apuntas? Síguenos y no te pierdas de nada.\n\n\n\n\nTelegram\n\n\n\nNewsletter\n\n\n\nWhatsApp\n\n\n\nInstagram\n\n\n\nPor supuesto en Facebook\n\n\n\n\nEn Resumen….
URL:https://demercadosmedievales.info/mercadomedieval/mercado-barroco-de-huercal-overa-del-6-al-8-de-marzo-del-2026/
LOCATION:Huércal-Overa (Almería) (***)\, Huércal-Overa\, Almería\, España
CATEGORIES:Almería,Andalucia,Cartel,eventos 2026,Feria barroca,Programación
ATTACH;FMTTYPE=image/jpeg:https://demercadosmedievales.info/wp-content/uploads/2026/03/barroco_huercal_overa_cartel_2026.jpg
ORGANIZER;CN="Mercados Arlekin":MAILTO:mercadosarlekin@gmail.com
GEO:37.3962183;-1.9416877
END:VEVENT
BEGIN:VEVENT
DTSTART;TZID=Europe/Madrid:20250328T000000
DTEND;TZID=Europe/Madrid:20250330T235959
DTSTAMP:20260425T192015
CREATED:20250110T071745Z
LAST-MODIFIED:20250328T090009Z
UID:10002084-1743120000-1743379199@demercadosmedievales.info
SUMMARY:03/25 Mercado Barroco de Huercal-Overa\, Almería 28 al 30 de Marzo 2025
DESCRIPTION:Huércal-Overa es una localidad y municipio español situado en la parte noroccidental de la comarca del Levante\, en la provincia de Almería\, comunidad autónoma de Andalucía.  \n\n\n \n\n\n\n\n\n\n\nMercado Barroco \n\n\n\n\n\n\n\n \n\n\n\nProgramación oficial y completa del Mercado Barroco\n\n\n\n\n\n\n\nInformación del evento\n\n\n\n\nFecha: Del 28 al 30 de Marzo de 2025 \n\n\n\nLugar:  en el centro del municipio ( Plaza del Constitución)\n\n\n\nPoblación: Huercal-Overa \, ALMERIA \n\n\n\nPeriodicidad: Anual\n\n\n\nOferta a exponer:  Artesanía y relacionados\, Alimentación y gastronomía\n\n\n\nEntidad organizadora:   Ferias-Mercados\n\n\n\n\n \n\n\n\nCaracterísticas Principales del Mercado Barroco:\n\n\n\n\nAmbiente Histórico.\n\n\n\nArtesanía y Productos Locales.\n\n\n\nEspectáculos y Animación.\n\n\n\nGastronomía.\n\n\n\nActividades para Todos los Públicos.\n\n\n\n\n \n\n\n\n¿Cómo Participar?\n\n\n\nDado la cercanías de las fechas del evento\, realizan esta convocatoria por parte de la empresa Ferias-Mercados para facilitar la gestión de solicitudes. Si estás interesado en participar\, te invitamos a comunicarte al Teléfono y WhatsApp: 633 890 418. \n\n\n\nEmpresa organizadora :\n\n\n\nLa organización y decoración de este evento están a cargo de Ferias-Mercados \n\n\n\n\nPara más detalles contacta a través del WhatsApp : 633890418 – Sergio Teléfono y WhatsApp. \n\n\n\nConsulta aquí otros mercados y eventos similares que organiza esta empresa : Más Ferias y Mercado de Ferias-Mercados\n\n\n\n\n\n\n\n\n \n\n\n\nOtras Ferias y Mercados en la Provincia  \n\n\n\nAlmería es una ciudad vibrante y llena de actividades durante todo el año. Si deseas explorar más eventos como este\, te sugerimos: \n\n\n\n\nFerias y Mercados en Almeria provincia\n\n\n\nMercados y Ferias Medievales en Andalucía \n\n\n\n\n\n\n\n\n \n\n\n\nCalendario de los Mercados Temáticos y Ferias Medievales\n\n\n\n¿Quieres saber cuándo y dónde se realizarán más ferias y mercados?Visita nuestro Calendario de Eventos para obtener detalles de: Calendario 2025: Planifica con anticipación y no te pierdas ninguna cita. \n\n\n\n \n\n\n\n\n\n\n\n \n\n\n\nLos Mercados y Ferias Medievales\n\n\n\nLas ferias medievales son auténticos viajes en el tiempo. Estos eventos recrean la atmósfera de la Edad Media. Leer más… \n\n\n\n\n\n\n\n\n\n\n\n\n\nOrganiza :\n\n\n\n\n\nSobre Huércal-Overa\n\n\n\nEn el centro de Huércal-Overa\, posiblemente en la Plaza de la Constitución. Es una localidad y municipio español situado en la parte noroccidental de la comarca del Levante\, en la provincia de Almería\, comunidad autónoma de Andalucía.
URL:https://demercadosmedievales.info/mercadomedieval/mercado-barroco-de-huercal-overa-almeria-2025/
LOCATION:Huércal-Overa (Almería) (***)\, Huércal-Overa\, Almería\, España
CATEGORIES:Almería,Andalucia,Cartel,Feria barroca,Mercado Medieval,Programación
ATTACH;FMTTYPE=image/jpeg:https://demercadosmedievales.info/wp-content/uploads/2025/03/mercado-barroco-huercal-cartel-w.jpg
ORGANIZER;CN="Ferias-Mercados":MAILTO:sergio@ferias-mercados.com
GEO:37.3962183;-1.9416877
END:VEVENT
BEGIN:VEVENT
DTSTART;TZID=Europe/Madrid:20240301T080000
DTEND;TZID=Europe/Madrid:20240303T170000
DTSTAMP:20260425T192015
CREATED:20240201T112020Z
LAST-MODIFIED:20240215T123455Z
UID:10000842-1709280000-1709485200@demercadosmedievales.info
SUMMARY:01 al 03 de Marzo 2024 Mercado Barroco de Huércal-Overa (Almería)
DESCRIPTION:El Mercado Barroco contará con numerosos atractivos\, como animación musical barroca\, recreación de campamento militar de la época\, exhibición de cetrería\, exposición de animales\, talleres de oficios antiguos\, rincón infantil con juegos y atracciones… \n \n Detalles del Mercado Barroco\nEl Mercado Barroco de Huércal-Overa es un evento anual que se celebra en la ciudad de Huércal-Overa\, Almería\, España. El mercado recrea la atmósfera y el comercio del período barroco\, con puestos de artesanía\, gastronomía\, animales\, cetrería\, atracciones infantiles\, juegos para los peques y talleres gratuitos de pintura y sal. También hay recreaciones históricas\, música\, bailes y mucho más. \nSe encuentra ubicado en las Plazas de la Constitución y Cura Valera de la ciudad. \nCuando se celebra ? Los dias  1 Al 3 De Marzo  del  2024 \nEn que localidad y provincia ? Huércal-Overa ( ALMERIA ) \nCual será la ubicación ?  Estará ubicado en la Plaza de la Constitución\, Cura Valera y adyacentes \nMotivo Celebración De La Exención Del Villazgo \n  \n \n  \n  \n  \nDESCRIPCION DEL EVENTO\nNuestra compañía La Fragua de Vulcano\, organizará este Mercado Barroco en la villa de Huércal-Overa\, Municipio de más de 20.000 habitantes en la comarca del Levante almeriense. \nEste evento celebra por segundo año consecutivo su Mercado Barroco y recreación histórica de la Exención del Villazgo\, otorgado en 1668 por el cual consiguió su separación de la ciudad de Lorca\, y la obtención de la categoría de Villa. \nEl Mercado Barroco contará con numerosos atractivos\, como animación musical barroca\, recreación de campamento militar de la época\, exhibición de cetrería\, exposición de animales\, talleres de oficios antiguos\, rincón infantil con juegos y atracciones… \nMontaje: Viernes 1 de marzo por la mañana. Pendiente de turnos de montaje.\nLugar: Plaza de la Constitución\, Cura Valera y adyacentes \n Quién lo organiza el Mercado Barroco ?\nInformación e Inscripciones:\nTel. 963 400 037\ngestion@espectaculosamb.com \nMercado barroco generado con IA \n  \n Acerca de Huércal-Overa\nHuércal-Overa es una localidad y municipio español situado en la parte noroccidental de la comarca del Levante\, en la provincia de Almería\, comunidad autónoma de Andalucía. \nSe encuentra a unos 100 kilómetros de Almería capital. Se puede llegar en coche por la autovía A-7 o en autobús. También hay una estación de tren en la ciudad. \n\nCalendario de Mercado Medieval y Ferias 2024 :\n\n\nEnero\nFebrero\nMarzo\nAbril\nMayo\nJunio\nJulio\nAgosto\nSeptiembre\nOctubre\nNoviembre\nDiciembre\n\n Las Ferias y mercados medievales\n\n\nLas Ferias y mercados medievales son eventos populares que recrean el ambiente y la atmósfera de la Edad Media. \n\n\n\nDurante estas Ferias y mercados medievales\, se recrea un pueblo o una ciudad medieval\, con puestos de artesanía\, alimentos\, entretenimiento y actividades relacionadas con la época. Los participantes\, vestidos con trajes medievales\, venden productos tradicionales como joyería\, armas\, vestimenta\, objetos de cuero\, cerámica y otros productos artesanales.\nLos alimentos y bebidas también desempeñan un papel importante en las ferias medievales.  + Leer más \n\n\nMercados Medievales de Almeria\, Mercado Barroco de Huercal-Overa\, España\, Andalucia\,  Almeria\, Huercal-Overa\,
URL:https://demercadosmedievales.info/mercadomedieval/01-al-03-de-marzo-2024-mercado-barroco-de-huercal-overa-almeria/
LOCATION:Huércal-Overa (Almería) (***)\, Huércal-Overa\, Almería\, España
CATEGORIES:Almería,Feria barroca,La Fragua de Vulcano
ATTACH;FMTTYPE=image/jpeg:https://demercadosmedievales.info/wp-content/uploads/2024/02/mercado-barroco-huercal-overa-2024-f.jpg
GEO:37.3962183;-1.9416877
END:VEVENT
END:VCALENDAR