BEGIN:VCALENDAR
VERSION:2.0
PRODID:-//Mercados Medievales - ECPv6.15.20//NONSGML v1.0//EN
CALSCALE:GREGORIAN
METHOD:PUBLISH
X-ORIGINAL-URL:https://demercadosmedievales.info
X-WR-CALDESC:Eventos para Mercados Medievales
REFRESH-INTERVAL;VALUE=DURATION:PT1H
X-Robots-Tag:noindex
X-PUBLISHED-TTL:PT1H
BEGIN:VTIMEZONE
TZID:Europe/Madrid
BEGIN:DAYLIGHT
TZOFFSETFROM:+0100
TZOFFSETTO:+0200
TZNAME:CEST
DTSTART:20240331T010000
END:DAYLIGHT
BEGIN:STANDARD
TZOFFSETFROM:+0200
TZOFFSETTO:+0100
TZNAME:CET
DTSTART:20241027T010000
END:STANDARD
BEGIN:DAYLIGHT
TZOFFSETFROM:+0100
TZOFFSETTO:+0200
TZNAME:CEST
DTSTART:20250330T010000
END:DAYLIGHT
BEGIN:STANDARD
TZOFFSETFROM:+0200
TZOFFSETTO:+0100
TZNAME:CET
DTSTART:20251026T010000
END:STANDARD
BEGIN:DAYLIGHT
TZOFFSETFROM:+0100
TZOFFSETTO:+0200
TZNAME:CEST
DTSTART:20260329T010000
END:DAYLIGHT
BEGIN:STANDARD
TZOFFSETFROM:+0200
TZOFFSETTO:+0100
TZNAME:CET
DTSTART:20261025T010000
END:STANDARD
END:VTIMEZONE
BEGIN:VEVENT
DTSTART;TZID=Europe/Madrid:20250524T000000
DTEND;TZID=Europe/Madrid:20250525T235959
DTSTAMP:20260419T233532
CREATED:20250226T092326Z
LAST-MODIFIED:20250521T165348Z
UID:10002259-1748044800-1748217599@demercadosmedievales.info
SUMMARY:Programación XII Feria Medieval en El Rourell (Tarragona) 24 y 25 de Mayo del 2025
DESCRIPTION:XII Feria Medieval en El Rourell los días 24 y 25 de mayo. Espectáculos\, mercado\, visita al castillo y paella solidaria. \n\n\n\n\n\n\n\n \n\n\n\nXII Feria Medieval en El Rourell \n\n\n\n \n\n\n\nCartel oficial\n\n\n\n\n\n\n\n \n\n\n\nProgramación oficial\n\n\n\n\n\n\n\n \n\n\n\nSÁBADO 24 \n\n\n\n\nDe 10:00 ha 21:00 h → Mercado medieval\n\n\n\nDe 11:00 ha 14:00 hy de 17:00 ha 20:00 h → Exposición de cuadros de jóvenes talentos del Alt Camp en el patio del castillo. Habrá refrigerio y concierto de Mireia Batalla y Joan Pujol\n\n\n\nDe 12:00 ha 14:00 hy de 17:00 ha 20:00 h → Visitas guiadas al castillo (precio: 5 €)\n\n\n\nDe 17:00 a 20:00 h → Gigantes de madera en la plaza de la iglesia\n\n\n\n17:30 hy 19:15 h → Espectáculos de lucha\n\n\n\n21:00 h → Espectáculo de fuego\n\n\n\n23:30 h → Concierto en la plaza del castillo a cargo de Musicam Turba\n\n\n\n🟡 Durante el día : Pasacalles\, paseo en carro y ambientación de Musicam Turba\n\n\n\n\nDOMINGO 25 \n\n\n\n\n9:30 h → Desayuno medieval en la plaza Sant Jordi (precio: 12 €)\n\n\n\nDe 10:00 ha 21:00 h → Mercado medieval\n\n\n\n13:00 h → Paella solidaria lucha contra el cáncer (precio: 7 €)\n\n\n\n18:00 hy 20:00 h → Espectáculo de lucha\n\n\n\n🟡 Durante la tarde : Pases de baile de banderas🟡 Durante todo el día : Juegos de madera y paseo en carro\n\n\n\n\n \n\n\n\n \n\n\n\nLa espera está llegando a su fin. Este mes de mayo\, El Rourell se transformará en un escenario medieval para celebrar la XII Feria Medieval. Marquen la fecha en sus agendas y prepárense para vivir un fin de semana lleno de historia\, emoción y entretenimiento. \n\n\n\nDurante los días 24 y 25 de mayo\, los visitantes podrán disfrutar de un amplio abanico de actividades y espectáculos que los transportarán a otra época. Entre los eventos destacados\, se incluyen impresionantes combates de caballeros y espectáculos de fuego\, que prometen deslumbrar a todos los asistentes. \n\n\n\nAdemás\, contaremos con una deliciosa paella solidaria\, cuyos fondos serán destinados a la Liga contra el Cáncer\, ofreciendo la oportunidad de disfrutar de la gastronomía mientras se colabora con una buena causa. También se podrá realizar una visita especial al castillo el sábado\, una oportunidad única para sumergirse en la historia de la localidad. \n\n\n\nPara los amantes de la buena comida y la artesanía\, la feria dispondrá de una taberna y una variada selección de puestos de alimentación y productos artesanales. Sin duda\, será una oportunidad perfecta para descubrir sabores y productos únicos en un ambiente festivo. \n\n\n\nSi desean participar en la feria\, ya está abierta la inscripción. No pierdan la oportunidad de formar parte de esta mágica celebración. \n\n\n\n \n\n\n\n\n\n\n\nInformación del evento\n\n\n\n📅 Evento: XII Feria Medieval en El Rourell \n\n\n\n📍 Ubicación: El Rourell\, TARRAGONA📆 Fecha: 24 y 25 de mayo de  2025⏰ Horario: Todo el día \n\n\n\n🔹 Descripción del evento:¡Viaja en el tiempo y sumérgete en la magia medieval en la XII Feria Medieval de El Rourell! Durante dos días\, el pueblo se convertirá en un auténtico escenario medieval con combates de caballeros\, espectáculos de fuego\, visita al castillo\, taberna y un sinfín de puestos de artesanía y gastronomía. \n\n\n\n🍽 Paella solidaria a favor de la Liga contra el Cáncer.⚔️ Espectáculos medievales de lucha y fuego.🏰 Visita al castillo (sábado).🛍 Mercado de artesanía y alimentación. \n\n\n\n📢 ¡La inscripción para participar ya está abierta! \n\n\n\n📩 Más información:📧  organitzaciomedievalrourell@gmail.com📧 aj.rourell@altanet.org📞 977840502📲 WhatsApp: 660954004 \n\n\n\n\n\n\n\nInformación del organizador :\n\n\n\nLa organización y decoración de este evento están a cargo de Ajuntamet del Rourell . Para más detalles sobre el proceso de inscripción\, tarifas y requisitos específicos\, contacta a través de: \n\n\n\n\norreo electrónico : organitzaciomedievalrourell@gmail.com  aj.rourell@altanet.org\n\n\n\nTeléfono / WhatsApp : 977840502 / 660954004\n\n\n\nWeb :  Ajuntament del Rourell\n\n\n\nDescubre las próximas ferias y mercados en su agenda:  \n\n\n\n\n\n\n\n\n\n\nInformación sobre la localidad \n\n\n\nAcerca de .. El RourellRourell ​ es un municipio de la comarca del Alto Campo en la provincia de Tarragona\, comunidad autónoma de Cataluña\, España. \n\n\n\nConoce más de  EL ROURELL  visitando la pagina web del Ayuntamiento : Ajuntament del Rourell | \n\n\n\nListado de eventos en está localidad : \n\n\n\n\n\n \n\n\n\n\n\n\n\n \n\n\n\n\n\n\n\nOtros enlaces para hacer clic :\n\n\n\nPodría ser de tu interés : \n\n\n\n\nHaz clic en este enlace y entérate de todos los eventos que harán en la provincia de Tarragona\n\n\n\nConsulta el calendario completo en el siguiente enlace y prepárate para la aventura! 👉 MAYO\n\n\n\nPuedes Consultar en esté enlace las Ferias y Mercados en España\n\n\n\nConoce los Organizadores de Mercados y Ferias haciendo clic en ESTE enlace 👈\n\n\n\n\n\nVisita nuestro Calendario de Eventos para obtener detalles de: Calendario 2025: Planifica con anticipación y no te pierdas ninguna cita.\n\n\n\n\n\nLas ferias medievales son auténticos viajes en el tiempo. Estos eventos recrean la atmósfera de la Edad Media. Leer más…\n\n\n\n\n\n\n\n\n \n\n\n\nSíguenos.\n\n\n\n\nTelegram: Recibe nuestras noticias y contenido exclusivo (clic aquí).\n\n\n\nNewsletter: Recibe un correos con nuestras últimas noticias (clic aquí).\n\n\n\nWhatsApp: Suscríbete para seguirnos en nuestro canal  (clic aquí).\n\n\n\nInstagram:  Síguenos en Instagram ( clic aquí )\n\n\n\n\n \n\n\n\n\n\n\n\n\n\n\n\nMercadosmedievales.net \n\n\n\nLas ferias medievales son auténticos viajes en el tiempo. Estos eventos recrean la atmósfera de la Edad Media….
URL:https://demercadosmedievales.info/mercadomedieval/05-25-xii-feria-medieval-en-el-rourell-tarragona-24-y-25-de-mayo-del-2025/
LOCATION:El Rourell (Tarragona)\, El Rourell\, Tarragona\, España
CATEGORIES:Cartel,Cataluña,Mercado Medieval,Programación,Tarragona
ATTACH;FMTTYPE=image/jpeg:https://demercadosmedievales.info/wp-content/uploads/2025/02/FIRA-MEDIEVAL-ROURELL.jpg
ORGANIZER;CN="Ajuntamet del Rourell y Comisi%C3%B3n de fiestas":MAILTO:organitzaciomedievalrourell@gmail.com
END:VEVENT
END:VCALENDAR