BEGIN:VCALENDAR
VERSION:2.0
PRODID:-//Mercados Medievales - ECPv6.15.20//NONSGML v1.0//EN
CALSCALE:GREGORIAN
METHOD:PUBLISH
X-WR-CALNAME:Mercados Medievales
X-ORIGINAL-URL:https://demercadosmedievales.info
X-WR-CALDESC:Eventos para Mercados Medievales
REFRESH-INTERVAL;VALUE=DURATION:PT1H
X-Robots-Tag:noindex
X-PUBLISHED-TTL:PT1H
BEGIN:VTIMEZONE
TZID:Europe/Madrid
BEGIN:DAYLIGHT
TZOFFSETFROM:+0100
TZOFFSETTO:+0200
TZNAME:CEST
DTSTART:20230326T010000
END:DAYLIGHT
BEGIN:STANDARD
TZOFFSETFROM:+0200
TZOFFSETTO:+0100
TZNAME:CET
DTSTART:20231029T010000
END:STANDARD
BEGIN:DAYLIGHT
TZOFFSETFROM:+0100
TZOFFSETTO:+0200
TZNAME:CEST
DTSTART:20240331T010000
END:DAYLIGHT
BEGIN:STANDARD
TZOFFSETFROM:+0200
TZOFFSETTO:+0100
TZNAME:CET
DTSTART:20241027T010000
END:STANDARD
BEGIN:DAYLIGHT
TZOFFSETFROM:+0100
TZOFFSETTO:+0200
TZNAME:CEST
DTSTART:20250330T010000
END:DAYLIGHT
BEGIN:STANDARD
TZOFFSETFROM:+0200
TZOFFSETTO:+0100
TZNAME:CET
DTSTART:20251026T010000
END:STANDARD
BEGIN:DAYLIGHT
TZOFFSETFROM:+0100
TZOFFSETTO:+0200
TZNAME:CEST
DTSTART:20260329T010000
END:DAYLIGHT
BEGIN:STANDARD
TZOFFSETFROM:+0200
TZOFFSETTO:+0100
TZNAME:CET
DTSTART:20261025T010000
END:STANDARD
END:VTIMEZONE
BEGIN:VEVENT
DTSTART;TZID=Europe/Madrid:20250711T000000
DTEND;TZID=Europe/Madrid:20250713T235959
DTSTAMP:20260420T075847
CREATED:20250624T090054Z
LAST-MODIFIED:20250724T122145Z
UID:10002620-1752192000-1752451199@demercadosmedievales.info
SUMMARY:Mercado Medieval de El Portil 2025 (Huelva)
DESCRIPTION:El Mercado Medieval de El Portil se celebra del 11 al 13 de Julio. Artesanía\, talleres y espectáculos junto al mar.   \n\n\n\n\n\n\n\n \n\n\n\n \n\n\n\nMercado Medieval de El Portil\n\n\n\n\n\n\n\n\n\n\n\n \n\n\n\n \n\n\n\n\n📍 Ubicación:Avenida principal de El PortilEl Portil (Huelva)\n\n\n\n📅 Fecha de celebración:Del 11 al 13 de Julio de 2025\n\n\n\n🕰️ Horario de apertura al público:A partir del 11 de Julio por la tarde\n\n\n\n📦 Fecha de montaje:11 de Julio en horario de mañana\n\n\n\n📦 Fecha de desmontaje:13 de Julio tras finalizar la programación\n\n\n\n📝 Plazo de inscripción:Hasta completar plazas\n\n\n\n📚 Periodicidad:I edición (nueva organización)\n\n\n\n🛍️ Tipo de productos admitidos:Artesanía\, alimentación\, gastronomía\, talleres\n\n\n\n🎁 Servicios ofrecidos por la organización:\n\nLuz\n\n\n\nAgua\n\n\n\nEspectáculos y animación\n\n\n\n\n\n👥 Organiza:Adonay Eventos\n\n📩 Información e inscripciones:Mayte 695 022 197\n\n\n\n\n\n\n \n\n\n\n \n\n\n\nDescripción de la localidad \n\n\n\nEl Portil es una localidad costera perteneciente al municipio de Punta Umbría. Está situada a 9\,2 km del núcleo principal y en 2024 tenía una población de 1276 habitantes según el INE.​ Forma un conglomerado urbano junto a la localidad de Nuevo Portil\, en el término municipal de Cartaya \n\n\n\n\n\n \n\n\n\n \n\n\n\nPara más información puedes consultar :\n\n\n\n\nPuedes Consultar en esté enlace las Ferias y Mercados en España\n\n\n\nHaz clic en ESTE enlace :  Conoce los Organizadores de Mercados y Ferias\n\n\n\n\n¿Te apuntas? Dale follow y no te lo pierdas.\n\n\n\n\nTelegram: Recibe nuestras noticias y contenido exclusivo (clic aquí).\n\n\n\nNewsletter: Recibe un correos con nuestras últimas noticias (clic aquí).\n\n\n\nWhatsApp: Suscríbete para seguirnos en nuestro canal (clic aquí).\n\n\n\nInstagram: Síguenos en Instagram ( clic aquí )\n\n\n\n\n \n\n\n\n \n\n\n\nEn Resumen…
URL:https://demercadosmedievales.info/mercadomedieval/mercado-pirata-de-el-portil-2025-huelva/
LOCATION:El Portil (Huelva) (***)\, El Portil\, pedania de Punta Umbria\, Huelva\, España
CATEGORIES:Andalucia,Huelva,Mercado Medieval
ATTACH;FMTTYPE=image/jpeg:https://demercadosmedievales.info/wp-content/uploads/2025/06/medieval-el-portil-cartel.jpg
ORGANIZER;CN="Recreaciones Adonay eventos":MAILTO:adonayrecreaciones@gmail.com
GEO:37.216091;-7.067323
END:VEVENT
BEGIN:VEVENT
DTSTART;VALUE=DATE:20240808
DTEND;VALUE=DATE:20240812
DTSTAMP:20260420T075847
CREATED:20240413T193652Z
LAST-MODIFIED:20240414T061056Z
UID:10001157-1723075200-1723420799@demercadosmedievales.info
SUMMARY:Mercado Mitológico El Portil (Huelva) del 8 Al 11 De Agosto 2024
DESCRIPTION:Mercado Mitológico en periodo estival \, cuatro dias de mercado y se celebrará en la Plaza de la Sal.  Organizado por Leyenda Viva. \n \nDescripción del Mercado Mitológico \nDetalles del Mercado Mitológico\nCartel oficial del Mercado \nCartel \nCuando se celebra el Mercado Mitológico ?\n Los dias  8\, 9\, 10 y 11 de agosto del  2024 \nDonde será la Mercado ?\nEn la localidad de EL PORTIL que pertenece a la provincia de HUELVA.\nEl Portil es una localidad costera perteneciente al municipio de Punta Umbría. \nCual será la ubicación del Mercado Mitológico ? \n. Estará ubicado en la Plaza de la Sal de EL PORTIL\nPara conocer la fecha de más mercados y ferias temáticas \, AQUÍ \nDetalles del Mercado Mitológico \nDia y hora de Montaje : \nJueves día 8 entre las 9:00 horas y las 13:00 horas \nFecha y hora de Inauguración\nJueves día 8 a las 20:00 horas \nPrecio \nEl precio por metro lineal es de 50 euros. Alimentación consultar \nQuién organiza  el Mercado ? \n La empresa LEYENDA VIVA es la encargada de la organización y gestión de paradas/puestos de venta\, además de la decoración y la ambientación. \n. Como participar ? Ponte en contacto con el organizador para conocer los requisitos de participación y solicitar tu participación.\nPara reservar :\nTendrán que rellenar la solicitud que se encuentra dentro de la página web : www.leyendaviva.es\nMas  información : Teléfono  653 232 751\nemail :   infoleyendaviva@gmail.com \nEl organizador proveerá de los siguientes servicios para los artesanos/mercaderes  : \n\n– PUNTOS DE LUZ Y AGUA\n– VIGILANCIA NOCTURNA\n– PUBLICIDAD\n\n\n\n\n \nAcerca de El Portil\nEl Portil es una localidad costera perteneciente al municipio de Punta Umbría. Está situada a 9\,2 km del núcleo principal y en 2020 tenía una población de 1 062 habitantes según el INE.​ Forma un conglomerado urbano junto a la localidad de Nuevo Portil\, en el término municipal de Cartaya. \nAcerca de Punta Umbria\nPunta Umbría es un municipio español de la provincia de Huelva\, Andalucía. El municipio cuenta con una población de 16 069 habitantes (INE 2023). Su extensión superficial es de 38 km² y tiene una densidad de 387\,2 hab/km². Se encuentra situada a una altitud de 6 metros y a 20 km de la capital de provincia\, 9 km en línea recta\, Huelva y a 100 km de Sevilla. \nCalendario 2024 : \n\nAquí te dejo el calendario donde puedes encontrar mercados medievales y ferias temáticas en España durante el 2024: \n\n\nEnero\nFebrero\nMarzo\nAbril\nMayo\nJunio\nJulio\nAgosto\nSeptiembre\nOctubre\nNoviembre\nDiciembre\n\n Las Ferias y mercados medievales\nLas ferias medievales son eventos que recrean la atmósfera de la Edad Media. Por lo general\, se llevan a cabo en pueblos o ciudades\, y presentan puestos de vendedores que venden artesanías\, alimentos y bebidas. También puede haber entretenimiento\, como justas\, música y baile. . \nLos Mercados  Medievales son una forma popular de aprender sobre la historia de la Edad Media y experimentar la cultura de la época. También son una actividad divertida para toda la familia. \nTags: Feria Medieval\,Convocatoria\,plazo\,2024\,El Portil\,Punta Umbria\,Andalucia\,España\,Feria marinera\,
URL:https://demercadosmedievales.info/mercadomedieval/mercado-mitologico-el-portil-huelva-del-8-al-11-de-agosto-2024/
LOCATION:El Portil (Huelva) (***)\, El Portil\, pedania de Punta Umbria\, Huelva\, España
CATEGORIES:Cartel,Huelva,Leyenda viva,Mercado Mitológico
ATTACH;FMTTYPE=image/jpeg:https://demercadosmedievales.info/wp-content/uploads/2024/04/mitologico_el_portil_Post_web.jpg
ORGANIZER;CN="Leyenda viva":MAILTO:infoleyendaviva@gmail.com
GEO:37.216091;-7.067323
END:VEVENT
BEGIN:VEVENT
DTSTART;VALUE=DATE:20240711
DTEND;VALUE=DATE:20240715
DTSTAMP:20260420T075847
CREATED:20240413T174710Z
LAST-MODIFIED:20240414T061037Z
UID:10001155-1720656000-1721001599@demercadosmedievales.info
SUMMARY:Mercado Marinero El Portil ( Huelva) 11 al 14 de julio 2024
DESCRIPTION:Mercado Marinero\, los días 11 al 14 de julio en la pedania de Punta Umbria\, El Portil\, la organización está a cargo de la empresa Leyenda Viva. \n \nDescripción del Mercado Marinero\nDetalles del Mercado Marinero\nCuando se celebra el Mercado ?\n Los dias 11\, 12\, 13 y 14 de Julio  del  2024 \nDonde será el mercado marinero ?\nEn la localidad de EL PORTIL que pertenece a la provincia de  HUELVA.\nEl Portil es una localidad costera perteneciente al municipio de Punta Umbría. \nCual será la ubicación del Mercado Marinero ? \n. Estará ubicado Plaza de la Sal de El Portil\nPara conocer la fecha de más mercados y ferias temáticas \, AQUÍ \nDetalles del Mercado Marinero\nDia y hora de Montaje :\nJueves día 11 entre las 9:00 horas y las 13:00 horas \nFecha y hora de Inauguración\nJueves día 11 a las 20:00 horas \nPrecio \nEl precio por metro lineal es de 50 euros \nOrganizador del Mercado\nQuién organiza  el Mercado Medieval?  La empresa LEYENDA VIVA es la encargada de la organización y gestión de paradas/puestos de venta\, además de la decoración y la ambientación. \n. Como participar ? Ponte en contacto con el organizador para conocer los requisitos de participación y solicitar tu participación.\nPara reservar :\nTendrán que rellenar la solicitud que se encuentra dentro de la página web : www.leyendaviva.es\nMas  información : Teléfono  653 232 751\nemail : \ninfoleyendaviva@gmail.com \nEl organizador proveerá de los siguientes servicios para los artesanos/mercaderes  : \n\n– PUNTOS DE LUZ Y AGUA\n– VIGILANCIA NOCTURNA\n– PUBLICIDAD\n\n\n\n\n \nAcerca de El Portil\nEl Portil es una localidad costera perteneciente al municipio de Punta Umbría. Está situada a 9\,2 km del núcleo principal y en 2020 tenía una población de 1 062 habitantes según el INE.​ Forma un conglomerado urbano junto a la localidad de Nuevo Portil\, en el término municipal de Cartaya. \nAcerca de Punta Umbria\nPunta Umbría es un municipio español de la provincia de Huelva\, Andalucía. El municipio cuenta con una población de 16 069 habitantes (INE 2023). Su extensión superficial es de 38 km² y tiene una densidad de 387\,2 hab/km². Se encuentra situada a una altitud de 6 metros y a 20 km de la capital de provincia\, 9 km en línea recta\, Huelva y a 100 km de Sevilla. \nCalendario 2024 : \n\nAquí te dejo el calendario donde puedes encontrar mercados medievales y ferias temáticas en España durante el 2024: \n\n\nEnero\nFebrero\nMarzo\nAbril\nMayo\nJunio\nJulio\nAgosto\nSeptiembre\nOctubre\nNoviembre\nDiciembre\n\n Las Ferias y mercados medievales\nLas ferias medievales son eventos que recrean la atmósfera de la Edad Media. Por lo general\, se llevan a cabo en pueblos o ciudades\, y presentan puestos de vendedores que venden artesanías\, alimentos y bebidas. También puede haber entretenimiento\, como justas\, música y baile. . \nLos Mercados  Medievales son una forma popular de aprender sobre la historia de la Edad Media y experimentar la cultura de la época. También son una actividad divertida para toda la familia. \nTags:  Feria Medieval\,Convocatoria\,plazo\,2024\,El Portil\,Punta Umbria\,Andalucia\,España\,Feria marinera\,
URL:https://demercadosmedievales.info/mercadomedieval/mercado-marinero-el-portil-huelva-del-11-al-14-de-julio-2024/
LOCATION:El Portil (Huelva) (***)\, El Portil\, pedania de Punta Umbria\, Huelva\, España
CATEGORIES:Cartel,Huelva,Leyenda viva,mercado marinero
ATTACH;FMTTYPE=image/jpeg:https://demercadosmedievales.info/wp-content/uploads/2024/04/marinero_el_portil_Post_web.jpg
ORGANIZER;CN="Leyenda viva":MAILTO:infoleyendaviva@gmail.com
GEO:37.216091;-7.067323
END:VEVENT
BEGIN:VEVENT
DTSTART;VALUE=DATE:20240629
DTEND;VALUE=DATE:20240902
DTSTAMP:20260420T075847
CREATED:20240521T171028Z
LAST-MODIFIED:20240521T171045Z
UID:10001309-1719619200-1725235199@demercadosmedievales.info
SUMMARY:Feria de Verano de El Portil (Huelva) 2024
DESCRIPTION:Feria de Verano de artesanía\, complementos\, gastronomía y atracciones  en el Paseo Marítimo de El Portil en la provincia de Huelva.\n\n\n\n\n\n\n \n\n\nFeria de Verano de El Portil 2024\nFeria de artesanía\, complementos\, gastronomía y atracciones\n\n\n\nDetalles del Mercado o Feria\nCual es la fecha de celebración ?\n\n\n\n\n\n\n29 junio al 1 septiembre del 2024\n\n\n\n\n\n\n\n\n\nHasta que fecha se pueden inscribir los artesanos y mercaderes ?\n\n\n\n\nHasta completar el cupo de 20 casetas\n\n\n\n\n\n\n\n\n\nDonde se va a celebrar ? Localidad y provincia\n\n\n\n\nEn el Paseo marítimo de El Portil que pertenece a municipio de Punta Umbria en la provincia de HUELVA\nPunta Umbría es un municipio español de la provincia de Huelva\, Andalucía. El municipio cuenta con una población de 16 069 habitantes\nEl Portil es una localidad costera perteneciente al municipio de Punta Umbría. Está situada a 9\,2 km del núcleo principal según el INE.​ Forma un conglomerado urbano junto a la localidad de Nuevo Portil\, en el término municipal de Cartaya\n\n\n\n\n\n\n\n\n\nCual será la ubicación dentro de la localidad (calle\, Plaza\, vía\, etc.)\n\n\n\n\nEn el Paseo marítimo\n\nDescripción del Evento \nFeria de artesanía\, complementos\, gastronomía y atracciones\n\n\n\n\n\n\n\n\nDia y hora de Montaje :\n\n\n\n\nDia 28 junio\n\n\n\n\n\n\n\n\nFecha y hora de Inauguración\n\n\n\n\n29 junio\n\n\n\n\n\n\n\n\nServicios que proporcionara el organizador a los artesanos y mercaderes participantes \n\n\n\n\n\n\n\n\n\n\nSeguridad\n\n\n\n\n\n\n\n\n\n\n\n\n\n\n\n\n\n\n\n\n\n\n\nElectricidad\n\n\n\n\n\n\n\n\n\n\n\n\n\n\n\n\n\n\n\nOrganizador \n\n\n\n\n\n\n\nQuien organiza la Feria y/o Mercado ?\n\n\n\n\n\n\nOrganización de ferias y eventos Ramigar s.l\nInformación e Inscripciones\n\n\n\n\n\n\n\n\nTeléfono de contacto :\n\n\n\n\n637 84 62 80\n\n\n\n\n\n\n\n\nEmail de contacto : \n\n\n\n\nramigarsl@yahoo.es\n\n\n\n\n\n\n\n\n\n\n\n\n\n\n\n\n\n\n\nCuales son los Requisitos de participación ?\n\n\n\n\nDocumentación al día\n\n\n\n\n\n\n\n\nPrecio del metro lineal\, parada de madera\, carpa ?\n\n\n\n\nCasetas de 3x3m precio según producto\n\n\n\n\n\n\n\n\n\nCalendario 2024\nSobre los Mercados Medievales\nLas ferias medievales son eventos que recrean la atmósfera de la Edad Media. Por lo general\, se llevan a cabo en pueblos o ciudades\, y presentan puestos de vendedores que venden artesanías\, alimentos y bebidas. También puede haber entretenimiento\, como justas\, música y baile. \n  \nTags:  Feria Medieval\,Convocatoria\,El Portil\, Punta Umbria\, Andaucia\,2024\,España
URL:https://demercadosmedievales.info/mercadomedieval/feria-de-verano-de-el-portil-huelva-2024/
LOCATION:El Portil (Huelva) (***)\, El Portil\, pedania de Punta Umbria\, Huelva\, España
CATEGORIES:Huelva,Mercado de Verano
ATTACH;FMTTYPE=image/jpeg:https://demercadosmedievales.info/wp-content/uploads/2024/05/verano_playa_el_portil_f.jpg
ORGANIZER;CN="Organizacion Ferias Y Eventos Ramigar S.L.":MAILTO:ramigarsl@yahoo.es
GEO:37.216091;-7.067323
END:VEVENT
END:VCALENDAR