BEGIN:VCALENDAR
VERSION:2.0
PRODID:-//Mercados Medievales - ECPv6.15.20//NONSGML v1.0//EN
CALSCALE:GREGORIAN
METHOD:PUBLISH
X-ORIGINAL-URL:https://demercadosmedievales.info
X-WR-CALDESC:Eventos para Mercados Medievales
REFRESH-INTERVAL;VALUE=DURATION:PT1H
X-Robots-Tag:noindex
X-PUBLISHED-TTL:PT1H
BEGIN:VTIMEZONE
TZID:Europe/Madrid
BEGIN:DAYLIGHT
TZOFFSETFROM:+0100
TZOFFSETTO:+0200
TZNAME:CEST
DTSTART:20240331T010000
END:DAYLIGHT
BEGIN:STANDARD
TZOFFSETFROM:+0200
TZOFFSETTO:+0100
TZNAME:CET
DTSTART:20241027T010000
END:STANDARD
BEGIN:DAYLIGHT
TZOFFSETFROM:+0100
TZOFFSETTO:+0200
TZNAME:CEST
DTSTART:20250330T010000
END:DAYLIGHT
BEGIN:STANDARD
TZOFFSETFROM:+0200
TZOFFSETTO:+0100
TZNAME:CET
DTSTART:20251026T010000
END:STANDARD
BEGIN:DAYLIGHT
TZOFFSETFROM:+0100
TZOFFSETTO:+0200
TZNAME:CEST
DTSTART:20260329T010000
END:DAYLIGHT
BEGIN:STANDARD
TZOFFSETFROM:+0200
TZOFFSETTO:+0100
TZNAME:CET
DTSTART:20261025T010000
END:STANDARD
END:VTIMEZONE
BEGIN:VEVENT
DTSTART;TZID=Europe/Madrid:20251121T000000
DTEND;TZID=Europe/Madrid:20251123T235959
DTSTAMP:20260421T161954
CREATED:20251118T110614Z
LAST-MODIFIED:20251118T110726Z
UID:10002939-1763683200-1763942399@demercadosmedievales.info
SUMMARY:[Programación] MEDIEVAL MARKET DE ARCHENA (MURCIA) 2025
DESCRIPTION:La localidad murciana de Archena acogerá del 21 al 23 de noviembre el esperado Mercado Medieval de Artesanía\, que se celebrará en la céntrica Plaza del Primero de Mayo. \n\n\n\n\n\n\n\n \n\n\n\nArchena viaja al medievo con arte\, sabor y tradición\n\n\n\nOrganizado por PopUp Artesanía\, este evento reunirá a artesanos\, creadores y productores gastronómicos en un entorno ambientado con decoración medieval\, música\, aromas y colores que transportarán al visitante a otra época. \n\n\n\nEl mercado contará con puestos de artesanía\, alimentación artesanal y talleres\, además de ambientación temática y un cuidado montaje que llenará el corazón de Archena de vida y tradición. \n\n\n\n🎭 Los artesanos deberán acudir con sus paradas decoradas al estilo medieval\, incluyendo carpa\, manteles en tonos naturales (blancos\, marrones\, verdes o rojos) y vestimenta acorde a la temática.🔌 El organizador proporcionará punto de luz para los puestos. \n\n\n\n✨ Una cita mágica que combina cultura\, comercio y diversión en un ambiente familiar y festivo. \n\n\n\n \n\n\n\n\n\n\n\n \n\n\n\nProgramación de actividades \n\n\n\n\n\n\n\n \n\n\n\nArtesanos y Mercaderes interesados : \n\n\n\n📅 Fechas de celebración: 21\, 22 y 23 de noviembre de 2025📍 Ubicación: Plaza del Primero de Mayo – Archena (Murcia)🕒 Horario al público: \n\n\n\n\nViernes: 17:00 h a 00:00 h\n\n\n\nSábado: 11:00 h a 22:00 h\n\n\n\nDomingo: 10:00 h a 20:00 h🎉 Inauguración: Viernes 21 de noviembre a las 17:00 h🛠️ Montaje: Viernes 21 de noviembre🏁 Desmontaje: Domingo 23 de noviembre📧 Información e inscripciones: hola@popupartesania.es📲 WhatsApp: 601 56 00 40📷 Instagram: @popupartesania👥 Organiza: PopUp Artesanía\n\n\n\n\n \n\n\n\n🧭 DESCRIPCIÓN DE ARCHENA (MURCIA)\n\n\n\nArchena\, ubicada en el Valle de Ricote\, es una de las joyas de la Región de Murcia. Conocida por su balneario y su entorno natural\, se convierte cada otoño en escenario de eventos culturales y festivos. \n\n\n\nDurante el Mercado Medieval\, su Plaza del Primero de Mayo se transformará en un espacio lleno de vida\, con artesanía\, comida tradicional y ambientación histórica\, ideal para disfrutar en familia y atraer visitantes de toda la comarca. \n\n\n\n\n\n \n\n\n\nPara más información puedes consultar :\n\n\n\n\nPuedes Consultar en esté enlace las Ferias y Mercados en España\n\n\n\nHaz clic en ESTE enlace :  Conoce los Organizadores de Mercados y Ferias\n\n\n\n\n¿Te apuntas? Dale follow y no te lo pierdas.\n\n\n\n\nTelegram: Recibe nuestras noticias y contenido exclusivo (clic aquí).\n\n\n\nNewsletter: Recibe un correos con nuestras últimas noticias (clic aquí).\n\n\n\nWhatsApp: Suscríbete para seguirnos en nuestro canal (clic aquí).\n\n\n\nInstagram: Síguenos en Instagram ( clic aquí )\n\n\n\n\nEn Resumen… \n\n\n\nen Resumen … \n\n\n\n🏰 Mercado Medieval en #Archena del 21 al 23 de noviembre🎪 Artesanía\, comida y talleres \n\n\n\nMás información : https://demercadosmedievales.info/mercadomedieval/medieval-market-de-archena-murcia-2025/
URL:https://demercadosmedievales.info/mercadomedieval/medieval-market-de-archena-murcia-2025/
LOCATION:Archena (Murcia) (***)\, Archena\, Murcia\, 30600\, España
CATEGORIES:Cartel,Mercado Medieval,Programación,Region de Murcia
ATTACH;FMTTYPE=image/jpeg:https://demercadosmedievales.info/wp-content/uploads/2025/10/medievalmarket_archena_facebook.jpg
ORGANIZER;CN="Pop Up Artesania":MAILTO:hola@popupartesania.es
GEO:38.1167735;-1.3011431
END:VEVENT
END:VCALENDAR