BEGIN:VCALENDAR
VERSION:2.0
PRODID:-//Mercados Medievales - ECPv6.15.20//NONSGML v1.0//EN
CALSCALE:GREGORIAN
METHOD:PUBLISH
X-ORIGINAL-URL:https://demercadosmedievales.info
X-WR-CALDESC:Eventos para Mercados Medievales
REFRESH-INTERVAL;VALUE=DURATION:PT1H
X-Robots-Tag:noindex
X-PUBLISHED-TTL:PT1H
BEGIN:VTIMEZONE
TZID:Europe/Madrid
BEGIN:DAYLIGHT
TZOFFSETFROM:+0100
TZOFFSETTO:+0200
TZNAME:CEST
DTSTART:20230326T010000
END:DAYLIGHT
BEGIN:STANDARD
TZOFFSETFROM:+0200
TZOFFSETTO:+0100
TZNAME:CET
DTSTART:20231029T010000
END:STANDARD
BEGIN:DAYLIGHT
TZOFFSETFROM:+0100
TZOFFSETTO:+0200
TZNAME:CEST
DTSTART:20240331T010000
END:DAYLIGHT
BEGIN:STANDARD
TZOFFSETFROM:+0200
TZOFFSETTO:+0100
TZNAME:CET
DTSTART:20241027T010000
END:STANDARD
BEGIN:DAYLIGHT
TZOFFSETFROM:+0100
TZOFFSETTO:+0200
TZNAME:CEST
DTSTART:20250330T010000
END:DAYLIGHT
BEGIN:STANDARD
TZOFFSETFROM:+0200
TZOFFSETTO:+0100
TZNAME:CET
DTSTART:20251026T010000
END:STANDARD
BEGIN:DAYLIGHT
TZOFFSETFROM:+0100
TZOFFSETTO:+0200
TZNAME:CEST
DTSTART:20260329T010000
END:DAYLIGHT
BEGIN:STANDARD
TZOFFSETFROM:+0200
TZOFFSETTO:+0100
TZNAME:CET
DTSTART:20261025T010000
END:STANDARD
BEGIN:DAYLIGHT
TZOFFSETFROM:+0100
TZOFFSETTO:+0200
TZNAME:CEST
DTSTART:20270328T010000
END:DAYLIGHT
BEGIN:STANDARD
TZOFFSETFROM:+0200
TZOFFSETTO:+0100
TZNAME:CET
DTSTART:20271031T010000
END:STANDARD
END:VTIMEZONE
BEGIN:VEVENT
DTSTART;TZID=Europe/Madrid:20260320T000000
DTEND;TZID=Europe/Madrid:20260322T235959
DTSTAMP:20260420T064155
CREATED:20260301T071659Z
LAST-MODIFIED:20260301T082548Z
UID:10003271-1773964800-1774223999@demercadosmedievales.info
SUMMARY:Fiesta de la Cerveza en Parla
DESCRIPTION:La Fiesta de la Cerveza en Parla (Madrid) se celebrará los días 20\, 21 y 22 de marzo de 2026 y\, además\, llenará la Plaza de Toros de gastronomía\, música y ambiente festivo durante tres intensas jornadas. \n\n\n\n\n\n\n\n \n\n\n\nÍndice Fiesta de la Cerveza en Parla📌 Información práctica de la Fiesta de la Cerveza en ParlaCartel Fiesta de la Cerveza en ParlaComo llegar a la Fiesta de la Cerveza en ParlaMercados Medievales 2026: Fechas y Localidades ConfirmadasPara más información puedes consultar :¿Te apuntas? Síguenos y no te pierdas de nada.En Resumen…\n\n\n\n \n\n\n\nFiesta de la Cerveza en Parla\n\n\n\nParla se prepara para vivir uno de los fines de semana más animados de la primavera con su Fiesta de la Cerveza 2026. Durante tres días\, la Plaza de Toros se transformará en un gran espacio de encuentro donde la gastronomía y la música serán las protagonistas. \n\n\n\nEl público podrá disfrutar de una amplia oferta de foodtrucks\, puestos gastronómicos y espacios de curiosidades\, todo ello acompañado de conciertos y un ambiente festivo continuo que se alarga hasta la madrugada. \n\n\n\nEl evento contará con servicios de luz\, agua y vigilancia\, garantizando comodidad y seguridad tanto para participantes como para visitantes. La inscripción para expositores permanecerá abierta hasta una semana antes del evento o hasta completar aforo. \n\n\n\nLa organización corre a cargo de Plazas y Espacios Activos S.Coop\, entidad especializada en la gestión de eventos gastronómicos y culturales. \n\n\n\n📩 Información e inscripciones:📧 info@plazasyespaciosactivos.org📱 WhatsApp: 691 19 86 45 / 637 44 09 99 \n\n\n\n \n\n\n\n📌 Información práctica de la Fiesta de la Cerveza en Parla\n\n\n\n📅 Fechas: 20\, 21 y 22 de marzo de 2026🕛 Horario: de 12:00 h a 01:00 h📍 Ubicación: Plaza de Toros de Parla\, MADRID \n\n\n\n🛠 Montaje: 19 y 20 de marzo📦 Desmontaje: 22 y 23 de marzo \n\n\n\n📝 Plazo de inscripción: hasta una semana antes o completar aforo📋 Requisitos: documentación en regla💰 Precio: consultar con la organización \n\n\n\n \n\n\n\nCartel Fiesta de la Cerveza en Parla\n\n\n\nCartel Fiesta de la Cerveza en Parla\n\n\n\n \n\n\n\nComo llegar a la Fiesta de la Cerveza en Parla\n\n\n\nParla es uno de los municipios más dinámicos del sur de la Comunidad de Madrid\, con una intensa vida cultural y festiva. Su cercanía a la capital y su buena comunicación hacen que eventos como este atraigan a público local y de municipios vecinos. \n\n\n\nCómo llegar:Parla se encuentra a unos 20 km de Madrid\, con acceso por la A-42 y la M-408. Dispone de estación de Cercanías Renfe (línea C-4) y varias líneas de autobús interurbano. La Plaza de Toros se sitúa dentro del casco urbano. \n\n\n\n\n\n \n\n\n\n \n\n\n\nMercados Medievales 2026: Fechas y Localidades Confirmadas\n\n\n\n\n\n\n\nEspaña cuenta con una de las agendas de ferias temáticas más ricas del mundo\, combinando gastronomía tradicional\, artesanía de autor y espectáculos en vivo. Si buscas un plan diferente para el fin de semana o quieres conocer el patrimonio de una forma única\, esta es tu guía definitiva. Leer más \n\n\n\nPara más información puedes consultar :\n\n\n\n\nPuedes Consultar en esté enlace las  Ferias y Mercados en España\n\n\n\nHaz clic en ESTE enlace :  Conoce los Organizadores de Mercados y Ferias\n\n\n\n\n¿Te apuntas? Síguenos y no te pierdas de nada.\n\n\n\n\nTelegram\n\n\n\nNewsletter\n\n\n\nWhatsApp\n\n\n\nInstagram\n\n\n\nPor supuesto en Facebook\n\n\n\n\nEn Resumen…
URL:https://demercadosmedievales.info/mercadomedieval/fiesta-de-la-cerveza-en-parla/
LOCATION:Parla (Madrid) (***)\, en el centro\, Parla\, Comunidad de Madrid\, España
CATEGORIES:Comunidad de Madrid,Feria de la cerveza artesana
ATTACH;FMTTYPE=image/jpeg:https://demercadosmedievales.info/wp-content/uploads/2026/03/festival_cerveza_parla_fb.jpg
ORGANIZER;CN="PLAZAS Y ESPACIOS ACTIVOS S.COOP":MAILTO:info@plazasyespaciosactivos.org
GEO:40.232367;-3.768906
X-APPLE-STRUCTURED-LOCATION;VALUE=URI;X-ADDRESS=Parla (Madrid) (***) en el centro Parla Comunidad de Madrid España;X-APPLE-RADIUS=500;X-TITLE=en el centro:geo:-3.768906,40.232367
END:VEVENT
BEGIN:VEVENT
DTSTART;TZID=Europe/Madrid:20250425T000000
DTEND;TZID=Europe/Madrid:20250427T235959
DTSTAMP:20260420T064155
CREATED:20250414T180559Z
LAST-MODIFIED:20250414T180609Z
UID:10002404-1745539200-1745798399@demercadosmedievales.info
SUMMARY:Feria de Abril en Humanes de Madrid
DESCRIPTION:La feria se inaugurará el 25 de abril a las 12 h\, con montaje el día 24. Habrá vigilancia nocturna\, luz en los puestos y plazo de inscripción hasta el 20. \n\n\n\n \n\n\n\n\n\n\n\n \n\n\n\nLa Feria de Artesanía de Humanes de Madrid se celebrará del 25 al 27 de abril de 2025 en el Recinto Ferial. Con horario de 12 PM a 01:00 PM\, ofrecerá una variada muestra de productos artesanales.  \n\n\n\nLa inauguración oficial será el viernes 25 a las 12 del mediodía\, y los participantes podrán montar sus puestos el día 24. El evento contará con vigilancia nocturna y punto de luz en cada puesto. Las inscripciones estarán abiertas hasta el 20 de abril. \n\n\n\nHaz clic en este enlace : Mercados medievales en COMUNIDAD DE MADRID\n\n\n\nConsulta el calendario completo del mes de ABRIL \n\n\n\n \n\n\n\nFeria de Abril en Humanes de Madrid\n\n\n\n \n\n\n\n\n\n\n\n \n\n\n\n\n\n\n\n \n\n\n\n\n\n\n\nLa fecha de celebración será desde el 25 al 27 de abril de  2025Horario de apertura y cierre al publico desde las 12 PM hasta la 01:00 PMPlazo de Inscripción Hasta el 20 de abrilLugar – Ubicación dentro del municipio: Recinto Ferial Humanes de MadridPoblación (Municipio y Provincia) : Humanes de Madrid \, MADRIDPeriodicidad: AnualTipo de productos a exponer y vender: Artesanía y artículos relacionados con la FeriaFecha de Montaje 24 de abrilFecha de Desmontaje 27 de abrilFecha y hora de inauguración Viernes 25 a las 12 de la mañana.Servicios que proporcionara el organizador : Vigilancia nocturna\, punto de luz para iluminación de los puestos \n\n\n\nOrganiza : \n\n\n\n\n\nInformación e Inscripciones : info@plazasyespaciosactivos.orgRequisitos de participación:  Documentación en regla \n\n\n\n \n\n\n\n\n\n\n\nLocalización : \n\n\n\nHumanes de Madrid es un municipio y localidad española de la Comunidad de Madrid. El término municipal tiene una población de 20 074 habitantes. \n\n\n\n\n\n \n\n\n\nOtros enlaces :\n\n\n\nPodría ser de tu interés : \n\n\n\n\nPuedes Consultar en esté enlace las Ferias y Mercados en España\n\n\n\nHaz clic en ESTE enlace : y Conoce los Organizadores de Mercados y Ferias \n\n\n\n\n\nVisita nuestro Calendario de Eventos para obtener detalles de: Calendario 2025: Planifica con anticipación y no te pierdas ninguna cita.\n\n\n\n\n\nLas ferias medievales son auténticos viajes en el tiempo. Estos eventos recrean la atmósfera de la Edad Media. Leer más…\n\n\n\n\n\n\n\n\n \n\n\n\nSíguenos.\n\n\n\n\nTelegram: Recibe nuestras noticias y contenido exclusivo (clic aquí).\n\n\n\nNewsletter: Recibe un correos con nuestras últimas noticias (clic aquí).\n\n\n\nWhatsApp: Suscríbete para seguirnos en nuestro canal  (clic aquí).\n\n\n\nInstagram:  Síguenos en Instagram ( clic aquí )\n\n\n\n\n \n\n\n\n\n\n\n\n\n\n\n\nMercadosmedievales.net \n\n\n\nLos Mercados Medievales son eventos que transportan a los asistentes a la atmósfera de la Edad Media\, recreando su esencia y estética de manera auténtica. A lo largo de estos mercados\, es posible encontrar una gran variedad de puestos que ofrecen artesanía\, productos gastronómicos y objetos característicos de la época.  \n\n\n\n\n\n\n\nAdemás\, suelen contar con numerosas actividades y espectáculos inspirados en las tradiciones medievales\, como justas\, teatro callejero\, música en vivo y danzas folclóricas. En definitiva\, representan una excelente oportunidad para sumergirse en la cultura\, la gastronomía y el arte de una de las épocas más cautivadoras de la historia. \n\n\n\n\n\n\n\n \n\n\n\n \n\n\n\nEn Resumen
URL:https://demercadosmedievales.info/mercadomedieval/feria-de-abril-en-humanes-de-madrid/
CATEGORIES:Comunidad de Madrid,Mercados tematicos,Multisectorial
ATTACH;FMTTYPE=image/jpeg:https://demercadosmedievales.info/wp-content/uploads/2025/04/feria-abril-humanes-cartel.jpg
ORGANIZER;CN="PLAZAS Y ESPACIOS ACTIVOS S.COOP":MAILTO:info@plazasyespaciosactivos.org
END:VEVENT
BEGIN:VEVENT
DTSTART;TZID=Europe/Madrid:20241220T000000
DTEND;TZID=Europe/Madrid:20250104T235959
DTSTAMP:20260420T064155
CREATED:20241114T162743Z
LAST-MODIFIED:20241130T091724Z
UID:10001932-1734652800-1736035199@demercadosmedievales.info
SUMMARY:Feria de Navidad de Humanes de Madrid 2024 * Cancelado
DESCRIPTION:PLAZAS Y ESPACIOS ACTIVOS S.COOP  \n\n\n \n\n\n\n\n\n\n\nFERIA DE NAVIDAD\n\n\n\n\n\n\n\nInformación básica del Evento\n\n\n\nLa fecha de celebración seráDESDE EL 20 DE DICIEMBRE del  2024 HASTA EL 4 DE ENERO del 2025Hasta que fecha se pueden inscribir los artesanos y mercaderes ?HASTA FIN DE ESPACIOEl lugar de celebración seráHUMANES DE MADRID ( MADRID ) / Humanes de Madrid es un municipio y localidad española de la Comunidad de Madrid. El término municipal tiene una población de 19 902 habitantes.Estará ubicado en RECINTO FERIAL HUMANES \n\n\n\nDescripción interesante del EventoConciertos\, Tributos\, Musicales\, Actividades Infantiles\, Celebración De Las Cañas De Nochebuena\, Atracciones De Feria Para Mayores Y Niños\, Foodtrucks\, Barra De Bebidas\, Carpa Con Espacio Gastronómico\, Mercado Con Puestos De Venta\, Etc.Cuando será el MontajeEL MONTAJE SE LLEVARÁ A CABO LOS DÍAS 18 Y 19 DE DICIEMBRE.Será inaugurado el díaINAUGURACIÓN DÍA 20 DE DICIEMBREServicios que proporcionara el organizador a los artesanos y mercaderes participantesSeguridadAguaElectricidadOtro: ESPECTÁCULOS Y ACTIVIDADES  \n\n\n\nOrganizador\n\n\n\nPLAZAS Y ESPACIOS ACTIVOS S.COOPInformación e InscripcionesPOR EMAIL Y WhatsApp 691198645Email de contacto :INFO@PLAZASYESPACIOSACTIVOS.ORGRequisitos de participación ?DOCUMENTACIÓN EN REGLA\, SERÁ REQUERIDA \n\n\n\n \n\n\n\nMás fechas  Puedes conocer mas ferias y mercados en está provincia\, consultando nuestra sección de Eventos de la provincia de Madrid \n\n\n\notros mercados temáticos y FeriasSi quieres conocer cuando se realizan más ferias y mercados\, puedes consultarlos visitando nuestro   Calendario de Eventos \n\n\n\nCalendario 2024\n\n\n\nCalendario 2025\n\n\n\nSobre los Mercados Medievales\n\n\n\nLas ferias medievales son eventos que recrean la atmósfera de la Edad Media. Por lo general\, se llevan a cabo en pueblos o ciudades\, y presentan puestos de vendedores que venden artesanías\, alimentos y bebidas. También puede haber entretenimiento\, como justas\, música y baile. \n\n\n\nTags:  Mercado de Navidad\,Humanes de Madrid\,Feria Medieval\,\,2024\,España  \n\n\n\n\n\n\n\nOrganizador\n\n\n\n\n\nLocalización\n\n\n\nHumanes de Madrid es un municipio y localidad española de la Comunidad de Madrid. El término municipal tiene una población de 19 902 habitantes.
URL:https://demercadosmedievales.info/mercadomedieval/feria-de-navidad-de-humanes-de-madrid-2024-madrid/
LOCATION:Humanes de Madrid (Madrid) (***)\, Humanes de Madrid\, Madrid\, 28970\, Spain
CATEGORIES:Cartel,Comunidad de Madrid,Mercados de navidad,Programación,Suspendido / Cancelado
ATTACH;FMTTYPE=image/jpeg:https://demercadosmedievales.info/wp-content/uploads/2024/11/feria_navidad_humanes_madrid_2024-f-940-x-788-px.jpg
ORGANIZER;CN="PLAZAS Y ESPACIOS ACTIVOS S.COOP":MAILTO:info@plazasyespaciosactivos.org
GEO:40.2507841;-3.8299106
END:VEVENT
BEGIN:VEVENT
DTSTART;TZID=Europe/Madrid:20241220T000000
DTEND;TZID=Europe/Madrid:20241222T235959
DTSTAMP:20260420T064155
CREATED:20241201T100819Z
LAST-MODIFIED:20241218T123007Z
UID:10001991-1734652800-1734911999@demercadosmedievales.info
SUMMARY:Feria de Cervezas en Cubas de la Sagra 2024 (Madrid) 🍻❄️
DESCRIPTION:PLAZAS Y ESPACIOS ACTIVOS S.COOP  \n\n\n \n\n\n\n\n\n\n\nFeria de Cervezas de invierno en Cubas de la Sagra\n\n\n\n\n\n\n\nInformación básica del Evento\n\n\n\nLa fecha de celebración seráDías 20 \, 21 y 22 de diciembreHasta que fecha se pueden inscribir los artesanos y mercaderes ?Mientras haya espacioEl lugar de celebración seráCubas de la Sagra en la comunidad autónoma de MADRID /  Cubas de la Sagra es un municipio y localidad española de la Comunidad de Madrid. El término municipal\, ubicado en la comarca de la Sagra\, tiene una población de 6539 habitantes.Estará ubicado en la Plaza de la Constitución  \n\n\n\nDescripción interesante del EventoEs un evento de cervezas y queremos acompañarlo con puestos de venta de artesanías y/o curiosidades\, es gratuito y no se admite ningún tipo de alimentaciónCuando será el Montajese montará el día jueves 19 durante todo el dia y el viernes hasta las 11:00HSerá inaugurado el díaServicios que proporcionara el organizador a los artesanos y mercaderes participantesSeguridadAguaElectricidadOtro: NO se permite calefactores eléctricos\, debido al limite de consumo. \n\n\n\n¿Quién puede participar?\n\n\n\nSe abre la convocatoria a: \n\n\n\n\nArtesanos: Exhibe y vende tus productos hechos a mano\, desde joyería y cerámica hasta artículos de cuero y madera.\n\n\n\nComerciantes de productos temáticos: Regalos\, ropa y accesorios inspirados en la época medieval.\n\n\n\n\nEmpresa organizadora :\n\n\n\nPLAZAS Y ESPACIOS ACTIVOS S.COOP \n\n\n\n¿Cómo inscribirte?\n\n\n\nPresenta tu solicitud con la siguiente información:\n\n\n\n\nDescripción de tus productos o servicios.\n\n\n\nFotografías o ejemplos de tu trabajo.\n\n\n\nRequisitos específicos (espacio\, electricidad\, etc.).\n\n\n\n\nContacto para información e inscripciones\n\n\n\nInfo@plazasyespaciosactivos.org \, oficina@plazasyespaciosactivos.orgWhatsApp 637440999Email de contacto : oficina@plazasyespaciosactivos.org \n\n\n\nRequisitos de participación \n\n\n\nDocumentos en regla\, aceptar normas de la organización \n\n\n\nPrecioGRATUITO\n\n\n\n \n\n\n\n\n\n\n\nMás Ferias y Mercados en la Provincia\n\n\n\nExplora otros eventos en tu zona visitando nuestra sección de Eventos de LA PROVINCIA DE MADRID\, donde encontrarás información actualizada sobre ferias\, mercados y actividades para todas las edades. \n\n\n\n\n\n\n\nOtros Eventos del Organizador\n\n\n\nLa empresa \, experta en gestión y ambientación de mercados\, organiza muchos más eventos como este a lo largo del año. Descubre las próximas ferias y mercados en su agenda:👉 Consulta Aquí para acceder al calendario de eventos temáticos. \n\n\n\n\n\n\n\nMás Mercados Temáticos y Ferias\n\n\n\n¿Quieres saber cuándo y dónde se realizarán más ferias y mercados?Visita nuestro Calendario de Eventos para obtener detalles de: \n\n\n\nCalendario 2025: Planifica con anticipación y no te pierdas ninguna cita. \n\n\n\n\n\n\n\nSobre los Mercados Medievales\n\n\n\nLas ferias medievales son auténticos viajes en el tiempo. Estos eventos recrean la atmósfera de la Edad Media \n\n\n\n\n\nOrganiza :\n\n\n\n\n\nLugar :\n\n\n\nCubas de la Sagra es un municipio y localidad española de la Comunidad de Madrid. El término municipal\, ubicado en la comarca de la Sagra\, tiene una población de 6539 habitantes.
URL:https://demercadosmedievales.info/mercadomedieval/feria-de-cervezas-en-cubas-de-la-sagra-2024-madrid-%f0%9f%8d%bb%e2%9d%84%ef%b8%8f/
LOCATION:Cubas de La Sagra (Madrid)\, Cubas de La Sagra\, Madrid\, España
CATEGORIES:Comunidad de Madrid,Feria de la cerveza artesana,Mercados de navidad
ATTACH;FMTTYPE=image/jpeg:https://demercadosmedievales.info/wp-content/uploads/2024/12/feria_cerveza_cubas_2024_f-2.jpg
ORGANIZER;CN="PLAZAS Y ESPACIOS ACTIVOS S.COOP":MAILTO:info@plazasyespaciosactivos.org
END:VEVENT
END:VCALENDAR