BEGIN:VCALENDAR
VERSION:2.0
PRODID:-//Mercados Medievales - ECPv6.15.20//NONSGML v1.0//EN
CALSCALE:GREGORIAN
METHOD:PUBLISH
X-ORIGINAL-URL:https://demercadosmedievales.info
X-WR-CALDESC:Eventos para Mercados Medievales
REFRESH-INTERVAL;VALUE=DURATION:PT1H
X-Robots-Tag:noindex
X-PUBLISHED-TTL:PT1H
BEGIN:VTIMEZONE
TZID:Europe/Madrid
BEGIN:DAYLIGHT
TZOFFSETFROM:+0100
TZOFFSETTO:+0200
TZNAME:CEST
DTSTART:20220327T010000
END:DAYLIGHT
BEGIN:STANDARD
TZOFFSETFROM:+0200
TZOFFSETTO:+0100
TZNAME:CET
DTSTART:20221030T010000
END:STANDARD
BEGIN:DAYLIGHT
TZOFFSETFROM:+0100
TZOFFSETTO:+0200
TZNAME:CEST
DTSTART:20230326T010000
END:DAYLIGHT
BEGIN:STANDARD
TZOFFSETFROM:+0200
TZOFFSETTO:+0100
TZNAME:CET
DTSTART:20231029T010000
END:STANDARD
BEGIN:DAYLIGHT
TZOFFSETFROM:+0100
TZOFFSETTO:+0200
TZNAME:CEST
DTSTART:20240331T010000
END:DAYLIGHT
BEGIN:STANDARD
TZOFFSETFROM:+0200
TZOFFSETTO:+0100
TZNAME:CET
DTSTART:20241027T010000
END:STANDARD
BEGIN:DAYLIGHT
TZOFFSETFROM:+0100
TZOFFSETTO:+0200
TZNAME:CEST
DTSTART:20250330T010000
END:DAYLIGHT
BEGIN:STANDARD
TZOFFSETFROM:+0200
TZOFFSETTO:+0100
TZNAME:CET
DTSTART:20251026T010000
END:STANDARD
BEGIN:DAYLIGHT
TZOFFSETFROM:+0100
TZOFFSETTO:+0200
TZNAME:CEST
DTSTART:20260329T010000
END:DAYLIGHT
BEGIN:STANDARD
TZOFFSETFROM:+0200
TZOFFSETTO:+0100
TZNAME:CET
DTSTART:20261025T010000
END:STANDARD
END:VTIMEZONE
BEGIN:VEVENT
DTSTART;TZID=Europe/Madrid:20251018T000000
DTEND;TZID=Europe/Madrid:20251019T235959
DTSTAMP:20260421T144328
CREATED:20251017T161125Z
LAST-MODIFIED:20251017T161208Z
UID:10002899-1760745600-1760918399@demercadosmedievales.info
SUMMARY:Programa : XVIII Jornadas de Artesanía Medieval en Cornago (La Rioja)
DESCRIPTION:XVIII Jornadas de Artesanía Medieval en Cornago. Se transformarán las calles de la localidad en un vibrante escenario histórico. \n\n\n\n\n\n\n\n \n\n\n\nInformación de las XVIII Jornadas de Artesanía Medieval\n\n\n\nCornago se prepara para un viaje en el tiempo este fin de semana con la 18ª edición de sus Jornadas de Artesanía Medieval. \n\n\n\nEste evento consolidado en el calendario cultural riojano transformará las calles de la localidad en un vibrante escenario histórico\, ofreciendo dos días repletos de mercados de artesanía\, talleres\, exhibiciones\, espectáculos y recreaciones. \n\n\n\nDetalles del Evento\n\n\n\nEl inicio oficial está programado para el sábado a las 12:00 h. con un desfile inaugural que reunirá a caballeros\, músicos\, juglares\, artistas y campesinos en su recorrido hacia el castillo. Una vez allí\, se llevará a cabo un pregón en la fortaleza\, seguido de una visita a la Iglesia de San Pedro Apóstol\, donde comenzarán las demostraciones de antiguos oficios. La programación está diseñada para toda la familia\, incluyendo actividades como talleres de cerámica\, tiro con arco y macramé\, además de impresionantes demostraciones de cetrería y luchas medievales junto al castillo. \n\n\n\nEl aspecto gastronómico también será central\, con la Tasca Medieval ofreciendo platos típicos como migas del pastor\, sopas\, champiñones y otros productos locales. \n\n\n\nLa noche del Sábado será espectacular\, destacando un espectáculo de fuego en el castillo\, un desfile nocturno con antorchas y la obra teatral ‘Las Brujas Perdidas’ en la Plaza Mayor. La velada culminará con una cena temática y música en directo en la Plaza del Bagar. \n\n\n\nEl Domingo 19 el ambiente festivo continuará con la apertura del mercado artesanal\, más demostraciones de oficios\, juegos populares y un espectáculo de magia en la Plaza Mayor. Uno de los actos más tradicionales será la repartición de la ‘sopa boba’ por parte de los monjes del convento. \n\n\n\n\nLa celebración se despedirá oficialmente a las 19:00 h. \n\n\n\n\nAdicionalmente\, los asistentes podrán disfrutar de jornadas de puertas abiertas en los principales sitios de interés de Cornago. El castillo\, la iglesia parroquial y el centro de interpretación. También habrá una exposición de fósiles disponible durante todo el fin de semana. \n\n\n\nOrganizado por el Ayuntamiento y la Parroquia de San Pedro Apóstol\, con apoyo del Gobierno de La Rioja\, este evento es una excelente oportunidad para sumergirse en la historia\, la tradición y el rico patrimonio artesanal de Cornago. \n\n\n\n \n\n\n\nProgramación de actividades \n\n\n\n\n\n\n\n \n\n\n\n\n\n\n\n \n\n\n\n\n\n\n\n \n\n\n\n\n\n\n\n \n\n\n\n\n\n\n\nDescripción de la localidad\n\n\n\nCornago es un municipio de la comunidad autónoma de La Rioja (España)\, en la Comarca de Cervera. Se encuentra dentro de la Sierra de Alcarama\, limitando con la provincia de Soria al sur. Al norte se encuentra la sierra de Peñalosa. Las mayores altitudes se hallan en el alto de la Nevera con 1366 m s. n. m.\, en el de Cabeza de la Hoya con 1349 m s. n. m.\, y en el Alto de los Tres Mojones. \n\n\n\n\n\n \n\n\n\nPara más información puedes consultar :\n\n\n\n\nPuedes Consultar en esté enlace las Ferias y Mercados en España\n\n\n\nHaz clic en ESTE enlace :  Conoce los Organizadores de Mercados y Ferias\n\n\n\n\n\n\n\n\n¿Te apuntas? Dale follow y no te lo pierdas.\n\n\n\n\nTelegram: Recibe nuestras noticias y contenido exclusivo (clic aquí).\n\n\n\nNewsletter: Recibe un correos con nuestras últimas noticias (clic aquí).\n\n\n\nWhatsApp: Suscríbete para seguirnos en nuestro canal (clic aquí).\n\n\n\nInstagram: Síguenos en Instagram ( clic aquí )\n\n\n\n\nEn Resumen…
URL:https://demercadosmedievales.info/mercadomedieval/programa-xviii-jornadas-de-artesania-medieval-en-cornago-la-rioja/
LOCATION:Cornago ( La Rioja ) (***)\, en el castillo\, Cornago\, La Rioja\, 26526\, España
CATEGORIES:Cartel,La Rioja,Mercado Medieval,Programación
ATTACH;FMTTYPE=image/jpeg:https://demercadosmedievales.info/wp-content/uploads/2025/10/medieval_cornago_2025_1200.jpg
ORGANIZER;CN="Ayuntamiento de Cornago ( La Rioja)":MAILTO:aytocornago@hotmail.es
GEO:42.064661;-2.0965561
X-APPLE-STRUCTURED-LOCATION;VALUE=URI;X-ADDRESS=Cornago ( La Rioja ) (***) en el castillo Cornago La Rioja 26526 España;X-APPLE-RADIUS=500;X-TITLE=en el castillo:geo:-2.0965561,42.064661
END:VEVENT
BEGIN:VEVENT
DTSTART;TZID=Europe/Madrid:20241019T000000
DTEND;TZID=Europe/Madrid:20241020T235959
DTSTAMP:20260421T144328
CREATED:20240923T033337Z
LAST-MODIFIED:20241016T094840Z
UID:10001753-1729296000-1729468799@demercadosmedievales.info
SUMMARY:Mercado medieval – XVII Jornadas de artesanía medieval en Cornago ( La Rioja) 2024 - Programación
DESCRIPTION:Ayuntamiento de Cornago ( La Rioja)  \n\n\n\n\n\n\nMercado medieval\nXVII Jornadas de artesanía medieval\nEl Mercado Medieval de Cornago es una de las principales atracciones turísticas de la provincia de La Rioja\, España. Se celebra cada año durante el fin de semana de octubre más cercano al equinoccio de otoño.\n\nEl mercado se instala en las calles del casco antiguo de Cornago\, un pueblo medieval de origen celtíbero. Los puestos de venta ofrecen una amplia variedad de productos artesanales\, como jabones\, velas\, bisutería\, cerámica\, cuero\, etc. También hay puestos de comida y bebida\, donde se pueden degustar platos típicos de la Edad Media\, como callos\, morcillas\, chorizos\, etc. \nEl mercado cuenta con un programa de actividades que incluye espectáculos de música\, baile\, teatro\, acrobacias\, etc. También hay talleres de artesanía y oficios de la época\, donde los visitantes pueden aprender a hacer velas\, jabones\, cerámica\, etc. \nEl Mercado Medieval de Cornago es una oportunidad única para sumergirse en la Edad Media. Es una experiencia divertida y educativa para toda la familia. \nAquí hay algunos de los aspectos más destacados del mercado: \n\nLos puestos de venta de artesanía\, donde se pueden encontrar productos únicos y elaborados a mano.\nLos espectáculos de música\, baile y teatro\, que transportan a los visitantes a la Edad Media.\nLos talleres de artesanía y oficios\, donde los visitantes pueden aprender a hacer cosas como velas\, jabones o cerámica.\nLas degustaciones de comida y bebida\, donde se pueden probar platos típicos de la Edad Media.\n\n  \n\nCartel  \n \nProgramación \n \nInformación básica del Mercado\nFecha de celebración Los dias 19 y 20 de Octubre  del  2024 Sábado y Domingo \nDonde se realizaEn la localidad de Cornago que pertenece a la provincia de LA RIOJA / Cornago es un pueblo de la provincia y comunidad autónoma de La Rioja\, España \nInformación del Organizador\nAYUNTAMIENTO DE CORNAGO es el organizador \nComo participar \nPara más Información e Inscripciones: \n\n\n\nTelefono\n\n\n\n\n\n\n941 19 60 01\n\n\n\n\n\n\n\n\nEmail*\n\n\n\n\nMEDIEVOCORNAGO@GMAIL.COM\n \n\n\n\nMás fechas  Puedes conocer mas ferias y mercados en está provincia\, consultando nuestra sección de Eventos de La Rioja \notros mercados temáticos y FeriasSi quieres conocer cuando se realizan más ferias y mercados\, puedes consultarlos visitando nuestro   Calendario de Eventos \nCalendario 2024\nSobre los Mercados Medievales\nLas ferias medievales son eventos que recrean la atmósfera de la Edad Media. Por lo general\, se llevan a cabo en pueblos o ciudades\, y presentan puestos de vendedores que venden artesanías\, alimentos y bebidas. También puede haber entretenimiento\, como justas\, música y baile. \n\n\n\n\n\n\n\nDetalles del organizador\n\n\n\n\n\nLocalización\n\n\n\nCornago es un pueblo de la provincia y comunidad autónoma de La Rioja\, España
URL:https://demercadosmedievales.info/mercadomedieval/mercado-medieval-xvii-jornadas-de-artesania-medieval-en-cornago-la-rioja-2024/
LOCATION:Cornago ( La Rioja ) (***)\, en el castillo\, Cornago\, La Rioja\, 26526\, España
CATEGORIES:Cartel,La Rioja,Mercado Medieval,Programación
ATTACH;FMTTYPE=image/jpeg:https://demercadosmedievales.info/wp-content/uploads/2024/09/jornadas_artesania_medieval_cornago-2024-f.jpg
ORGANIZER;CN="Ayuntamiento de Cornago ( La Rioja)":MAILTO:aytocornago@hotmail.es
GEO:42.064661;-2.0965561
X-APPLE-STRUCTURED-LOCATION;VALUE=URI;X-ADDRESS=Cornago ( La Rioja ) (***) en el castillo Cornago La Rioja 26526 España;X-APPLE-RADIUS=500;X-TITLE=en el castillo:geo:-2.0965561,42.064661
END:VEVENT
BEGIN:VEVENT
DTSTART;VALUE=DATE:20231021
DTEND;VALUE=DATE:20231023
DTSTAMP:20260421T144328
CREATED:20230919T162324Z
LAST-MODIFIED:20231111T052723Z
UID:10000075-1697846400-1698019199@demercadosmedievales.info
SUMMARY:Mercado medieval - XVI Jornadas de artesanía medieval en Cornago ( La Rioja) 2023
DESCRIPTION:El Mercado medieval de Cornago es la cita turística más importante\, las jornadas de artesanía medieval son del 21 al 22 Octubre 2023 \n \nMercado medieval de Cornago\nXVI Jornadas de artesanía medieval\nFECHAS : 21 Y 22 DE OCTUBRE 2023 \nLOCALIDAD Y PROVINCIA : CORNAGO \, LA RIOJA \nCornago se prepara para su cita turística más importante\, las jornadas de artesanía medieval. Ya se han anunciado las fechas para su décimo sexta edición\, que tendrá lugar el sábado 21 de octubre y domingo 22. El evento contará con mercado y numerosas actividades. Como es habitual\, con el marco incomparable del castillo\, la parroquia y sus angostas calles y plazas. \nPuedes informarte en :\n\n\n\nAYUNTAMIENTO DE CORNAGO\n\n\n\n\n\n\n\n\nTelefono\n\n\n\n\n941 19 60 01\n\n\n\n\n\n\n\n\nEmail*\n\n\n\n\nMEDIEVOCORNAGO@GMAIL.COM\n\n\n\n\n\n\n\n\nEl Mercado Medieval de Cornago es una de las principales atracciones turísticas de la provincia de La Rioja\, España. Se celebra cada año durante el fin de semana de octubre más cercano al equinoccio de otoño.\n\nEl mercado se instala en las calles del casco antiguo de Cornago\, un pueblo medieval de origen celtíbero. Los puestos de venta ofrecen una amplia variedad de productos artesanales\, como jabones\, velas\, bisutería\, cerámica\, cuero\, etc. También hay puestos de comida y bebida\, donde se pueden degustar platos típicos de la Edad Media\, como callos\, morcillas\, chorizos\, etc. \nEl mercado cuenta con un programa de actividades que incluye espectáculos de música\, baile\, teatro\, acrobacias\, etc. También hay talleres de artesanía y oficios de la época\, donde los visitantes pueden aprender a hacer velas\, jabones\, cerámica\, etc. \nEl Mercado Medieval de Cornago es una oportunidad única para sumergirse en la Edad Media. Es una experiencia divertida y educativa para toda la familia. \nAquí hay algunos de los aspectos más destacados del mercado: \n\nLos puestos de venta de artesanía\, donde se pueden encontrar productos únicos y elaborados a mano.\nLos espectáculos de música\, baile y teatro\, que transportan a los visitantes a la Edad Media.\nLos talleres de artesanía y oficios\, donde los visitantes pueden aprender a hacer cosas como velas\, jabones o cerámica.\nLas degustaciones de comida y bebida\, donde se pueden probar platos típicos de la Edad Media.
URL:https://demercadosmedievales.info/mercadomedieval/mercado-medieval-xvi-jornadas-de-artesania-medieval-en-cornago-la-rioja-2023/
LOCATION:Cornago ( La Rioja ) (***)\, en el castillo\, Cornago\, La Rioja\, 26526\, España
CATEGORIES:Ayuntamiento de Cornago,Cornago,Mercado Medieval
ATTACH;FMTTYPE=image/jpeg:https://demercadosmedievales.info/wp-content/uploads/2023/09/CORNAGO_mercado_medieval_2023_web.jpg
ORGANIZER;CN="Ayuntamiento de Cornago ( La Rioja)":MAILTO:aytocornago@hotmail.es
GEO:42.064661;-2.0965561
X-APPLE-STRUCTURED-LOCATION;VALUE=URI;X-ADDRESS=Cornago ( La Rioja ) (***) en el castillo Cornago La Rioja 26526 España;X-APPLE-RADIUS=500;X-TITLE=en el castillo:geo:-2.0965561,42.064661
END:VEVENT
END:VCALENDAR