BEGIN:VCALENDAR
VERSION:2.0
PRODID:-//Mercados Medievales - ECPv6.15.20//NONSGML v1.0//EN
CALSCALE:GREGORIAN
METHOD:PUBLISH
X-ORIGINAL-URL:https://demercadosmedievales.info
X-WR-CALDESC:Eventos para Mercados Medievales
REFRESH-INTERVAL;VALUE=DURATION:PT1H
X-Robots-Tag:noindex
X-PUBLISHED-TTL:PT1H
BEGIN:VTIMEZONE
TZID:Europe/Madrid
BEGIN:DAYLIGHT
TZOFFSETFROM:+0100
TZOFFSETTO:+0200
TZNAME:CEST
DTSTART:20230326T010000
END:DAYLIGHT
BEGIN:STANDARD
TZOFFSETFROM:+0200
TZOFFSETTO:+0100
TZNAME:CET
DTSTART:20231029T010000
END:STANDARD
BEGIN:DAYLIGHT
TZOFFSETFROM:+0100
TZOFFSETTO:+0200
TZNAME:CEST
DTSTART:20240331T010000
END:DAYLIGHT
BEGIN:STANDARD
TZOFFSETFROM:+0200
TZOFFSETTO:+0100
TZNAME:CET
DTSTART:20241027T010000
END:STANDARD
BEGIN:DAYLIGHT
TZOFFSETFROM:+0100
TZOFFSETTO:+0200
TZNAME:CEST
DTSTART:20250330T010000
END:DAYLIGHT
BEGIN:STANDARD
TZOFFSETFROM:+0200
TZOFFSETTO:+0100
TZNAME:CET
DTSTART:20251026T010000
END:STANDARD
END:VTIMEZONE
BEGIN:VEVENT
DTSTART;VALUE=DATE:20240412
DTEND;VALUE=DATE:20240415
DTSTAMP:20260420T084840
CREATED:20240406T172129Z
LAST-MODIFIED:20240411T160710Z
UID:10001133-1712880000-1713139199@demercadosmedievales.info
SUMMARY:Cartel y programa de las Jornadas Medievales de Montiel 2024
DESCRIPTION:Las Jornadas Medievales de Montiel\, conocidas como Montiel Medieval\, ofrecerán una variedad de actividades para todos los públicos. \n \nJornadas Medievales «Montiel Medieval»\nLa villa de Montiel\, en Ciudad Real\, se prepara para celebrar un nuevo aniversario de la muerte del rey Pedro I de Castilla. La edición 2024\, que se llevará a cabo del 12 al 14 de abril\, promete ser aún más especial al conmemorarse el 655 aniversario de este evento histórico. \n \nMontiel Medieval: Un viaje al pasado lleno de historia\, cultura y tradición\nOrganizada por el Ayuntamiento de Montiel y la Asociación Encomienda de Montiel\, la fiesta ofrece una amplia variedad de actividades para todos los públicos\, con el objetivo de revivir la época medieval y sumergir a los visitantes en un viaje al pasado. \nActividades programadas para Montiel Medieval 2024\n  \n  \n Acerca de Montiel\nMontiel es un municipio y localidad española\, del sudeste de la provincia de Ciudad Real\, ubicado en la comunidad autónoma de Castilla-La Mancha. \n\nEl municipio de Montiel comprende un único núcleo de población\, Montiel.\nLa localidad se sitúa a 900 m s. n. m.\nEl término municipal tiene una superficie de 271\,29 km²\, llegando a limitar\, al oeste\, con Valdepeñas\, y al sur con Jaén.\nSe cree que el antiguo término municipal de Montiel llegaba a una calle de Sevilla.\n\n  \n\nCalendario de Mercados Medievales y Ferias temáticas 2024 :\n\n\nEnero\nFebrero\nMarzo\nAbril\nMayo\nJunio\nJulio\nAgosto\nSeptiembre\nOctubre\nNoviembre\nDiciembre\n\n Las Ferias y mercados medievales\nLas ferias medievales son eventos que recrean la atmósfera de la Edad Media. Por lo general\, se llevan a cabo en pueblos o ciudades\, y presentan puestos de vendedores que venden artesanías\, alimentos y bebidas. También puede haber entretenimiento\, como justas\, música y baile. . \nLos Mercados  Medievales son una forma popular de aprender sobre la historia de la Edad Media y experimentar la cultura de la época. También son una actividad divertida para toda la familia. \nTags:  Feria Medieval\,Convocatoria\,plazo\,2024\,Montiel Medieval\,Jornadas Medievales\,Cartel\,Programa\, \n 
URL:https://demercadosmedievales.info/mercadomedieval/cartel-y-programa-de-las-jornadas-medievales-de-montiel-2024/
LOCATION:Montiel (Ciudad Real) (***)\, Montiel\, Ciudad Real\, España
CATEGORIES:Cartel,Ciudad Real,Mercado Medieval
ATTACH;FMTTYPE=image/jpeg:https://demercadosmedievales.info/wp-content/uploads/2024/04/MERCADO-MEDIEVAL_1200-x-276-px.jpg
GEO:38.6978849;-2.866439
END:VEVENT
END:VCALENDAR