BEGIN:VCALENDAR
VERSION:2.0
PRODID:-//Mercados Medievales - ECPv6.15.20//NONSGML v1.0//EN
CALSCALE:GREGORIAN
METHOD:PUBLISH
X-ORIGINAL-URL:https://demercadosmedievales.info
X-WR-CALDESC:Eventos para Mercados Medievales
REFRESH-INTERVAL;VALUE=DURATION:PT1H
X-Robots-Tag:noindex
X-PUBLISHED-TTL:PT1H
BEGIN:VTIMEZONE
TZID:Europe/Madrid
BEGIN:DAYLIGHT
TZOFFSETFROM:+0100
TZOFFSETTO:+0200
TZNAME:CEST
DTSTART:20250330T010000
END:DAYLIGHT
BEGIN:STANDARD
TZOFFSETFROM:+0200
TZOFFSETTO:+0100
TZNAME:CET
DTSTART:20251026T010000
END:STANDARD
BEGIN:DAYLIGHT
TZOFFSETFROM:+0100
TZOFFSETTO:+0200
TZNAME:CEST
DTSTART:20260329T010000
END:DAYLIGHT
BEGIN:STANDARD
TZOFFSETFROM:+0200
TZOFFSETTO:+0100
TZNAME:CET
DTSTART:20261025T010000
END:STANDARD
BEGIN:DAYLIGHT
TZOFFSETFROM:+0100
TZOFFSETTO:+0200
TZNAME:CEST
DTSTART:20270328T010000
END:DAYLIGHT
BEGIN:STANDARD
TZOFFSETFROM:+0200
TZOFFSETTO:+0100
TZNAME:CET
DTSTART:20271031T010000
END:STANDARD
END:VTIMEZONE
BEGIN:VEVENT
DTSTART;TZID=Europe/Madrid:20260508T000000
DTEND;TZID=Europe/Madrid:20260510T235959
DTSTAMP:20260425T211620
CREATED:20260304T104326Z
LAST-MODIFIED:20260305T195036Z
UID:10003275-1778198400-1778457599@demercadosmedievales.info
SUMMARY:Feria Comercial y de Turismo – Puerto de Sagunto 2026
DESCRIPTION:La 33ª Feria Comercial y de Turismo de Puerto de Sagunto se celebrará del 8 al 10 de mayo y\, además\, volverá a convertir el Triángulo Umbral en un punto de encuentro para el comercio local\, la artesanía y los servicios en un ambiente dinámico y cercano. \n\n\n\n\n\n\n\n \n\n\n\nÍndice Feria Comercial y de Turismo📌 Información prácticaCartelComo llegar a la Feria Comercial y de TurismoMercados Medievales 2026: Fechas y Localidades ConfirmadasPara más información puedes consultar :¿Te apuntas? Síguenos y no te pierdas de nada.En Resumen…\n\n\n\n \n\n\n\nFeria Comercial y de Turismo\n\n\n\nPuerto de Sagunto se prepara para acoger una nueva edición de su feria comercial más emblemática. Durante tres días\, el Triángulo Umbral se llenará de actividad\, visitantes y propuestas comerciales pensadas para todos los públicos. \n\n\n\nLa feria reunirá artesanía\, talleres\, servicios y propuestas profesionales\, ofreciendo un escaparate perfecto para dar a conocer proyectos locales y comarcales. El ambiente será cercano y participativo\, invitando a pasear con calma y descubrir nuevas iniciativas. \n\n\n\nLos expositores contarán con casetas de madera de 3\,40 x 3\,40 metros\, toma de luz y vigilancia nocturna\, garantizando comodidad y seguridad durante todo el evento. El montaje se realizará el 8 de mayo a las 9:00 horas\, y la inauguración oficial tendrá lugar ese mismo día a las 18:00 horas. \n\n\n\nLa organización corre a cargo de la Asociación de Comerciantes y Profesionales de Puerto de Sagunto (ACPS)\, reafirmando su apuesta por el comercio local y la dinamización del municipio. \n\n\n\n📩 Información e inscripciones:📧 acpsferia@yahoo.es📱 WhatsApp: 607 61 30 53 / 677 24 77 41 \n\n\n\n\n\n\n\n📌 Información práctica\n\n\n\n📅 Fechas: 8\, 9 y 10 de mayo🕘 Horarios: \n\n\n\n\nViernes 8: 18:00 – 21:30\n\n\n\nSábado 9: 10:00 – 21:30\n\n\n\nDomingo 10: 10:00 – 19:00\n\n\n\n\n📍 Ubicación: Triángulo Umbral – Puerto de Sagunto \n\n\n\n🛠 Montaje: 8 de mayo a las 9:00 h📦 Desmontaje: 10 de mayo a las 20:00 h🎉 Inauguración: 8 de mayo a las 18:00 h \n\n\n\n📝 Plazo de inscripción: hasta el 30 de abril💰 Precio: 250 € por caseta (casetas dobles: consultar)📋 Requisitos: tener la documentación fiscal al día \n\n\n\n \n\n\n\nCartel\n\n\n\nFeria Comercial y de Turismo\n\n\n\n \n\n\n\nComo llegar a la Feria Comercial y de Turismo\n\n\n\nPuerto de Sagunto es una ciudad costera con gran tradición industrial y comercial\, muy vinculada al turismo y al comercio de proximidad. Forma parte del municipio de Sagunto y cuenta con una intensa vida social y cultural durante todo el año. \n\n\n\n\n\n \n\n\n\n \n\n\n\n \n\n\n\nMercados Medievales 2026: Fechas y Localidades Confirmadas\n\n\n\n\n\n\n\nEspaña cuenta con una de las agendas de ferias temáticas más ricas del mundo\, combinando gastronomía tradicional\, artesanía de autor y espectáculos en vivo. Si buscas un plan diferente para el fin de semana o quieres conocer el patrimonio de una forma única\, esta es tu guía definitiva. Leer más \n\n\n\nPara más información puedes consultar :\n\n\n\n\nPuedes Consultar en esté enlace las  Ferias y Mercados en España\n\n\n\nHaz clic en ESTE enlace :  Conoce los Organizadores de Mercados y Ferias\n\n\n\n\n¿Te apuntas? Síguenos y no te pierdas de nada.\n\n\n\n\nTelegram\n\n\n\nNewsletter\n\n\n\nWhatsApp\n\n\n\nInstagram\n\n\n\nPor supuesto en Facebook\n\n\n\n\nEn Resumen…
URL:https://demercadosmedievales.info/mercadomedieval/feria-comercial-y-de-turismo-puerto-de-sagunto-2026/
LOCATION:Puerto de Sagunto (Valencia) (***)\, en el Puerto de Sagunto\, Sagunto\, Valencia\, España
CATEGORIES:Comunidad valenciana,Feria Comercial y de Turismo,Valencia
ATTACH;FMTTYPE=image/jpeg:https://demercadosmedievales.info/wp-content/uploads/2026/03/feria_comercio_sagunto_fb.jpg
ORGANIZER;CN="ASOCIACION DE COMERCIANTES del Puerto de Sagunto":MAILTO:acpsferia@yahoo.es
GEO:39.6644972;-0.2268113
X-APPLE-STRUCTURED-LOCATION;VALUE=URI;X-ADDRESS=Puerto de Sagunto (Valencia) (***) en el Puerto de Sagunto Sagunto Valencia España;X-APPLE-RADIUS=500;X-TITLE=en el Puerto de Sagunto:geo:-0.2268113,39.6644972
END:VEVENT
END:VCALENDAR