BEGIN:VCALENDAR
VERSION:2.0
PRODID:-//Mercados Medievales - ECPv6.15.20//NONSGML v1.0//EN
CALSCALE:GREGORIAN
METHOD:PUBLISH
X-ORIGINAL-URL:https://demercadosmedievales.info
X-WR-CALDESC:Eventos para Mercados Medievales
REFRESH-INTERVAL;VALUE=DURATION:PT1H
X-Robots-Tag:noindex
X-PUBLISHED-TTL:PT1H
BEGIN:VTIMEZONE
TZID:Europe/Madrid
BEGIN:DAYLIGHT
TZOFFSETFROM:+0100
TZOFFSETTO:+0200
TZNAME:CEST
DTSTART:20230326T010000
END:DAYLIGHT
BEGIN:STANDARD
TZOFFSETFROM:+0200
TZOFFSETTO:+0100
TZNAME:CET
DTSTART:20231029T010000
END:STANDARD
BEGIN:DAYLIGHT
TZOFFSETFROM:+0100
TZOFFSETTO:+0200
TZNAME:CEST
DTSTART:20240331T010000
END:DAYLIGHT
BEGIN:STANDARD
TZOFFSETFROM:+0200
TZOFFSETTO:+0100
TZNAME:CET
DTSTART:20241027T010000
END:STANDARD
BEGIN:DAYLIGHT
TZOFFSETFROM:+0100
TZOFFSETTO:+0200
TZNAME:CEST
DTSTART:20250330T010000
END:DAYLIGHT
BEGIN:STANDARD
TZOFFSETFROM:+0200
TZOFFSETTO:+0100
TZNAME:CET
DTSTART:20251026T010000
END:STANDARD
END:VTIMEZONE
BEGIN:VEVENT
DTSTART;VALUE=DATE:20240426
DTEND;VALUE=DATE:20240429
DTSTAMP:20260425T230340
CREATED:20240311T064453Z
LAST-MODIFIED:20240311T064453Z
UID:10001016-1714089600-1714348799@demercadosmedievales.info
SUMMARY:FERIA DEL COMERCIO Y TURISMO SAGUNTO (VALENCIA) 2024
DESCRIPTION:Asociación de comerciantes organiza la FERIA DEL COMERCIO Y TURISMO SAGUNTO \, los dias 26 al 28 de Abril. Inscripciones hasta el 24 de Abril. \n  \n\n\n\n\n\n\n\n\n✨Nombre del Evento*\n\n\n\n\nFERIA DEL COMERCIO Y TURISMO SAGUNTO\n\n\n\n\n\n\n\n\n\n\n\n\n\nDetalles del Mercado o Feria\n\n\n\n\n\n\n\n\n\n📅 Cual es la fecha de celebración ?\n\n\n\n\nDEL 26 AL 28 DE ABRIL\n\n\n\n\n\n\n\n\n🗓 Hasta que fecha se pueden inscribir los artesanos y mercaderes ?\n\n\n\n\nHASTA EL 24 DE ABRIL\n\n\n\n\n\n\n\n\n🏡 Donde se va a celebrar ? Localidad y provincia\n\n\n\n\nPUERTO DE SAGUNTO PROVINCIA DE VALENCIA\n\n\n\n\n\n\n\n\n📍 Cual será la ubicación dentro de la localidad (calle\, Plaza\, vía\, etc.)\n\n\n\n\nAVENIDA ADOLFO SUAREZ\n\n\n\n\n\n\n\n\n💬 Descripción del Evento : (Indica la temática\, características\, etc.)\n\n\n\n\nCOMERCIO\, ARTESANIA Y TURISMO\n\n\n\n\n\n\n\n\n🗓 Dia y hora de Montaje :\n\n\n\n\n26 DE ABRIL 9 DE LA MAÑANA\n\n\n\n\n\n\n\n\n⏰ Fecha y hora de Inauguración\n\n\n\n\n26 DE ABRIL A LAS 18.30H\n\n\n\n\n\n\n\n\n📋 Servicios que proporcionara el organizador a los artesanos y mercaderes participantes \n\n\n\n\n\n\n\n\n\n\n\n\n\n\n\n\n\n\n\nElectricidad\n\n\n\n\n\n\n\n\n\n\n\n\n\n\n\n\nInformación sobre el organizador : \n\n\n\n\n\n\n\n\n⚜ Quien organiza la Feria y/o Mercado ?\n\n\n\n\nASOCIACION DE COMERCIANTES\n\n\n\n\n\n\n\n\n📞Teléfono de contacto :\n\n\n\n\n607613053 – 677247741\n\n\n\n\n\n\n\n\n💌 Email de contacto : *\n\n\n\n\nacpsferia@yahoo.es\n\n\n\n\n\n\n\n\n\n\n\n\n\n\n\n\n\n\n\nCuales son los Requisitos de participación ?\n\n\n\n\npapeles en regla\n\n\n\n\n\n\n\n\n🏷Precio del metro lineal\, parada de madera\, carpa ?\n\n\n\n\n30€ metro . Paradas de madera 3 x 2\,25m (consultar precio)\n\n\n\n\n\n\n\n\n\n\n\n\n\nCalendario de Mercado Medieval y Ferias 2024 :\n\n\nEnero\nFebrero\nMarzo\nAbril\nMayo\nJunio\nJulio\nAgosto\nSeptiembre\nOctubre\nNoviembre\nDiciembre\n\n Las Ferias y mercados medievales\n\n\nLas ferias medievales son eventos que recrean la atmósfera de la Edad Media. Por lo general\, se llevan a cabo en pueblos o ciudades\, y presentan puestos de vendedores que venden artesanías\, alimentos y bebidas. También puede haber entretenimiento\, como justas\, música y baile. . \nLos Mercados  Medievales son una forma popular de aprender sobre la historia de la Edad Media y experimentar la cultura de la época. También son una actividad divertida para toda la familia. \nFERIA DEL COMERCIO Y TURISMO\, COMERCIO\, ARTESANIA Y TURISMO\,puerto de sagunto\, valencia\,2024\,convocatoria\,plazo\,inscripcion\,
URL:https://demercadosmedievales.info/mercadomedieval/feria-del-comercio-y-turismo-sagunto-valencia-2024/
LOCATION:Puerto de Sagunto (Valencia) (***)\, en el Puerto de Sagunto\, Sagunto\, Valencia\, España
CATEGORIES:Feria comercial,Valencia
ATTACH;FMTTYPE=image/jpeg:https://demercadosmedievales.info/wp-content/uploads/2024/03/feria_de_comercio_y_turismo_sagunto_cartel_2024_w.jpg
ORGANIZER;CN="ASOCIACION DE COMERCIANTES del Puerto de Sagunto":MAILTO:acpsferia@yahoo.es
GEO:39.6644972;-0.2268113
X-APPLE-STRUCTURED-LOCATION;VALUE=URI;X-ADDRESS=Puerto de Sagunto (Valencia) (***) en el Puerto de Sagunto Sagunto Valencia España;X-APPLE-RADIUS=500;X-TITLE=en el Puerto de Sagunto:geo:-0.2268113,39.6644972
END:VEVENT
END:VCALENDAR