BEGIN:VCALENDAR
VERSION:2.0
PRODID:-//Mercados Medievales - ECPv6.15.20//NONSGML v1.0//EN
CALSCALE:GREGORIAN
METHOD:PUBLISH
X-ORIGINAL-URL:https://demercadosmedievales.info
X-WR-CALDESC:Eventos para Mercados Medievales
REFRESH-INTERVAL;VALUE=DURATION:PT1H
X-Robots-Tag:noindex
X-PUBLISHED-TTL:PT1H
BEGIN:VTIMEZONE
TZID:Europe/Madrid
BEGIN:DAYLIGHT
TZOFFSETFROM:+0100
TZOFFSETTO:+0200
TZNAME:CEST
DTSTART:20250330T010000
END:DAYLIGHT
BEGIN:STANDARD
TZOFFSETFROM:+0200
TZOFFSETTO:+0100
TZNAME:CET
DTSTART:20251026T010000
END:STANDARD
BEGIN:DAYLIGHT
TZOFFSETFROM:+0100
TZOFFSETTO:+0200
TZNAME:CEST
DTSTART:20260329T010000
END:DAYLIGHT
BEGIN:STANDARD
TZOFFSETFROM:+0200
TZOFFSETTO:+0100
TZNAME:CET
DTSTART:20261025T010000
END:STANDARD
BEGIN:DAYLIGHT
TZOFFSETFROM:+0100
TZOFFSETTO:+0200
TZNAME:CEST
DTSTART:20270328T010000
END:DAYLIGHT
BEGIN:STANDARD
TZOFFSETFROM:+0200
TZOFFSETTO:+0100
TZNAME:CET
DTSTART:20271031T010000
END:STANDARD
END:VTIMEZONE
BEGIN:VEVENT
DTSTART;TZID=Europe/Madrid:20260508T000000
DTEND;TZID=Europe/Madrid:20260510T235959
DTSTAMP:20260421T174159
CREATED:20260129T200759Z
LAST-MODIFIED:20260130T103837Z
UID:10003178-1778198400-1778457599@demercadosmedievales.info
SUMMARY:Mercado Medieval de Villanueva de Jiloca 2026 Zaragoza
DESCRIPTION:El Mercado Medieval de Villanueva de Jiloca se celebrará los días 8\, 9 y 10 de mayo\, ofreciendo un fin de semana lleno de color\, sabores y oficios tradicionales. \n\n\n\n\n\n\n\n \n\n\n\n \n\n\n\nVillanueva de Jiloca\, donde la historia cobra vida\n\n\n\nEl Mercado Medieval de Villanueva de Jiloca se celebrará los días 8\, 9 y 10 de mayo\, ofreciendo un fin de semana lleno de color\, sabores y oficios tradicionales. El evento arrancará el viernes por la tarde\, continuará durante todo el sábado y finalizará el domingo al mediodía\, permitiendo disfrutar del mercado en distintos momentos del fin de semana. \n\n\n\nUbicado en el centro de Villanueva de Jiloca\, el mercado contará con una cuidada selección de solo 12 puestos\, lo que garantiza un ambiente cercano y de calidad. Los visitantes podrán encontrar artesanía\, mercaderías tradicionales\, alimentación y gastronomía\, en un entorno pensado para el paseo y la convivencia. \n\n\n\nEl montaje de los puestos se realizará el viernes por la mañana\, mientras que el desmontaje tendrá lugar el domingo tras finalizar el mercado al mediodía. Además\, la organización ofrece agua\, electricidad y vigilancia disuasoria\, asegurando comodidad y seguridad para los participantes. \n\n\n\nEste mercado es totalmente gratuito para los expositores\, una oportunidad única para artesanos y mercaderes que deseen participar en un evento con encanto y aforo limitado. \n\n\n\n \n\n\n\nInformación del Mercado Medieval de Villanueva de Jiloca\n\n\n\n\nEvento:  Mercado Medieval\n\n\n\nFechas:  8\, 9 y 10 de Mayo (viernes tarde\, sábado y domingo hasta medio día) del 2026\n\n\n\nHorario:  Viernes por la tarde\, Sábado todo el día y Domingo hasta el mediodía\n\n\n\nUbicación:  en centro de Villanueva de Jiloca \, ZARAGOZA\n\n\n\nMontaje:  Viernes por la mañana\n\n\n\nDesmontaje:   Domingo después  del mediodía al finalizar el mercado.\n\n\n\nInauguración:  Viernes por la tarde\n\n\n\nPeriodicidad:  Anual\n\n\n\nProductos permitidos: artesanía\, mercaderías varias\, alimentación\, gastronomía\n\n\n\nServicios incluidos: agua\, electricidad\, vigilancia disuasoria\n\n\n\nPrecio : ES UN MERCADO GRATUITO Y SOLO PARA 12 PUESTOS\n\n\n\nOrganizador del Mercado Medieval de Villanueva de Jiloca : Michel (Professional History).\n\nphartesanos@gmail.com \n\n\n\n\n\n\n \n\n\n\n \n\n\n\n\n\n\n\n \n\n\n\nConoces a Villanueva de Jiloca ?\n\n\n\nVillanueva de Jiloca\, situada en la provincia de Zaragoza\, es una localidad tranquila y acogedora\, ideal para eventos de pequeño formato. Se accede fácilmente por carretera N-234 desde Zaragoza\, lo que facilita la llegada tanto de visitantes como de participantes durante el fin de semana. Se sitúa a 91 kilómetros de la capital provincial.  \n\n\n\n\n\n \n\n\n\n \n\n\n\nMercados Medievales 2026: Fechas y Localidades Confirmadas\n\n\n\n\n\n\n\nEspaña cuenta con una de las agendas de ferias temáticas más ricas del mundo\, combinando gastronomía tradicional\, artesanía de autor y espectáculos en vivo. Si buscas un plan diferente para el fin de semana o quieres conocer el patrimonio de una forma única\, esta es tu guía definitiva. Leer más \n\n\n\nPara más información puedes consultar :\n\n\n\n\nPuedes Consultar en esté enlace las  Ferias y Mercados en España\n\n\n\nHaz clic en ESTE enlace :  Conoce los Organizadores de Mercados y Ferias\n\n\n\n\n¿Te apuntas? Síguenos y no te pierdas de nada.\n\n\n\n\nTelegram\n\n\n\nNewsletter\n\n\n\nWhatsApp\n\n\n\nInstagram\n\n\n\nPor supuesto en Facebook\n\n\n\n\nEn Resumen….
URL:https://demercadosmedievales.info/mercadomedieval/mercado-medieval-de-villanueva-de-jiloca-2026/
LOCATION:Villanueva de Jiloca (Zaragoza)\, Villanueva de Jiloca\, Zaragoza\, Spain
CATEGORIES:Aragon,Mercado Medieval,Zaragoza
ATTACH;FMTTYPE=image/jpeg:https://demercadosmedievales.info/wp-content/uploads/2026/01/medieval_villanueva_jiloca_2026_fb.jpg
ORGANIZER;CN="Michel - Recreaciones hist%C3%B3ricas eventos y espect%C3%A1culos":MAILTO:phartesanos@gmail.com
END:VEVENT
BEGIN:VEVENT
DTSTART;TZID=Europe/Madrid:20260516T000000
DTEND;TZID=Europe/Madrid:20260516T235959
DTSTAMP:20260421T174159
CREATED:20260201T204600Z
LAST-MODIFIED:20260201T204732Z
UID:10003191-1778889600-1778975999@demercadosmedievales.info
SUMMARY:Mercado Pirata en Movera 2026 | Zaragoza
DESCRIPTION:Mercado Pirata en Movera el 16 de mayo de 2026 con artesanía\, gastronomía y participación gratuita en Zaragoza. \n\n\n\n\n\n\n\n \n\n\n\nMercado Pirata en Movera\n\n\n\nEl 16 de mayo de 2026\, el barrio zaragozano de Movera se transformará en un auténtico puerto pirata con la celebración del Mercado Pirata\, una cita llena de color\, sabor y espíritu aventurero para disfrutar en familia. \n\n\n\nÍndice Mercado Pirata en MoveraMovera iza las velas y vive la aventura pirataArtesanos y Mercaderes\, Información básicaSobre Movera\, barrio de ZaragozaMercados Medievales 2026: Fechas y Localidades ConfirmadasPara más información puedes consultar :¿Te apuntas? Síguenos y no te pierdas de nada.En Resumen…\n\n\n\nMovera iza las velas y vive la aventura pirata\n\n\n\nEl Mercado Pirata de Movera llega para conquistar a vecinos y visitantes con un ambiente desenfadado y temático que convertirá las calles en un animado enclave pirata. A lo largo de la jornada\, el público podrá recorrer puestos de artesanía\, complementos\, alimentación y gastronomía\, ideales para descubrir productos únicos y saborear propuestas para todos los gustos. \n\n\n\nLa participación será gratuita en el Mercado Pirata en Movera\, además de contar con servicios incluidos de agua y luz\, facilitando la comodidad de artesanos y mercaderes. Todo ello bajo la organización de Michel (Professional History)\, con experiencia en mercados temáticos y eventos al aire libre. \n\n\n\n \n\n\n\nArtesanos y Mercaderes\, Información básica\n\n\n\n\nEvento:  Mercado Pirata en Movera\n\n\n\nTemática : Pirata\n\n\n\nFechas:  16 de Mayo del 2026\n\n\n\nUbicación:  en Movera que es un barrio de Zaragoza capital\, ZARAGOZA\n\n\n\nProductos permitidos:  Alimentación\, Gastronomía\, Artesanía y complementos.\n\n\n\nServicios incluidos: Agua\, Luz\n\n\n\nPrecio : Gratuito \n\n\n\nOrganiza : Michel (Professional History)\n\nContacto : phartesanos@gmail.com\n\n\n\n\n\n\n \n\n\n\nSobre Movera\, barrio de Zaragoza\n\n\n\nMovera es un barrio rural perteneciente a Zaragoza capital\, situado al noreste de la ciudad. Se puede llegar fácilmente en coche desde el centro de Zaragoza o mediante transporte público urbano\, lo que lo convierte en un enclave accesible y muy frecuentado durante eventos populares. \n\n\n\n\n\nMercado Pirata\n\n\n\n \n\n\n\nMercados Medievales 2026: Fechas y Localidades Confirmadas\n\n\n\n\n\n\n\nEspaña cuenta con una de las agendas de ferias temáticas más ricas del mundo\, combinando gastronomía tradicional\, artesanía de autor y espectáculos en vivo. Si buscas un plan diferente para el fin de semana o quieres conocer el patrimonio de una forma única\, esta es tu guía definitiva. Leer más \n\n\n\nPara más información puedes consultar :\n\n\n\n\nPuedes Consultar en esté enlace las  Ferias y Mercados en España\n\n\n\nHaz clic en ESTE enlace :  Conoce los Organizadores de Mercados y Ferias\n\n\n\n\n¿Te apuntas? Síguenos y no te pierdas de nada.\n\n\n\n\nTelegram\n\n\n\nNewsletter\n\n\n\nWhatsApp\n\n\n\nInstagram\n\n\n\nPor supuesto en Facebook\n\n\n\n\nEn Resumen…
URL:https://demercadosmedievales.info/mercadomedieval/mercado-pirata-en-movera-2026-zaragoza/
LOCATION:Movera (Zaragoza)\, Movera\, barrio de Zaragoza\, Zaragoza
CATEGORIES:Aragon,Mercado pirata,Zaragoza
ATTACH;FMTTYPE=image/jpeg:https://demercadosmedievales.info/wp-content/uploads/2026/02/pirata_movera_2026_fb.jpg
ORGANIZER;CN="Michel - Recreaciones hist%C3%B3ricas eventos y espect%C3%A1culos":MAILTO:phartesanos@gmail.com
END:VEVENT
END:VCALENDAR