BEGIN:VCALENDAR
VERSION:2.0
PRODID:-//Mercados Medievales - ECPv6.15.20//NONSGML v1.0//EN
CALSCALE:GREGORIAN
METHOD:PUBLISH
X-WR-CALNAME:Mercados Medievales
X-ORIGINAL-URL:https://demercadosmedievales.info
X-WR-CALDESC:Eventos para Mercados Medievales
REFRESH-INTERVAL;VALUE=DURATION:PT1H
X-Robots-Tag:noindex
X-PUBLISHED-TTL:PT1H
BEGIN:VTIMEZONE
TZID:Europe/Madrid
BEGIN:DAYLIGHT
TZOFFSETFROM:+0100
TZOFFSETTO:+0200
TZNAME:CEST
DTSTART:20220327T010000
END:DAYLIGHT
BEGIN:STANDARD
TZOFFSETFROM:+0200
TZOFFSETTO:+0100
TZNAME:CET
DTSTART:20221030T010000
END:STANDARD
BEGIN:DAYLIGHT
TZOFFSETFROM:+0100
TZOFFSETTO:+0200
TZNAME:CEST
DTSTART:20230326T010000
END:DAYLIGHT
BEGIN:STANDARD
TZOFFSETFROM:+0200
TZOFFSETTO:+0100
TZNAME:CET
DTSTART:20231029T010000
END:STANDARD
BEGIN:DAYLIGHT
TZOFFSETFROM:+0100
TZOFFSETTO:+0200
TZNAME:CEST
DTSTART:20240331T010000
END:DAYLIGHT
BEGIN:STANDARD
TZOFFSETFROM:+0200
TZOFFSETTO:+0100
TZNAME:CET
DTSTART:20241027T010000
END:STANDARD
BEGIN:DAYLIGHT
TZOFFSETFROM:+0100
TZOFFSETTO:+0200
TZNAME:CEST
DTSTART:20250330T010000
END:DAYLIGHT
BEGIN:STANDARD
TZOFFSETFROM:+0200
TZOFFSETTO:+0100
TZNAME:CET
DTSTART:20251026T010000
END:STANDARD
END:VTIMEZONE
BEGIN:VEVENT
DTSTART;VALUE=DATE:20231221
DTEND;VALUE=DATE:20231224
DTSTAMP:20260420T051338
CREATED:20231125T102533Z
LAST-MODIFIED:20231125T102533Z
UID:10000726-1703116800-1703375999@demercadosmedievales.info
SUMMARY:Mercado navideño de Yuncos - Toledo - diciembre del 2023
DESCRIPTION:Fusión Medieval organizará un Mercado navideño en la plaza del Ayuntamiento de Yuncos\, será los días 21 al 23 de diciembre del 2023. \n \nMercado navideño de Yuncos\nLas fechas son 21 al 23 de diciembre del 2023 \nEn la localidad de Yuncos \, provincia de TOLEDO \nEl mercado navideño estará ubicado en la Plaza del Ayuntamiento \nEs organizado por   : FUSION MEDIEVAL S.L.\nY los datos de contacto son :\n\nAtención telefónica: de Lunes a  miércoles (a partir de las 14:30h)\njueves a Viernes de 9;30h a 13h y de 17h a 19h.\nOficina y WhatsApp:  628331034\nMóvil : 653969892\n\n  \nCartel del Mercado navideño\n\n \n  \nSobre Yuncos\n\nYuncos es un municipio y localidad española de la provincia de Toledo\, en la comunidad autónoma de Castilla-La Mancha. El término municipal\, ubicado en la comarca de La Sagra\, tiene una población de 10 630 habitantes. \nEl municipio se encuentra situado en la comarca de La Sagra y linda con las poblaciones de Illescas al norte\, Numancia de la Sagra al este\, Yuncler al sur\, y Cedillo del Condado al oeste\, todas de Toledo. \n\nSiempre a tu lado !!! \n  \n 
URL:https://demercadosmedievales.info/mercadomedieval/mercado-navideno-de-yuncos-toledo-diciembre-del-2023/
LOCATION:Yuncos (Toledo) (***)\, Yuncos\, Toledo\, 45210\, España
CATEGORIES:Fusion medieval,Mercados de navidad,Toledo
ATTACH;FMTTYPE=image/jpeg:https://demercadosmedievales.info/wp-content/uploads/2023/11/yuncos_mercado_navideno_2023_cartel_h.jpg
ORGANIZER;CN="Fusi%C3%B3n medieval s.l.":MAILTO:fusionservicios.tem@gmail.com
GEO:40.0883936;-3.8731663
END:VEVENT
BEGIN:VEVENT
DTSTART;TZID=Europe/Madrid:20240912T000000
DTEND;TZID=Europe/Madrid:20240915T235959
DTSTAMP:20260420T051338
CREATED:20240702T110316Z
LAST-MODIFIED:20240910T070211Z
UID:10001517-1726099200-1726444799@demercadosmedievales.info
SUMMARY:Programación Mercado Medieval de Yuncos (Toledo) 2024
DESCRIPTION:Del 12 al 15 de septiembre de 2024\, el municipio de Yuncos\, en la provincia de Toledo\, se transformará en un vibrante Mercado Medieval\, gracias a la organización de Fusión Medieval. \n \nTags:  Feria Medieval\,Convocatoria\,organizador\,montaje\,inscripciones\,cuando\,donde\,localización\,2024\,España \nMercado Medieval\nEste evento\, que se desarrollará de viernes a domingo\, promete transportar a los visitantes a una época de caballeros\, artesanos\, juglares y nobles\, brindando una experiencia única e inolvidable para todas las edades. Con un horario de 11h a 14:30 y de 6:30 a 10:30\, se inaugura el Viernes a las 6 de la tarde (El horario es aproximado). \nCartel\n \n Programación \n \nInformación básica del Mercado\nFecha de celebración Los dias 12 al 15 de septiembre  del  2024 \nDonde se realizaEn la localidad de Yuncos que pertenece a la provincia de  TOLEDO. \nUbicación del EventoEstará ubicado en el Parque del Prado. \nInformación del Organizador\nLa empresa organizadora es FUSION MEDIEVAL S.L. \nComo participarInformación e Inscripciones: \n\nAtención telefónica: de Lunes a  miércoles (a partir de las 14:30h)\njueves a Viernes de 9;30h a 13h y de 17h a 19h.\nOficina y WhatsApp:  628331034\nMóvil : 653969892\n\n  \nMás fechas . Puedes conocer mas ferias y mercados en está provincia\, consultando nuestra sección de Eventos en Toledo . Otros eventosConsulta Aquí otras ferias y mercados que organizará la empresa Fusión Medieval . Otros mercados temáticos y FeriasSi quieres conocer cuando se realizan más ferias y mercados\, puedes consultarlos visitando nuestro  Calendario de Eventos . \nAcerca de Yuncos\nYuncos es un municipio y localidad española de la provincia de Toledo\, en la comunidad autónoma de Castilla-La Mancha. El término municipal\, ubicado en la comarca de La Sagra\, tiene una población de 11 762 habitantes (INE 2023). El municipio se encuentra situado en la comarca de La Sagra y linda con las poblaciones de Illescas al norte\, Numancia de la Sagra al este\, Yuncler al sur\, y Cedillo del Condado al oeste\, todas de Toledo. \nCalendario 2024\nSobre los Mercados Medievales\nLas Ferias y mercados medievales son eventos populares que recrean el ambiente y la atmósfera de la Edad Media. Estos eventos suelen tener lugar en diferentes partes del mundo y atraen a numerosos visitantes que desean sumergirse en la historia y disfrutar de una experiencia única. Las ferias y mercados medievales suelen tener una gran cantidad de visitantes\, ya que ofrecen una oportunidad única de sumergirse en la historia y disfrutar de una experiencia diferente. También son muy populares entre los amantes de la cultura medieval\, los aficionados a la historia y las familias que buscan una actividad divertida y educativa. Consulta nuestro amplio calendario de eventos \nTags:  Feria Medieval\,Convocatoria\,2024\,Yuncos\,Castilla y León\, España
URL:https://demercadosmedievales.info/mercadomedieval/mercado-medieval-de-yuncos-toledo-septiembre-2024/
LOCATION:Yuncos (Toledo) (***)\, Yuncos\, Toledo\, 45210\, España
CATEGORIES:Cartel,Mercado Medieval,Programación,Toledo
ATTACH;FMTTYPE=image/jpeg:https://demercadosmedievales.info/wp-content/uploads/2024/07/medieval_yuncos_f-1.jpg
ORGANIZER;CN="Fusi%C3%B3n medieval s.l.":MAILTO:fusionservicios.tem@gmail.com
GEO:40.0883936;-3.8731663
END:VEVENT
BEGIN:VEVENT
DTSTART;TZID=Europe/Madrid:20241220T000000
DTEND;TZID=Europe/Madrid:20241222T235959
DTSTAMP:20260420T051338
CREATED:20241111T184925Z
LAST-MODIFIED:20241217T161425Z
UID:10001924-1734652800-1734911999@demercadosmedievales.info
SUMMARY:Mercado de Navidad de Yuncos 2024 (Toledo)
DESCRIPTION:¡La Plaza San Blas de Yuncos se llena de magia navideña! ✨ Del 20 al 22 de diciembre\, disfruta del mercado navideño. ¡Ve a visitarlos!  \n\n\n \n\n\n\n\n\n\n\n \n\n\n\n\nFerias de NavidadLlegan las fechas de los mercados navideños\,  consulta el calendario de Ferias Y Mercados de navidad . \n\n\n\n\n \n\n\n\nMercado Navideño\n\n\n\nHorario : Viernes se inaugura a las 18h\, Sábado y Domingo 11 a 14h y 17:30 a 21:30h en la Plaza San Blas \n\n\n\n \n\n\n\nCartel \n\n\n\n \n\n\n\n\n\n\n\nProgramación \n\n\n\nViernes 20 de diciembre \n\n\n\n\n12:00 PM: Vino español para jubilados. Lugar: Centro San Blas.\n\n\n\n18:00 horas: Apertura del Mercado Navideño (días 20\, 21 y 22 de diciembre de 11:00 a 14:00 horas y de 17:30 a 21:30 horas). Ubicación: Plaza de San Blas.\n\n\n\n19:30 horas: Concierto navideño de la Asociación Cultural-Musical “El Junco y la Rueda”. Lugar: Carpa de la Plaza de Armas.\n\n\n\n20:30 horas: Musical infantil “Una Navidad Mágica”. Lugar: Carpa Plaza Principal.\n\n\n\n\nSábado 21 de diciembre \n\n\n\n\n11:30 a 14:30 y 16:00 a 19:00 horas: Pista de hielo e inflables. Ubicación: Plaza de Armas.\n\n\n\n13:00 horas: Vermut navideño con flamenco-pop a cargo de David de Cano y comida popular. A continuación\, música de DJ. Lugar: Plaza Mayor (en colaboración con la Hermandad de Jesús Nazareno y Cristo Yacente).\n\n\n\n17:00 a 20:00 horas: Fiesta infantil con espacio adaptado para niños con TEA. Ubicación: Plaza Principal.\n\n\n\n19:00 h: Papá Noel con buzón. Ubicación: Carpa de la Plaza Mayor.\n\n\n\n19:30 horas: Show infantil con payasos\, magia y canciones “Navidad divertida”. Lugar: Carpa Plaza Principal.\n\n\n\n\nDomingo 22 de diciembre \n\n\n\n\n11:30 a 14:30 y 16:00 a 19:00 horas: Pista de hielo e inflables. Ubicación: Plaza de Armas.\n\n\n\n13:00 h: Zambomba flamenca con comida popular. Un ambiente festivo con música tradicional y comida para todos. 18:30 h: Concierto familiar con Ismael Dorado. Una oportunidad para disfrutar de buena música en compañía de toda la familia.\n\n\n\n\nLunes 23 de diciembre: \n\n\n\n\nTodo el día: Exposición del concurso de postales navideñas. Una muestra de la creatividad de los vecinos.\n\n\n\n10:00 h: Taller infantil «Navi-Chef». Los más pequeños podrán divertirse cocinando galletas y otros dulces navideños.\n\n\n\n11:30 a 14:30 h y de 16:00 a 19:00 h: Pista de hielo e hinchables. Diversión asegurada para todas las edades.\n\n\n\n18:00 h: Concurso de fachadas navideñas. Una iniciativa para decorar las casas y el pueblo con motivos navideños.\n\n\n\n\nViernes 27 de diciembre: \n\n\n\n\nExcursión a Puy du Fou España. Una oportunidad para conocer este espectacular parque temático.\n\n\n\n18:00 h: Cuentacuentos navideños. Una actividad ideal para los más pequeños.\n\n\n\n\nSábado 28 de diciembre: \n\n\n\n\n17:30 h: II Santa’s Run Villa de Yuncos. Una carrera navideña para los más deportistas.\n\n\n\n21:00 h: Pre-uvas con música y animación. Un aperitivo antes de la gran noche.\n\n\n\n\nMartes 31 de diciembre: \n\n\n\n\n01:00 h: Nochevieja. Fiesta con cotillón y música para celebrar la llegada del nuevo año.\n\n\n\n\nEnero \n\n\n\nViernes 3 de enero: \n\n\n\n\n11:00 a 14:00 h: Visita de los Reyes Magos y talleres infantiles.\n\n\n\n18:30 h: Gran gala de la asociación de jubilados.\n\n\n\n\nDomingo 5 de enero: \n\n\n\n\nMañana: Visita de los Reyes Magos a la residencia de mayores y centro de día. \n\n\n\nTarde: Cabalgata de Reyes. El momento más esperado por los niños.\n\n\n\n\nInformación básica del Mercado\n\n\n\nFecha de celebración Los dias 20 al 22 de Diciembre  del  2024 \n\n\n\nDonde se realizaEn la localidad de Yuncos que pertenece a la provincia de TOLEDO   /  Yuncos es un municipio y localidad española de la provincia de Toledo\, en la comunidad autónoma de Castilla-La Mancha. El término municipal\, ubicado en la comarca de La Sagra\, tiene una población de 11 762 habitantes.  \n\n\n\nUbicación del EventoEstará ubicado en Plaza de San Blas de Yuncos \n\n\n\nInformación del Organizador\n\n\n\nLa empresa organizadora es FUSION MEDIEVAL S.L. \n\n\n\nComo participarInformación e Inscripciones: \n\n\n\n\nAtención telefónica: de Lunes a  miércoles (a partir de las 14:30h)\n\n\n\njueves a Viernes de 9;30h a 13h y de 17h a 19h.\n\n\n\nOficina y WhatsApp:  628331034\n\n\n\nMóvil : 653969892\n\n\n\n\nMás fechas . Puedes conocer mas ferias y mercados en está provincia\, consultando nuestra sección de Eventos en Toledo .  \n\n\n\nOtros eventosConsulta Aquí otras ferias y mercados que organizará la empresa Fusión Medieval . \n\n\n\notros mercados temáticos y FeriasSi quieres conocer cuando se realizan más ferias y mercados\, puedes consultarlos visitando nuestro   Calendario de Eventos \n\n\n\nCalendario 2024\n\n\n\nCalendario 2025\n\n\n\nSobre los Mercados Medievales\n\n\n\nLas ferias medievales son eventos que recrean la atmósfera de la Edad Media. Por lo general\, se llevan a cabo en pueblos o ciudades\, y presentan puestos de vendedores que venden artesanías\, alimentos y bebidas. También puede haber entretenimiento\, como justas\, música y baile.  \n\n\n\n\n\n\n\nOrganizador\n\n\n\n\n\nLocalización\n\n\n\n Yuncos es un municipio y localidad española de la provincia de Toledo\, en la comunidad autónoma de Castilla-La Mancha. El término municipal\, ubicado en la comarca de La Sagra\, tiene una población de 11 762 habitantes.
URL:https://demercadosmedievales.info/mercadomedieval/mercado-de-navidad-de-yuncos-2024-toledo/
LOCATION:Yuncos (Toledo) (***)\, Yuncos\, Toledo\, 45210\, España
CATEGORIES:Cartel,Mercados de navidad,Toledo
ATTACH;FMTTYPE=image/jpeg:https://demercadosmedievales.info/wp-content/uploads/2024/11/navidad_yuncos_cartel.jpeg
ORGANIZER;CN="Fusi%C3%B3n medieval s.l.":MAILTO:fusionservicios.tem@gmail.com
GEO:40.0883936;-3.8731663
END:VEVENT
END:VCALENDAR