BEGIN:VCALENDAR
VERSION:2.0
PRODID:-//Mercados Medievales - ECPv6.15.20//NONSGML v1.0//EN
CALSCALE:GREGORIAN
METHOD:PUBLISH
X-ORIGINAL-URL:https://demercadosmedievales.info
X-WR-CALDESC:Eventos para Mercados Medievales
REFRESH-INTERVAL;VALUE=DURATION:PT1H
X-Robots-Tag:noindex
X-PUBLISHED-TTL:PT1H
BEGIN:VTIMEZONE
TZID:Europe/Madrid
BEGIN:DAYLIGHT
TZOFFSETFROM:+0100
TZOFFSETTO:+0200
TZNAME:CEST
DTSTART:20230326T010000
END:DAYLIGHT
BEGIN:STANDARD
TZOFFSETFROM:+0200
TZOFFSETTO:+0100
TZNAME:CET
DTSTART:20231029T010000
END:STANDARD
BEGIN:DAYLIGHT
TZOFFSETFROM:+0100
TZOFFSETTO:+0200
TZNAME:CEST
DTSTART:20240331T010000
END:DAYLIGHT
BEGIN:STANDARD
TZOFFSETFROM:+0200
TZOFFSETTO:+0100
TZNAME:CET
DTSTART:20241027T010000
END:STANDARD
BEGIN:DAYLIGHT
TZOFFSETFROM:+0100
TZOFFSETTO:+0200
TZNAME:CEST
DTSTART:20250330T010000
END:DAYLIGHT
BEGIN:STANDARD
TZOFFSETFROM:+0200
TZOFFSETTO:+0100
TZNAME:CET
DTSTART:20251026T010000
END:STANDARD
END:VTIMEZONE
BEGIN:VEVENT
DTSTART;TZID=Europe/Madrid:20241115T000000
DTEND;TZID=Europe/Madrid:20241117T235959
DTSTAMP:20260420T074857
CREATED:20241025T120110Z
LAST-MODIFIED:20241111T113833Z
UID:10001866-1731628800-1731887999@demercadosmedievales.info
SUMMARY:Mercado Medieval La Orden De Malta En Villanueva Del Río Y Minas 2024 (Sevilla)
DESCRIPTION:Mercado Medieval gratuito durante la celebración de las XIII Jornadas de la Orden del Malta con puestos artesanales\, atracciones\, pasacalles\, espectáculos.  \n\n\n \n\n\n\n\n\n\n\n\nFerias de NavidadLlegan las fechas de los mercados navideños\,  consulta el calendario de Ferias de navidad .\n\n\n\n\nMercado Medieval\n\n\n\nSeguridad desde el montaje \,agua\, luz\, puestos artesanales\, atracciones\, pasacalles\, espectáculos \n\n\n\n\n\n\n\n. \n\n\n\nCartel y Programación – Próximamente\n\n\n\n** Próximamente dispondremos del cartel y del programa con las actividades previstas. \n\n\n\nInformación básica del Mercado\n\n\n\nFecha de celebración Los dias 15 al 17 de Noviembre del  2024 \n\n\n\nDonde se realizaEn la localidad de Villanueva del Río y Minas  que pertenece a la provincia de SEVILLA / Villanueva del Río y Minas es un municipio español de la provincia de Sevilla\, Andalucía. En 2016 contaba con 4906 habitantes.​ Su extensión superficial es de 154 km² y tiene una densidad de 35\,08 hab/km². Se encuentra situada a una altitud de 72 metros y a 42 kilómetros de la capital de provincia\, Sevilla. \n\n\n\nUbicación del EventoEstará ubicado en el centro de la localidad \n\n\n\nInformación del Organizador\n\n\n\nLa empresa organizadora es ADONAY EVENTOS \n\n\n\nComo participar \n\n\n\nPara más Información e Inscripciones:   Teléfono / WhatsApp 695022197 \n\n\n\nOtros eventosConsulta aquí otras ferias y mercados que organizará la empresa Adonay Eventos \n\n\n\notros mercados temáticos y FeriasSi quieres conocer cuando se realizan más ferias y mercados\, puedes consultarlos visitando nuestro   Calendario de Eventos \n\n\n\nCalendario 2024\n\n\n\nSobre los Mercados Medievales\n\n\n\nLas ferias medievales son eventos que recrean la atmósfera de la Edad Media. Por lo general\, se llevan a cabo en pueblos o ciudades\, y presentan puestos de vendedores que venden artesanías\, alimentos y bebidas. También puede haber entretenimiento\, como justas\, música y baile. \n\n\n\n\n\n\n\nOrganizador\n\n\n\n\n\nLocalización\n\n\n\nVillanueva del Río y Minas es un municipio español de la provincia de Sevilla\, Andalucía. En 2016 contaba con 4906 habitantes.​ Su extensión superficial es de 154 km² y tiene una densidad de 35\,08 hab/km². Se encuentra situada a una altitud de 72 metros y a 42 kilómetros de la capital de provincia\, Sevilla.
URL:https://demercadosmedievales.info/mercadomedieval/mercado-medieval-la-orden-de-malta-en-villanueva-del-rio-y-minas-2024-sevilla/
LOCATION:Villanueva del Río y Minas (Sevilla) (***)\, en el centro\, Villanueva del Rio y Minas\, Sevilla\, España
CATEGORIES:Cartel,Mercado Medieval,Sevilla
ATTACH;FMTTYPE=image/jpeg:https://demercadosmedievales.info/wp-content/uploads/2024/10/jornadas_medieval_villanueva_rio_minas.jpg
ORGANIZER;CN="Recreaciones Adonay eventos":MAILTO:adonayrecreaciones@gmail.com
GEO:37.6554687;-5.7122139
X-APPLE-STRUCTURED-LOCATION;VALUE=URI;X-ADDRESS=Villanueva del Río y Minas (Sevilla) (***) en el centro Villanueva del Rio y Minas Sevilla España;X-APPLE-RADIUS=500;X-TITLE=en el centro:geo:-5.7122139,37.6554687
END:VEVENT
BEGIN:VEVENT
DTSTART;TZID=Europe/Madrid:20241025T000000
DTEND;TZID=Europe/Madrid:20241027T235959
DTSTAMP:20260420T074857
CREATED:20241008T124320Z
LAST-MODIFIED:20241025T120458Z
UID:10001792-1729814400-1730073599@demercadosmedievales.info
SUMMARY:Aplazado - MERCADO MEDIEVAL LA ORDEN DE MALTA  en Villanueva del Río y Minas 2024 (Sevilla)
DESCRIPTION:Mercado Medieval gratuito durante la celebración de las XIII Jornadas de la Orden del Malta con puestos artesanales\, atracciones\, pasacalles\, espectáculos.  \n\n\n\n\n\n\nMercado Medieval\nSeguridad desde el montaje \,agua\, luz\, puestos artesanales\, atracciones\, pasacalles\, espectáculos. \nCartel \n \nProgramación – Próximamente\n** Próximamente dispondremos del cartel y del programa con las actividades previstas. \nInformación básica del Mercado\nFecha de celebración Los dias 25 al 27 de octubre   del  2024 \nDonde se realizaEn la localidad de Villanueva del Río y Minas  que pertenece a la provincia de SEVILLA / Villanueva del Río y Minas es un municipio español de la provincia de Sevilla\, Andalucía. En 2016 contaba con 4906 habitantes.​ Su extensión superficial es de 154 km² y tiene una densidad de 35\,08 hab/km². Se encuentra situada a una altitud de 72 metros y a 42 kilómetros de la capital de provincia\, Sevilla. \nUbicación del EventoEstará ubicado en el centro de la localidad \nInformación del Organizador\nLa empresa organizadora es ADONAY EVENTOS \nComo participar \nPara más Información e Inscripciones:   Teléfono / WhatsApp 695022197 \nOtros eventosConsulta aquí otras ferias y mercados que organizará la empresa Adonay Eventos \notros mercados temáticos y FeriasSi quieres conocer cuando se realizan más ferias y mercados\, puedes consultarlos visitando nuestro   Calendario de Eventos \nCalendario 2024\nSobre los Mercados Medievales\nLas ferias medievales son eventos que recrean la atmósfera de la Edad Media. Por lo general\, se llevan a cabo en pueblos o ciudades\, y presentan puestos de vendedores que venden artesanías\, alimentos y bebidas. También puede haber entretenimiento\, como justas\, música y baile. \n\n\n\n\n\n\n\nDetalles del organizador\n\n\n\n\n\nLocalización\n\n\n\nVillanueva del Río y Minas es un municipio español de la provincia de Sevilla\, Andalucía. En 2016 contaba con 4906 habitantes.​ Su extensión superficial es de 154 km² y tiene una densidad de 35\,08 hab/km². Se encuentra situada a una altitud de 72 metros y a 42 kilómetros de la capital de provincia\, Sevilla.
URL:https://demercadosmedievales.info/mercadomedieval/mercado-medieval-la-orden-de-malta-en-villanueva-de-los-rios-y-minas-2024-sevilla/
LOCATION:Villanueva del Río y Minas (Sevilla) (***)\, en el centro\, Villanueva del Rio y Minas\, Sevilla\, España
CATEGORIES:Cartel,Mercado Medieval,Sevilla,Suspendido / Cancelado
ATTACH;FMTTYPE=image/jpeg:https://demercadosmedievales.info/wp-content/uploads/2024/10/villanueva-del-rio-jornadas-orden-malta-aplazado.jpg
ORGANIZER;CN="Recreaciones Adonay eventos":MAILTO:adonayrecreaciones@gmail.com
GEO:37.6554687;-5.7122139
X-APPLE-STRUCTURED-LOCATION;VALUE=URI;X-ADDRESS=Villanueva del Río y Minas (Sevilla) (***) en el centro Villanueva del Rio y Minas Sevilla España;X-APPLE-RADIUS=500;X-TITLE=en el centro:geo:-5.7122139,37.6554687
END:VEVENT
END:VCALENDAR