BEGIN:VCALENDAR
VERSION:2.0
PRODID:-//Mercados Medievales - ECPv6.15.20//NONSGML v1.0//EN
CALSCALE:GREGORIAN
METHOD:PUBLISH
X-ORIGINAL-URL:https://demercadosmedievales.info
X-WR-CALDESC:Eventos para Mercados Medievales
REFRESH-INTERVAL;VALUE=DURATION:PT1H
X-Robots-Tag:noindex
X-PUBLISHED-TTL:PT1H
BEGIN:VTIMEZONE
TZID:Europe/Madrid
BEGIN:DAYLIGHT
TZOFFSETFROM:+0100
TZOFFSETTO:+0200
TZNAME:CEST
DTSTART:20230326T010000
END:DAYLIGHT
BEGIN:STANDARD
TZOFFSETFROM:+0200
TZOFFSETTO:+0100
TZNAME:CET
DTSTART:20231029T010000
END:STANDARD
BEGIN:DAYLIGHT
TZOFFSETFROM:+0100
TZOFFSETTO:+0200
TZNAME:CEST
DTSTART:20240331T010000
END:DAYLIGHT
BEGIN:STANDARD
TZOFFSETFROM:+0200
TZOFFSETTO:+0100
TZNAME:CET
DTSTART:20241027T010000
END:STANDARD
BEGIN:DAYLIGHT
TZOFFSETFROM:+0100
TZOFFSETTO:+0200
TZNAME:CEST
DTSTART:20250330T010000
END:DAYLIGHT
BEGIN:STANDARD
TZOFFSETFROM:+0200
TZOFFSETTO:+0100
TZNAME:CET
DTSTART:20251026T010000
END:STANDARD
END:VTIMEZONE
BEGIN:VEVENT
DTSTART;VALUE=DATE:20240830
DTEND;VALUE=DATE:20240902
DTSTAMP:20260422T184952
CREATED:20240503T061748Z
LAST-MODIFIED:20240503T070711Z
UID:10001261-1724976000-1725235199@demercadosmedievales.info
SUMMARY:III Feria tradicional manchega y Mercado Cervantino de Villanueva de los Infantes (Ciudad Real) 2024
DESCRIPTION:Siempre se celebra el primer fin de semana de septiembre. Se trata de un acontecimiento multitudinario organizando por la Asociación para el Desarrollo Turístico del Campo de Montiel (TURINFA) con la colaboración del Ayuntamiento en el que participan cientos de voluntarios y voluntarias. \n \nIII Feria tradicional manchega\nMercado Cervantino \n  \n🏰Información del evento\n📋 Fechas\, Localidad u Ubicación.\n📅 Cual es la fecha de celebración ?\nLos días 30\, 31 DE AGOSTO Y 1 DE SEPTIEMBRE 2024\n🗓 Hasta que fecha se pueden inscribir los artesanos y mercaderes ?\nLos artesanos y mercaderes se pueden inscribir hasta el 01 de agosto del 2024 \n🏡 Donde se va a celebrar ? Localidad y provincia\nEn la localidad de Villanueva de los infantes que pertenece a la provincia de CIUDAD REAL\n📍 Cual será la ubicación dentro de la localidad (calle\, Plaza\, vía\, etc.)\nEn la C/ CERVANTES\, Pza MAYOR\, C/ REY JUAN CARLOS\, Pza. FUENTE VIEJA \n💬 Descripción del Evento : \nSiempre se celebra el primer fin de semana de septiembre. Se trata de un acontecimiento multitudinario organizando por la Asociación para el Desarrollo Turístico del Campo de Montiel (TURINFA) con la colaboración del Ayuntamiento en el que participan cientos de voluntarios y voluntarias. \nEn su 1ª edición\, el primer domingo de septiembre se elaboró un pisto gigante en la Plaza Mayor del pueblo del cual comieron más de 2.500 personas. Esto fue sólo el principio. \nEl siguiente año\, en la Plaza de la Fuente Vieja\, se congregaron más de 4.000 personas durante dos días\, ya que fue la primera edición del Mercadillo Cervantino y en la noche del sábado al domingo hubo conciertos. Fue también en 2004 cuando dieron comienzo las Jornadas Nacionales de Folclore\, organizadas por la Asociación de Folclore y Tradición Cruz de Santiago. \nDesde 2004 y hasta la fecha\, de forma ininterrumpida\, cada año se ha pretendido unir tradición gastronómica y folclórica\, todo ello enmarcado en el contexto de tradición cervantina que posee Villanueva de los Infantes\, capital del Campo de Montiel desde 1573. \n Respecto al mercado: Cada año\, los colores y aromas del Renacimiento llegan a Villanueva de los Infantes. El escenario monumental de la ciudad se adentra en el pasado para rememorar los aromas y colores de la época cervantina. \nLas paradas de los mercaderes en los que venden todo tipo de productos\, ocupan la Plaza Mayor y aledaños atrayendo la atención de los visitantes\, que abarrotan las calles de la localidad\, en unos días en los que la historia se hace presente gracias a las indumentarias típicas de la época. \n\n👤 Organizador\nAyuntamiento de Villanueva de los Infantes y TURINFA se encargan  de la organización y gestión de paradas/puestos de venta.\nEncargada de la organización y gestión de paradas/puestos de venta\, además de la decoración romana así como también de  la ambientación. \n📋 Montaje e Inauguración\, como participar\, requisitos\, precio y servicios.\nMontaje e Inauguración \n🗓 Dia y hora de Montaje :\nEl día 30 DE AGOSTO A PARTIR DE LAS 8:00 de la mañana\n⏰ Fecha y hora de Inauguración\nLa inauguración será el día 30 DE AGOSTO A LAS 20:00h \nComo participar\nLos organizadores han facilitado los siguientes medios de contacto para que se inscriban y/o consulten los artesanos y mercaderes.\n📞Teléfono de contacto :\n642336706\n💌 Email de contacto : \nferiapimiento@gmail.com \nCuales son los Requisitos de participación ?\nEstar dado de alta como autónomo/trabajador\, seguro RC\, fotos del producto y parada\, dado el caso carné de manipulador de alimentos\, registro sanitario y Certifificado ATp vehículo (El ATP es un certificado que\, bajo estándares de la Unión Europea\, está relacionado con el Acuerdo sobre Transportes Internacionales de Mercancías Perecederas. Es decir\, posibilita que un vehículo pueda transportar este tipo de mercancías.) \n📋 Servicios que proporcionara el organizador a los artesanos y mercaderes participantes \nSeguridad\nAgua\nElectricidad\nOtro:  Duchas\, Comida el domingo. \n🏷Precio del metro lineal\, parada de madera\, carpa ?\nSe paga por metros cuadrados\, dependiendo el producto a exponer y/o vender \n  \n🏡 Acerca de Villanueva de los infantes\nVillanueva de los Infantes es un municipio y ciudad español del sureste de la provincia de Ciudad Real\, en la comunidad autónoma de Castilla-La Mancha. Es cabeza de partido judicial y capital del Campo de Montiel. \nEstá catalogado como Uno de Los Pueblos Más Bonitos de España desde el año 2017 y pertenece desde entonces a la asociación homónima. \nLas localidades cercanas más importantes son Valdepeñas (30 km)\, Manzanares (44 km) y Almagro (70 km). Se sitúa a 92 km de la capital de la provincia\, Ciudad Real\, y a 220 km de Madrid. \n\n\n\n \n🗓 Calendario 2024\n\nAquí te dejo el calendario donde puedes encontrar mercados medievales y ferias temáticas en España durante el 2024: \n\n\nEnero\nFebrero\nMarzo\nAbril\nMayo\nJunio\nJulio\nAgosto\nSeptiembre\nOctubre\nNoviembre\nDiciembre\n\nFerias y mercados medievales\nLas ferias medievales son eventos que recrean la atmósfera de la Edad Media. Por lo general\, se llevan a cabo en pueblos o ciudades\, y presentan puestos de vendedores que venden artesanías\, alimentos y bebidas.También puede haber entretenimiento\, como justas\, música y baile. . \nTags:  Feria Medieval\,Convocatoria\,plazo\,2024\,Feria del pimiento\, Mercado Medieval\, Mercado Cervantino\, Villanueva de los infantes\, fiesta medieval\, Castilla La Mancha\, España \n** La web no es responsable de la información publicada en ella ni de las relaciones entre el organizador y los participantes.\nLa web actúa únicamente como un medio de información.\nSe recomienda a los usuarios que verifiquen la información y lean las condiciones antes de participar en el evento. \n 
URL:https://demercadosmedievales.info/mercadomedieval/iii-feria-tradicional-manchega-y-mercado-cervantino-de-villanueva-de-los-infantes-ciudad-real-2024/
LOCATION:Villanueva de los infantes (Ciudad Real) (***)\, Villanueva de los Infantes\, Ciudad Real\, España
CATEGORIES:Cartel,Ciudad Real,Mercado cervantino
ATTACH;FMTTYPE=image/jpeg:https://demercadosmedievales.info/wp-content/uploads/2024/05/mercado-cervantino-villanueva-de-los-infantes-facebook.jpg
END:VEVENT
END:VCALENDAR