BEGIN:VCALENDAR
VERSION:2.0
PRODID:-//Mercados Medievales - ECPv6.15.20//NONSGML v1.0//EN
CALSCALE:GREGORIAN
METHOD:PUBLISH
X-ORIGINAL-URL:https://demercadosmedievales.info
X-WR-CALDESC:Eventos para Mercados Medievales
REFRESH-INTERVAL;VALUE=DURATION:PT1H
X-Robots-Tag:noindex
X-PUBLISHED-TTL:PT1H
BEGIN:VTIMEZONE
TZID:Europe/Madrid
BEGIN:DAYLIGHT
TZOFFSETFROM:+0100
TZOFFSETTO:+0200
TZNAME:CEST
DTSTART:20250330T010000
END:DAYLIGHT
BEGIN:STANDARD
TZOFFSETFROM:+0200
TZOFFSETTO:+0100
TZNAME:CET
DTSTART:20251026T010000
END:STANDARD
BEGIN:DAYLIGHT
TZOFFSETFROM:+0100
TZOFFSETTO:+0200
TZNAME:CEST
DTSTART:20260329T010000
END:DAYLIGHT
BEGIN:STANDARD
TZOFFSETFROM:+0200
TZOFFSETTO:+0100
TZNAME:CET
DTSTART:20261025T010000
END:STANDARD
BEGIN:DAYLIGHT
TZOFFSETFROM:+0100
TZOFFSETTO:+0200
TZNAME:CEST
DTSTART:20270328T010000
END:DAYLIGHT
BEGIN:STANDARD
TZOFFSETFROM:+0200
TZOFFSETTO:+0100
TZNAME:CET
DTSTART:20271031T010000
END:STANDARD
END:VTIMEZONE
BEGIN:VEVENT
DTSTART;TZID=Europe/Madrid:20260308T000000
DTEND;TZID=Europe/Madrid:20260319T235959
DTSTAMP:20260420T085325
CREATED:20260203T192417Z
LAST-MODIFIED:20260203T194528Z
UID:10003195-1772928000-1773964799@demercadosmedievales.info
SUMMARY:Mercado tradicional de la Falla Gran Vía con Antiguo Reino de Valencia 2026
DESCRIPTION:Del 8 al 19 de marzo\, el corazón de Valencia se llenará de vida con el Mercado Tradicional de la Falla Gran Vía con Antiguo Reino\, una propuesta que acompaña a las Fallas con comercio\, tradición y ambiente festivo desde primera hora de la mañana hasta bien entrada la madrugada. \n\n\n\n\n\n\n\n \n\n\n\nMercado tradicional en Falla\n\n\n\n\n\n\n\nÍndice Mercado tradicional en FallaTradición fallera\, comercio vivo y ambiente sin descansoArtesanos y Mercaderes\, Información para participarValencia\, ciudad falleraLas Fallas de Valencia …. Cuando son los mercados tradicionales en Fallas en 2026 ?Mercados Medievales 2026: Fechas y Localidades ConfirmadasPara más información puedes consultar :¿Te apuntas? Síguenos y no te pierdas de nada.En Resumen…\n\n\n\n \n\n\n\nTradición fallera\, comercio vivo y ambiente sin descanso\n\n\n\nEl Mercado Tradicional de la Falla Gran Vía con Antiguo Reino de Valencia se instala en pleno centro de la ciudad para ofrecer\, durante casi dos semanas\, una experiencia completa tanto para vecinos como para visitantes. \n\n\n\nCon un horario ininterrumpido desde las 9:00 de la mañana hasta las 2:00 de la madrugada o hasta que haya publico\, el mercado se convierte en un punto de encuentro clave durante las Fallas. En sus puestos se podrá encontrar una variada oferta de productos tradicionales\, artesanía y artículos típicos\, siempre con la documentación en regla y cuidando la calidad del evento. \n\n\n\nLa organización corre a cargo de JMR\, que coordina el desarrollo del mercado y la participación de los vendedores\, asegurando una instalación ordenada y adaptada al ritmo festivo de la ciudad. \n\n\n\n \n\n\n\nArtesanos y Mercaderes\, Información para participar\n\n\n\n\nEvento:  Mercado Tradicional de la Falla Gran Vía con Antiguo Reino de Valencia\n\n\n\nFechas:  8 al 19 de marzo del 2026\n\n\n\nHorario:  desde las 9:00 de la mañana hasta las 2:00 de la madrugada\n\n\n\nUbicación:  Falla Gran Vía con Antiguo Reino de Valencia\n\n\n\nMontaje: Consultar\n\n\n\nPeriodicidad: Anual\n\n\n\nProductos permitidos en el Mercado Tradicional de la Falla : productos tradicionales\, artesanía y gastronomía\n\n\n\nOrganiza el Mercado Tradicional de la Falla : JMR – Juan Carlos Martos Rustlf 644886204\n\n\n\n\nMercado tradicional de la Falla\n\n\n\n \n\n\n\nValencia\, ciudad fallera\n\n\n\nValencia\, capital del Turia\, es uno de los destinos festivos más importantes de España durante el mes de marzo. El mercado se ubica en la zona de Gran Vía con Antiguo Reino\, perfectamente comunicada mediante transporte público\, metro y autobús urbano\, además de accesos cómodos a pie desde el centro histórico. \n\n\n\n\n\n \n\n\n\nLas Fallas de Valencia …. Cuando son los mercados tradicionales en Fallas en 2026 ?\n\n\n\nLas Fallas de Valencia se han convertido en un  atractivo turístico muy importante\, ya que además de que están catalogadas como fiesta de Interés Turístico Internacional. Consulta los mercados en fallas  \n\n\n\n\n\n\n\n \n\n\n\nMercados Medievales 2026: Fechas y Localidades Confirmadas\n\n\n\n\n\n\n\nEspaña cuenta con una de las agendas de ferias temáticas más ricas del mundo\, combinando gastronomía tradicional\, artesanía de autor y espectáculos en vivo. Si buscas un plan diferente para el fin de semana o quieres conocer el patrimonio de una forma única\, esta es tu guía definitiva. Leer más \n\n\n\nPara más información puedes consultar :\n\n\n\n\nPuedes Consultar en esté enlace las  Ferias y Mercados en España\n\n\n\nHaz clic en ESTE enlace :  Conoce los Organizadores de Mercados y Ferias\n\n\n\n\n¿Te apuntas? Síguenos y no te pierdas de nada.\n\n\n\n\nTelegram\n\n\n\nNewsletter\n\n\n\nWhatsApp\n\n\n\nInstagram\n\n\n\nPor supuesto en Facebook\n\n\n\n\nEn Resumen…
URL:https://demercadosmedievales.info/mercadomedieval/mercado-tradicional-de-la-falla-gran-via-con-antiguo-reino-de-valencia-2026/
LOCATION:Valencia (Falla Gran Vía con Antiguo Reino de Valencia) (***)\, Gran Via con antiguo reino de Valencia\, Valencia\, Valencia\, España
CATEGORIES:Comunidad valenciana,Fallas,Valencia
ATTACH;FMTTYPE=image/jpeg:https://demercadosmedievales.info/wp-content/uploads/2026/02/falla_gran_via_2026_fb.jpg
GEO:39.4648717;-0.3721842
X-APPLE-STRUCTURED-LOCATION;VALUE=URI;X-ADDRESS=Valencia (Falla Gran Vía con Antiguo Reino de Valencia) (***) Gran Via con antiguo reino de Valencia Valencia Valencia España;X-APPLE-RADIUS=500;X-TITLE=Gran Via con antiguo reino de Valencia:geo:-0.3721842,39.4648717
END:VEVENT
END:VCALENDAR