BEGIN:VCALENDAR
VERSION:2.0
PRODID:-//Mercados Medievales - ECPv6.15.20//NONSGML v1.0//EN
CALSCALE:GREGORIAN
METHOD:PUBLISH
X-ORIGINAL-URL:https://demercadosmedievales.info
X-WR-CALDESC:Eventos para Mercados Medievales
REFRESH-INTERVAL;VALUE=DURATION:PT1H
X-Robots-Tag:noindex
X-PUBLISHED-TTL:PT1H
BEGIN:VTIMEZONE
TZID:Europe/Madrid
BEGIN:DAYLIGHT
TZOFFSETFROM:+0100
TZOFFSETTO:+0200
TZNAME:CEST
DTSTART:20230326T010000
END:DAYLIGHT
BEGIN:STANDARD
TZOFFSETFROM:+0200
TZOFFSETTO:+0100
TZNAME:CET
DTSTART:20231029T010000
END:STANDARD
BEGIN:DAYLIGHT
TZOFFSETFROM:+0100
TZOFFSETTO:+0200
TZNAME:CEST
DTSTART:20240331T010000
END:DAYLIGHT
BEGIN:STANDARD
TZOFFSETFROM:+0200
TZOFFSETTO:+0100
TZNAME:CET
DTSTART:20241027T010000
END:STANDARD
BEGIN:DAYLIGHT
TZOFFSETFROM:+0100
TZOFFSETTO:+0200
TZNAME:CEST
DTSTART:20250330T010000
END:DAYLIGHT
BEGIN:STANDARD
TZOFFSETFROM:+0200
TZOFFSETTO:+0100
TZNAME:CET
DTSTART:20251026T010000
END:STANDARD
END:VTIMEZONE
BEGIN:VEVENT
DTSTART;VALUE=DATE:20240423
DTEND;VALUE=DATE:20240424
DTSTAMP:20260420T122726
CREATED:20240320T190318Z
LAST-MODIFIED:20240320T190437Z
UID:10001056-1713830400-1713916799@demercadosmedievales.info
SUMMARY:MERCADO COMUNERO SIGLO XVI En Torrelobatón (Valladolid) 2024
DESCRIPTION:MERCADO COMUNERO\, época del siglo XVI\,  de participacion gratuita en en el centro histórico de la localidad de Torrelobatón. Recreación histórica. Convocatoria. \n \nMERCADO COMUNERO (SIGLO XVI)\nMERCADO COMUNERO (SIGLO XVI) en Torrelobatón (Valladolid) el día Martes 23 de abril. Con motivo de la conmemoración de la marcha de los comuneros a Villalar en 1521.\nContará con nuestra animación habitual y con la participación de todos los grupos de recreación histórica de la localidad. ESTE MERCADO ES GRATUITO Y LOS PUESTOS SON LIMITADOS. SOLO 20 PARADAS. \n Detalles del MERCADO COMUNERO\nCuando se celebra ?\n El día 23 de Abril  del  2024\n.\nEn que localidad y provincia ?\nEn Torrelobaton provincia de  VALLADOLID\n.\nCual será la ubicación ? \n. En el centro histórico de Torrelobatón\n.\nConsulta AQUI los próximos mercados y ferias de la provincia VALLADOLID\nPara conocer la fecha de más mercados y ferias temáticas \, AQUÍ\n. \n Descripción del MERCADO COMUNERO\nRecrea el SIGLO XVI) En Torrelobatón (Valladolid) el día 23 de abril. Conmemora la marcha de los comuneros a Villalar en 1521.\nContará con la animación habitual del organizador y con la participación de todos los grupos de recreación histórica de la localidad. ESTE MERCADO ES UN GRATUITO Y LOS PUESTOS SON LIMITADOS\, solo serán 20 PARADAS.\n.\n Precio \nLa participación en este mercado es gratuita. \n Quién organiza EL EVENTO?  La empresa MICHEL es la encargada de la organización y gestión de paradas/puestos de venta.\n.\n Como participar ? Ponte en contacto con el organizador para conocer los requisitos de participación y solicitar tu participación.\nA Continuación Te Los Facilitamos : \n\nEmail : phartesanos@gmail.com\n\n.\nEl organizador proveerá de los siguientes servicios para los artesanos : \n\nLUZ\nAGUA\nPUBLICIDAD\nVIGILANCIA DISUASORIA\n\n Acerca de La toma o batalla de Torrelobatón\nLa toma o batalla de Torrelobatón fue una operación militar llevada a cabo por el ejército comunero a finales de febrero de 1521\, en el marco de la Guerra de las Comunidades castellanas. \nLuego de varios días de asedio\, el 25 de febrero la villa de Torrelobatón y su castillo —propiedades del almirante de Castilla—\, sucumbieron ante las fuerzas comandadas por el capitán toledano Juan de Padilla. \nEsta importante victoria sembró la inquietud en el bando realista y el optimismo entre las filas comuneras\, pero paradójicamente no motivó a los rebeldes a realizar otras acciones militares de gran envergadura. \nPor el contrario\, la batalla de Torrelobatón significó la caída en inactividad de los altos mandos del ejército\, inactividad que los desfavoreció y los llevó a caer en la «trampa» de Villalar dos meses después. \nAcerca de  Torrelobatón\nTorrelobatón es un municipio y localidad de la provincia de Valladolid en Castilla y León en España. Se sitúa dentro de la comarca de los Montes Torozos y a través de ella transcurre el río Hornija. \n\nCalendario de Mercados Medievales y Ferias temáticas 2024 :\n\n\nEnero\nFebrero\nMarzo\nAbril\nMayo\nJunio\nJulio\nAgosto\nSeptiembre\nOctubre\nNoviembre\nDiciembre\n\n Las Ferias y mercados medievales\n\n\nLas ferias medievales son eventos que recrean la atmósfera de la Edad Media. Por lo general\, se llevan a cabo en pueblos o ciudades\, y presentan puestos de vendedores que venden artesanías\, alimentos y bebidas. También puede haber entretenimiento\, como justas\, música y baile. . \nLos Mercados  Medievales son una forma popular de aprender sobre la historia de la Edad Media y experimentar la cultura de la época. También son una actividad divertida para toda la familia.
URL:https://demercadosmedievales.info/mercadomedieval/mercado-comunero-siglo-xvi-en-torrelobaton-valladolid-2024/
LOCATION:Torrelobatón (Valladolid) (***)\, Torrelobatón\, Valladolid\, 47134\, Spain
CATEGORIES:Mercado Comunero,Michel-Recreaciones históricas eventos y espectáculos,Valladolid
ATTACH;FMTTYPE=image/jpeg:https://demercadosmedievales.info/wp-content/uploads/2024/03/comunero_torrelobaton_f.jpg
ORGANIZER;CN="Michel - Recreaciones hist%C3%B3ricas eventos y espect%C3%A1culos":MAILTO:phartesanos@gmail.com
GEO:41.6490527;-5.0250649
END:VEVENT
END:VCALENDAR