BEGIN:VCALENDAR
VERSION:2.0
PRODID:-//Mercados Medievales - ECPv6.15.20//NONSGML v1.0//EN
CALSCALE:GREGORIAN
METHOD:PUBLISH
X-ORIGINAL-URL:https://demercadosmedievales.info
X-WR-CALDESC:Eventos para Mercados Medievales
REFRESH-INTERVAL;VALUE=DURATION:PT1H
X-Robots-Tag:noindex
X-PUBLISHED-TTL:PT1H
BEGIN:VTIMEZONE
TZID:Europe/Madrid
BEGIN:DAYLIGHT
TZOFFSETFROM:+0100
TZOFFSETTO:+0200
TZNAME:CEST
DTSTART:20230326T010000
END:DAYLIGHT
BEGIN:STANDARD
TZOFFSETFROM:+0200
TZOFFSETTO:+0100
TZNAME:CET
DTSTART:20231029T010000
END:STANDARD
BEGIN:DAYLIGHT
TZOFFSETFROM:+0100
TZOFFSETTO:+0200
TZNAME:CEST
DTSTART:20240331T010000
END:DAYLIGHT
BEGIN:STANDARD
TZOFFSETFROM:+0200
TZOFFSETTO:+0100
TZNAME:CET
DTSTART:20241027T010000
END:STANDARD
BEGIN:DAYLIGHT
TZOFFSETFROM:+0100
TZOFFSETTO:+0200
TZNAME:CEST
DTSTART:20250330T010000
END:DAYLIGHT
BEGIN:STANDARD
TZOFFSETFROM:+0200
TZOFFSETTO:+0100
TZNAME:CET
DTSTART:20251026T010000
END:STANDARD
END:VTIMEZONE
BEGIN:VEVENT
DTSTART;VALUE=DATE:20240104
DTEND;VALUE=DATE:20240108
DTSTAMP:20260420T032437
CREATED:20230925T110922Z
LAST-MODIFIED:20231221T113505Z
UID:10000105-1704326400-1704671999@demercadosmedievales.info
SUMMARY:Mercado de fantasía navidad en Torrejón de Velasco ( Madrid ) 2024
DESCRIPTION:Mercado de fantasía navidad en Torrejon de Velasco (Madrid) \, el precio de la parada que es de 50€ la parada de 1 a 3 metros para los 4 días\, organiza Eragon Eventos. \n \nMercado de fantasía navidad\n  \nFECHAS 04 AL 07 DE ENERO 2024\nLOCALIDAD Y PROVINCIA  TORREJON DE VELASCO \, MADRID\nUBICACION PLAZA DE ESPAÑA\nPRECIOS para artesanía y alimentación : \n\nParadas de 1 al 3 metros 50 euros para los 4 días\nMetro adicional 15 euros\n\nComo participar en el Mercado de fantasía navidad ?\nPonte en contacto con ERAGON a través de sus medios de contacto :\nTelefonos : 610 64 54 53 \ne-mail : AGUSTINMBXXL@HOTMAIL.COM \n \nSobre Torrejón de Velasco\nTorrejón de Velasco es un municipio y localidad española situado en el sur de la Comunidad de Madrid. La distancia a Madrid es de 28 km y el acceso es a través de un desvío de la carretera M-404 a la altura del punto kilométrico 27 de la A-42. Cuenta con una población de 4685 habitantes. \nLimita al oeste con Torrejón de la Calzada\, al norte con Parla\, al noreste con Pinto\, al este con Valdemoro\, al sureste y ya en la provincia de Toledo con Esquivias\, y al sur con Yeles e Illescas. \nPlaza España de Torrejón de Velasco\nSe trata de la Plaza central del municipio de Torrejón de Velasco. De estilo castellano\, fue restaurada hace pocos años y es el punto neurálgico del municipio. \nCuenta con un gran parque infantil y una gran zona verde estancial\, haciendo del lugar un sitio de reunión de todos los vecinos del pueblo.    Es aquí donde se encuentran los edificios del Ayuntamiento con el reloj de la plaza y las dependencias de Policía Local y Servicios Técnicos. Durante las fiestas se ubica la carpa municipal\, donde tienen lugar las actuaciones culturales y musicales. \n________________ \nmercadosmedievales.net – Mercado de fantasía navidad en Torrejón de Velasco ( Madrid ) 2024 \nTorrejón de Velasco\, Comunidad de Madrid \, Mercado de navidad
URL:https://demercadosmedievales.info/mercadomedieval/mercado-de-fantasia-navidad-en-torrejon-de-velasco-madrid-2024/
LOCATION:Torrejón de Velasco ( Madrid ) (***)\, Plaza España\, Torrejón de Velasco\, Comunidad de Madrid\, España
CATEGORIES:Eragón eventos,Mercados de fantasía navidad,Mercados de navidad,Torrejón de Velasco
ATTACH;FMTTYPE=image/jpeg:https://demercadosmedievales.info/wp-content/uploads/2023/09/Torrejon_de_velasco_mercado_fantasia_navidad_2024_cartel.jpg
ORGANIZER;CN="Erag%C3%B3n eventos":MAILTO:AGUSTINMBXXL@HOTMAIL.COM
GEO:40.1866044;-3.7770667
X-APPLE-STRUCTURED-LOCATION;VALUE=URI;X-ADDRESS=Torrejón de Velasco ( Madrid ) (***) Plaza España Torrejón de Velasco Comunidad de Madrid España;X-APPLE-RADIUS=500;X-TITLE=Plaza España:geo:-3.7770667,40.1866044
END:VEVENT
END:VCALENDAR