BEGIN:VCALENDAR
VERSION:2.0
PRODID:-//Mercados Medievales - ECPv6.15.20//NONSGML v1.0//EN
CALSCALE:GREGORIAN
METHOD:PUBLISH
X-WR-CALNAME:Mercados Medievales
X-ORIGINAL-URL:https://demercadosmedievales.info
X-WR-CALDESC:Eventos para Mercados Medievales
REFRESH-INTERVAL;VALUE=DURATION:PT1H
X-Robots-Tag:noindex
X-PUBLISHED-TTL:PT1H
BEGIN:VTIMEZONE
TZID:Europe/Madrid
BEGIN:DAYLIGHT
TZOFFSETFROM:+0100
TZOFFSETTO:+0200
TZNAME:CEST
DTSTART:20230326T010000
END:DAYLIGHT
BEGIN:STANDARD
TZOFFSETFROM:+0200
TZOFFSETTO:+0100
TZNAME:CET
DTSTART:20231029T010000
END:STANDARD
BEGIN:DAYLIGHT
TZOFFSETFROM:+0100
TZOFFSETTO:+0200
TZNAME:CEST
DTSTART:20240331T010000
END:DAYLIGHT
BEGIN:STANDARD
TZOFFSETFROM:+0200
TZOFFSETTO:+0100
TZNAME:CET
DTSTART:20241027T010000
END:STANDARD
BEGIN:DAYLIGHT
TZOFFSETFROM:+0100
TZOFFSETTO:+0200
TZNAME:CEST
DTSTART:20250330T010000
END:DAYLIGHT
BEGIN:STANDARD
TZOFFSETFROM:+0200
TZOFFSETTO:+0100
TZNAME:CET
DTSTART:20251026T010000
END:STANDARD
END:VTIMEZONE
BEGIN:VEVENT
DTSTART;TZID=Europe/Madrid:20240802T000000
DTEND;TZID=Europe/Madrid:20240803T235959
DTSTAMP:20260422T063427
CREATED:20240702T035126Z
LAST-MODIFIED:20240728T081027Z
UID:10001512-1722556800-1722729599@demercadosmedievales.info
SUMMARY:I Mercado barroco de Tembleque (Toledo) 2024
DESCRIPTION:La histórica Plaza Mayor de Tembleque se prepara para acoger un evento sin precedentes\, el I Mercado Barroco \,2 y 3 de agosto \n \nTembleque Celebra el I Mercado Barroco: Un Viaje al Pasado en la Plaza Mayor\n \nEn la encantadora localidad de Tembleque\, Toledo\, se llevará a cabo un evento histórico y cultural sin precedentes: el I Mercado Barroco. \nPrograma\n \nUn Fin de Semana de Historia y Cultura\nFecha y Horario: \n\nViernes\, 2 de agosto: De 19:00 a 23:59 horas.\nSábado\, 3 de agosto: De 11:00 a 15:00 horas y de 19:00 a 23:59 horas.\n\nEl I Mercado Barroco promete sumergir a los visitantes en la rica historia de Tembleque\, recreando el ambiente y la atmósfera de la época barroca. Este mercado no solo será una oportunidad para disfrutar de productos y artesanías típicas\, sino también una ocasión para participar en actividades culturales\, espectáculos en vivo y degustaciones gastronómicas que rememoran los sabores de antaño. \nAtracciones y Actividades\nEntre las diversas atracciones y actividades planificadas\, los asistentes podrán disfrutar de: \n\nPuestos de artesanía: Exhibición y venta de productos elaborados por artesanos locales\, con técnicas tradicionales que reflejan el arte barroco.\nGastronomía: Degustación de platos y bebidas tradicionales de la época\, preparados con recetas históricas.\n\nUn Escenario Histórico: La Plaza Mayor\nLa Plaza Mayor de Tembleque\, una joya arquitectónica y símbolo de la ciudad\, será el escenario perfecto para este evento. Su estructura y diseño barroco proporcionan un telón de fondo auténtico que enriquecerá la experiencia de los visitantes. Con su característico entramado de soportales y balcones\, la plaza es un lugar ideal para celebrar el legado histórico de Tembleque. \n \nOrganización y Producción\nEl evento es organizado por el Excmo. Ayuntamiento de Tembleque\, con la producción a cargo de Linares Godia Producciones\, una entidad con una sólida trayectoria en la creación de eventos culturales y recreativos desde 1995. \nInformación e Inscripciones: \nmercados@linaresgodiaproducciones.com\n\nTelf.: 654.889.103\n\nEn Conclusión\nEl I Mercado Barroco de Tembleque es una cita imperdible para los amantes de la historia\, la cultura y las tradiciones. No solo se trata de una celebración del pasado\, sino también de una oportunidad para la comunidad de reunirse y disfrutar de un evento único y memorable. Si estás buscando una experiencia que combine educación\, entretenimiento y cultura\, asegúrate de visitar Tembleque este agosto. \n  \nMás fechasPuedes conocer mas ferias y mercados en está provincia\, consultando nuestra sección de Eventos en Toledo . Otros eventos. Consulta Aquí otras ferias y mercados que organizará la empresa Linares Godia Producciones . Otros mercados temáticos y Ferias. Si quieres conocer cuando se realizan más ferias y mercados\, puedes consultarlos visitando nuestro  Calendario de Eventos \nAcerca de Tembleque\nTembleque es un municipio y localidad española de la provincia de Toledo\, en la comunidad autónoma de Castilla-La Mancha. La localidad está situada en la parte central de la península ibérica\, ubicada junto a la autovía A-4 que une a Madrid con Andalucía. La distancia que la separa de Madrid es de 92 km y de la capital de la provincia de 55 km. Su altitud sobre el nivel del mar es de 637 m \nCalendario 2024\nMercados Barrocos\nLos mercados barrocos son eventos temáticos que recrean la atmósfera y la vida cotidiana de la época barroca (siglos XVII y XVIII). Estos mercados se caracterizan por la presencia de puestos de artesanía y gastronomía que ofrecen productos típicos de la época\, espectáculos en vivo como teatro y música barroca\, y talleres interactivos donde los visitantes pueden aprender técnicas artesanales antiguas. Además\, las recreaciones históricas y las exhibiciones de oficios tradicionales transportan a los asistentes a un viaje en el tiempo\, ofreciendo una experiencia cultural y educativa única que celebra la riqueza y el esplendor del período barroco. \nSobre los Mercados Medievales\nLas Ferias y mercados medievales son eventos populares que recrean el ambiente y la atmósfera de la Edad Media. Estos eventos suelen tener lugar en diferentes partes del mundo y atraen a numerosos visitantes que desean sumergirse en la historia y disfrutar de una experiencia única. Las ferias y mercados medievales suelen tener una gran cantidad de visitantes\, ya que ofrecen una oportunidad única de sumergirse en la historia y disfrutar de una experiencia diferente. También son muy populares entre los amantes de la cultura medieval\, los aficionados a la historia y las familias que buscan una actividad divertida y educativa. Consulta nuestro amplio calendario de eventos \nTags:  Feria Medieval\,Convocatoria\,2024\,Tembleque\,Castilla La Mancha\,España
URL:https://demercadosmedievales.info/mercadomedieval/i-mercado-barroco-de-tembleque-toledo-2024/
LOCATION:Tembleque (Toledo) (***)\, Tembleque\, Toledo\, 45780
CATEGORIES:Cartel,Feria barroca,Programación,Toledo
ATTACH;FMTTYPE=image/jpeg:https://demercadosmedievales.info/wp-content/uploads/2024/07/barroco_tembleque_f.jpg
ORGANIZER;CN="Linares Godia Producciones":MAILTO:mercados@linaresgodiaproducciones.com
GEO:39.6958069;-3.5041358
END:VEVENT
END:VCALENDAR