BEGIN:VCALENDAR
VERSION:2.0
PRODID:-//Mercados Medievales - ECPv6.15.20//NONSGML v1.0//EN
CALSCALE:GREGORIAN
METHOD:PUBLISH
X-WR-CALNAME:Mercados Medievales
X-ORIGINAL-URL:https://demercadosmedievales.info
X-WR-CALDESC:Eventos para Mercados Medievales
REFRESH-INTERVAL;VALUE=DURATION:PT1H
X-Robots-Tag:noindex
X-PUBLISHED-TTL:PT1H
BEGIN:VTIMEZONE
TZID:Europe/Madrid
BEGIN:DAYLIGHT
TZOFFSETFROM:+0100
TZOFFSETTO:+0200
TZNAME:CEST
DTSTART:20230326T010000
END:DAYLIGHT
BEGIN:STANDARD
TZOFFSETFROM:+0200
TZOFFSETTO:+0100
TZNAME:CET
DTSTART:20231029T010000
END:STANDARD
BEGIN:DAYLIGHT
TZOFFSETFROM:+0100
TZOFFSETTO:+0200
TZNAME:CEST
DTSTART:20240331T010000
END:DAYLIGHT
BEGIN:STANDARD
TZOFFSETFROM:+0200
TZOFFSETTO:+0100
TZNAME:CET
DTSTART:20241027T010000
END:STANDARD
BEGIN:DAYLIGHT
TZOFFSETFROM:+0100
TZOFFSETTO:+0200
TZNAME:CEST
DTSTART:20250330T010000
END:DAYLIGHT
BEGIN:STANDARD
TZOFFSETFROM:+0200
TZOFFSETTO:+0100
TZNAME:CET
DTSTART:20251026T010000
END:STANDARD
END:VTIMEZONE
BEGIN:VEVENT
DTSTART;TZID=Europe/Madrid:20241221T000000
DTEND;TZID=Europe/Madrid:20241222T235959
DTSTAMP:20260421T062201
CREATED:20241015T090416Z
LAST-MODIFIED:20241015T090914Z
UID:10001827-1734739200-1734911999@demercadosmedievales.info
SUMMARY:Mercado de Navidad de Sariñena 2024 (Huesca)
DESCRIPTION:Mercado navideño con Alimentación\, artesanía\, regalos\, decoración\, moda\, complementos\, etc. en la Plaza del Mercado de Sariñena  \n\n\n\n\n\n\n \n\n\n\nMercado de Navidad\n \n\n \n\nCartel – Próximamente\nProgramación – Próximamente\n** Próximamente dispondremos del cartel y del programa con las actividades previstas. \nInformación básica del Mercado\n\nFecha y lugar: 21 y 22 de diciembre de 2024\, en la Plaza del Mercado de Sariñena.( HUESCA )\nProductos: Alimentación\, artesanía\, regalos\, decoración\, moda\, complementos\, etc.\nPúblico: Se espera una asistencia de 2.000 personas.\nPromoción: Se llevará a cabo una campaña publicitaria en diversos medios (prensa\, radio\, redes sociales\, carteles y folletos).\nServicios: Se ofrecerán servicios de bar\, seguridad\, mantenimiento y limpieza.\nActividades paralelas: Habrá grupos de animación y música para amenizar el evento.\nDecoración: Se instalará iluminación y otra decoración navideña.\nCosto para expositores: 25 euros por metro lineal.\n\nConsideraciones importantes para expositores: \n\nElectricidad: Se proporcionarán dos tomas de luz por cada 25 metros lineales\, por lo que es necesario llevar un alargador.\nInscripción: Para participar\, es necesario ponerse en contacto con los organizadores a través de los datos de contacto proporcionados en la ficha.\n\nInformación del Organizador\nLa empresa organizadora es Ferias Mapps \nComo participar \nPara más Información e Inscripciones:  Teléfono 656 358 330 \, ferias@mapps.es \nMás fechas  Puedes conocer mas ferias y mercados en está provincia\, consultando nuestra sección de Eventos en Huesca  \nOtros eventos del organizadorConsulta Aquí otras ferias y mercados que organizará la empresa Ferias Mapps \notros mercados temáticos y FeriasSi quieres conocer cuando se realizan más ferias y mercados\, puedes consultarlos visitando nuestro   Calendario de Eventos \nCalendario 2024\nSobre los Mercados Medievales\nLas ferias medievales son eventos que recrean la atmósfera de la Edad Media. Por lo general\, se llevan a cabo en pueblos o ciudades\, y presentan puestos de vendedores que venden artesanías\, alimentos y bebidas. También puede haber entretenimiento\, como justas\, música y baile. \n\n\n\n\n\n\n\nDetalles del organizador\n\n\n\n\n\nLocalización\n\n\n\nSariñena es una localidad española de la provincia de Huesca\, en Aragón. Perteneciente a la comarca de Los Monegros\, de la que es capital.
URL:https://demercadosmedievales.info/mercadomedieval/mercado-de-navidad-de-sarinena-2024-huesca/
LOCATION:Sariñena (Huesca) (***)\, Sariñena\, Huesca\, 22200\, Spain
CATEGORIES:Huesca,Mercados de navidad
ATTACH;FMTTYPE=image/jpeg:https://demercadosmedievales.info/wp-content/uploads/2024/10/navidad-sarinena-2024_f.jpg
ORGANIZER;CN="Mapss Ferias y Eventos":MAILTO:ferias@mapss.es
GEO:41.780425;-0.1682271
END:VEVENT
END:VCALENDAR