BEGIN:VCALENDAR
VERSION:2.0
PRODID:-//Mercados Medievales - ECPv6.15.20//NONSGML v1.0//EN
CALSCALE:GREGORIAN
METHOD:PUBLISH
X-ORIGINAL-URL:https://demercadosmedievales.info
X-WR-CALDESC:Eventos para Mercados Medievales
REFRESH-INTERVAL;VALUE=DURATION:PT1H
X-Robots-Tag:noindex
X-PUBLISHED-TTL:PT1H
BEGIN:VTIMEZONE
TZID:Europe/Madrid
BEGIN:DAYLIGHT
TZOFFSETFROM:+0100
TZOFFSETTO:+0200
TZNAME:CEST
DTSTART:20230326T010000
END:DAYLIGHT
BEGIN:STANDARD
TZOFFSETFROM:+0200
TZOFFSETTO:+0100
TZNAME:CET
DTSTART:20231029T010000
END:STANDARD
BEGIN:DAYLIGHT
TZOFFSETFROM:+0100
TZOFFSETTO:+0200
TZNAME:CEST
DTSTART:20240331T010000
END:DAYLIGHT
BEGIN:STANDARD
TZOFFSETFROM:+0200
TZOFFSETTO:+0100
TZNAME:CET
DTSTART:20241027T010000
END:STANDARD
BEGIN:DAYLIGHT
TZOFFSETFROM:+0100
TZOFFSETTO:+0200
TZNAME:CEST
DTSTART:20250330T010000
END:DAYLIGHT
BEGIN:STANDARD
TZOFFSETFROM:+0200
TZOFFSETTO:+0100
TZNAME:CET
DTSTART:20251026T010000
END:STANDARD
END:VTIMEZONE
BEGIN:VEVENT
DTSTART;TZID=Europe/Madrid:20241108T000000
DTEND;TZID=Europe/Madrid:20241110T235959
DTSTAMP:20260422T103834
CREATED:20241006T085850Z
LAST-MODIFIED:20241006T090403Z
UID:10001783-1731024000-1731283199@demercadosmedievales.info
SUMMARY:Mercado Artesanal de la Feria Salón del Manga Granada 2024
DESCRIPTION:Mercado artesanal durante la 1ra feria nacional Salón del Manga en el centro comercial Neptuno de Granada  \n\n\n\n\n\n\n  \nMercado Artesanal\nCartel  \n \nProgramación – Próximamente\n** Próximamente dispondremos del cartel y del programa con las actividades previstas. \nInformación básica del Mercado\nFecha de celebración Los dias 08 al 10 de Noviembre del  2024 \nDonde se realizaEn la localidad de Granada capital  \nUbicación del EventoEstará ubicado en el centro comercial Neptuno de la calle Arabial\, 45 de Granada \nInformación del Organizador\nLa empresa organizadora es Alsur Eventos \nComo participar \nPara más Información e Inscripciones: \nC/ Avenida de la constitución N 40 bajo 4\n18001 Granada \nMóvil 692555977\nMás fechas  Puedes conocer mas ferias y mercados en está provincia\, consultando nuestra sección de Eventos en Granada \nOtros eventos del organizadorConsulta otras ferias y mercados que organizará la empresa Alsur Eventos \notros mercados temáticos y FeriasSi quieres conocer cuando se realizan más ferias y mercados\, puedes consultarlos visitando nuestro   Calendario de Eventos \nCalendario 2024\nSobre los Mercados Medievales\nLas ferias medievales son eventos que recrean la atmósfera de la Edad Media. Por lo general\, se llevan a cabo en pueblos o ciudades\, y presentan puestos de vendedores que venden artesanías\, alimentos y bebidas. También puede haber entretenimiento\, como justas\, música y baile. \nTags:  Salon del Manga\,Granada\,Feria Medieval\,Convocatoria\,2024\,España  \n\n\n\n\n\n\n\nDetalles del organizador\n\n\n\n\n\nLocalización
URL:https://demercadosmedievales.info/mercadomedieval/mercado-artesanal-de-la-feria-salon-del-manga-granada-2024/
LOCATION:Granada (Granada) (***)\, Granada\, Granada\, Spain
CATEGORIES:Cartel,Granada,Mercado Artesanal
ATTACH;FMTTYPE=image/jpeg:https://demercadosmedievales.info/wp-content/uploads/2024/10/feria-salon-manga-2024-f.jpg
ORGANIZER;CN="Alsur Eventos":MAILTO:alsureventos1@gmail.com
GEO:37.1824607;-3.6011676
END:VEVENT
END:VCALENDAR