BEGIN:VCALENDAR
VERSION:2.0
PRODID:-//Mercados Medievales - ECPv6.15.20//NONSGML v1.0//EN
CALSCALE:GREGORIAN
METHOD:PUBLISH
X-ORIGINAL-URL:https://demercadosmedievales.info
X-WR-CALDESC:Eventos para Mercados Medievales
REFRESH-INTERVAL;VALUE=DURATION:PT1H
X-Robots-Tag:noindex
X-PUBLISHED-TTL:PT1H
BEGIN:VTIMEZONE
TZID:Europe/Madrid
BEGIN:DAYLIGHT
TZOFFSETFROM:+0100
TZOFFSETTO:+0200
TZNAME:CEST
DTSTART:20230326T010000
END:DAYLIGHT
BEGIN:STANDARD
TZOFFSETFROM:+0200
TZOFFSETTO:+0100
TZNAME:CET
DTSTART:20231029T010000
END:STANDARD
BEGIN:DAYLIGHT
TZOFFSETFROM:+0100
TZOFFSETTO:+0200
TZNAME:CEST
DTSTART:20240331T010000
END:DAYLIGHT
BEGIN:STANDARD
TZOFFSETFROM:+0200
TZOFFSETTO:+0100
TZNAME:CET
DTSTART:20241027T010000
END:STANDARD
BEGIN:DAYLIGHT
TZOFFSETFROM:+0100
TZOFFSETTO:+0200
TZNAME:CEST
DTSTART:20250330T010000
END:DAYLIGHT
BEGIN:STANDARD
TZOFFSETFROM:+0200
TZOFFSETTO:+0100
TZNAME:CET
DTSTART:20251026T010000
END:STANDARD
END:VTIMEZONE
BEGIN:VEVENT
DTSTART;VALUE=DATE:20240701
DTEND;VALUE=DATE:20240902
DTSTAMP:20260422T013539
CREATED:20240326T181553Z
LAST-MODIFIED:20240326T181553Z
UID:10001085-1719792000-1725235199@demercadosmedievales.info
SUMMARY:MERCADO DE VERANO DE RETAMAR ALMERIA 2024
DESCRIPTION:MERCADO DE VERANO en el Paseo Marítimo de Retamar en casetas de madera del 01 de Julio al 01 de Septiembre. \n \n Detalles del MERCADO DE VERANO\nCuando se celebra ?\n Los dias  01 de Julio al 01 de Septiembre del  2024\n.\nEn que localidad y provincia ?\nEn RETAMAR que pertenece a Almeria capital en la provincia de  ALMERIA \n.\nCual será la ubicación ? \n.  en el Paseo Marítimo de Retamar \n.\nPara conocer la fecha de más mercados y ferias temáticas \, AQUÍ\n. \n Quién organiza EL EVENTO? La empresa RASTRILLO DE CULTURAS  es la encargada de la organización y gestión de paradas/puestos de venta.\n.\n Como participar ? Ponte en contacto con el organizador para conocer los requisitos de participación y solicitar tu participación.\nA Continuación Te Los Facilitamos :\n. RASTRILLO DE CULTURAS\nE-mail : rastrillodeculturas@gmail.com\nTeléfono : 605.988.643\n. \n Acerca de RETAMAR\nRetamar es una localidad y pedanía española del municipio de Almería. \n\nLas zonas de Retamar y El Toyo se unieron tras la construcción de esta última para los XV Juegos Mediterráneos.\nEstá situada a unos 13 km del centro del núcleo urbano principal\, llegando desde Almería por la autovía AL-12 y desde la autovía del Mediterráneo por la N-344.\nCuenta con un campo de golf y cinco establecimientos hoteleros de cuatro estrellas.\nTambién se sitúa cerca de Retamar el Aeropuerto de Almería y el parque natural del Cabo de Gata-Níjar.\n\n\nCalendario de Mercados Medievales y Ferias temáticas 2024 :\n\n\nEnero\nFebrero\nMarzo\nAbril\nMayo\nJunio\nJulio\nAgosto\nSeptiembre\nOctubre\nNoviembre\nDiciembre\n\n Las Ferias y mercados medievales\n\n\nLas ferias medievales son eventos que recrean la atmósfera de la Edad Media. Por lo general\, se llevan a cabo en pueblos o ciudades\, y presentan puestos de vendedores que venden artesanías\, alimentos y bebidas. También puede haber entretenimiento\, como justas\, música y baile. . \nLos Mercados  Medievales son una forma popular de aprender sobre la historia de la Edad Media y experimentar la cultura de la época. También son una actividad divertida para toda la familia.
URL:https://demercadosmedievales.info/mercadomedieval/mercado-de-verano-de-retamar-almeria-2024/
LOCATION:Retamar (Almería) (***)\, Paseo Marítimo de Retamar\, Almeria\, Almeria\, España
CATEGORIES:Almería,Mercado de Verano
ATTACH;FMTTYPE=image/jpeg:https://demercadosmedievales.info/wp-content/uploads/2024/03/verano_retamar_2024_552x276.jpg
ORGANIZER;CN="Rastrillo de Culturas":MAILTO:rastrillodeculturas@gmail.com
GEO:36.8322425;-2.3146487
X-APPLE-STRUCTURED-LOCATION;VALUE=URI;X-ADDRESS=Retamar (Almería) (***) Paseo Marítimo de Retamar Almeria Almeria España;X-APPLE-RADIUS=500;X-TITLE=Paseo Marítimo de Retamar:geo:-2.3146487,36.8322425
END:VEVENT
END:VCALENDAR