BEGIN:VCALENDAR
VERSION:2.0
PRODID:-//Mercados Medievales - ECPv6.15.20//NONSGML v1.0//EN
CALSCALE:GREGORIAN
METHOD:PUBLISH
X-WR-CALNAME:Mercados Medievales
X-ORIGINAL-URL:https://demercadosmedievales.info
X-WR-CALDESC:Eventos para Mercados Medievales
REFRESH-INTERVAL;VALUE=DURATION:PT1H
X-Robots-Tag:noindex
X-PUBLISHED-TTL:PT1H
BEGIN:VTIMEZONE
TZID:Europe/Madrid
BEGIN:DAYLIGHT
TZOFFSETFROM:+0100
TZOFFSETTO:+0200
TZNAME:CEST
DTSTART:20230326T010000
END:DAYLIGHT
BEGIN:STANDARD
TZOFFSETFROM:+0200
TZOFFSETTO:+0100
TZNAME:CET
DTSTART:20231029T010000
END:STANDARD
BEGIN:DAYLIGHT
TZOFFSETFROM:+0100
TZOFFSETTO:+0200
TZNAME:CEST
DTSTART:20240331T010000
END:DAYLIGHT
BEGIN:STANDARD
TZOFFSETFROM:+0200
TZOFFSETTO:+0100
TZNAME:CET
DTSTART:20241027T010000
END:STANDARD
BEGIN:DAYLIGHT
TZOFFSETFROM:+0100
TZOFFSETTO:+0200
TZNAME:CEST
DTSTART:20250330T010000
END:DAYLIGHT
BEGIN:STANDARD
TZOFFSETFROM:+0200
TZOFFSETTO:+0100
TZNAME:CET
DTSTART:20251026T010000
END:STANDARD
BEGIN:DAYLIGHT
TZOFFSETFROM:+0100
TZOFFSETTO:+0200
TZNAME:CEST
DTSTART:20260329T010000
END:DAYLIGHT
BEGIN:STANDARD
TZOFFSETFROM:+0200
TZOFFSETTO:+0100
TZNAME:CET
DTSTART:20261025T010000
END:STANDARD
END:VTIMEZONE
BEGIN:VEVENT
DTSTART;VALUE=DATE:20240210
DTEND;VALUE=DATE:20240212
DTSTAMP:20260421T013203
CREATED:20240206T055643Z
LAST-MODIFIED:20240206T060139Z
UID:10000870-1707523200-1707695999@demercadosmedievales.info
SUMMARY:10 y 11 de Febrero del 2024 Programa de actos festividad de la Reserva de Quesa (Valencia)
DESCRIPTION:La festividad de la Reserva se trata sin duda de la fiesta más tradicional y querida por los vecinos del municipio. Declarada Fiesta de Interés turístico local en la Comunitat Valenciana en 2012.  \n \nLA RESERVA EN QUESA :\n\n\n\nSe trata sin duda de la fiesta más tradicional y querida por los vecinos del municipio. Declarada Fiesta de Interés turístico local en la Comunitat Valenciana en 2012. Tiene su origen en 1695\, cinco años antes una epidemia asoló el pueblo dejando con vida solo a la Familia García. Ésta familia daba cobijo y comida a todos aquellos que acudían al pueblo para su repoblación. En conmemoración esta repoblación del pueblo se celebra esta fiesta. \n\n\n\nSe celebra el segundo fin de semana de febrero y durante el mismo se celebran entre otras actividades: mercado medieval\, degustaciones gastronómicas autóctonas\, reparto de paella y pan para todos los asistentes\, talleres artesanales… Desde hace varios años también se lleva a cabo la recreación histórica de los hechos orígen de esta fiesta\, por el Grupo de teatro local y con la colaboración de otras asociaciones y de voluntarios del pueblo.El fin de semana de “La Reserva”\, Quesa puede llegar a triplicar la población de residentes gracias a la afluencia de visitantes\, muchos de ellos familiares y amigos\, número de visitantes que en los últimos años se ha considerado superior a 2000 personas a lo largo del fin de semana festivo. \n\n  \nPrograma de actos festividad de la Reserva\nCartel\nProgramación de actos\n   \nMercado de la festividad de la Reserva en Quesa\nFechas : 10 y 11 de Febrero del 2024 Localidad y provincia : Quesa\, VALENCIA Descripción de la localidad : Quesa es un municipio español de la Comunidad Valenciana\, perteneciente a la provincia de Valencia\, ubicado en la comarca del Canal de Navarrés. Contara con las siguientes actividades y espectáculos : \n\nJuegos\,\ngranja\,\naves rapaces\,\nDomingo 11 a las 17 actuación mago Larsen\n\nSi quieres participar como artesano / vendedor en este mercado/feria debes ponerte en contacto con el organizador del mismo \n\nDATOS DEL ORGANIZADOR : EL PALLETER MEDIEVAL \n\n\n\nTeléfono : 653 555 365 \n\n\n\ne-mail: elpalletermedieval@gmail.com \n\nMercados Medievales de Valencia\,festividad de la Reserva\,España\,Comunidad Valenciana\,Quesa\,Valencia\,
URL:https://demercadosmedievales.info/mercadomedieval/10-y-11-de-febrero-del-2024-programa-de-actos-festividad-de-la-reserva-de-quesa-valencia/
LOCATION:Quesa (Valencia) (***)\, Quesa\, Valencia\, 46824\, Spain
CATEGORIES:El Palleter medieval,Mercado tradicional,Valencia
ATTACH;FMTTYPE=image/jpeg:https://demercadosmedievales.info/wp-content/uploads/2024/02/LA-RESERVA-Folleto-2024-1_page-0001.jpg
ORGANIZER;CN="El Palleter medieval":MAILTO:elpalletermedieval@gmail.com
GEO:39.1178831;-0.7393214
END:VEVENT
BEGIN:VEVENT
DTSTART;TZID=Europe/Madrid:20250208T000000
DTEND;TZID=Europe/Madrid:20250209T235959
DTSTAMP:20260421T013203
CREATED:20241104T080841Z
LAST-MODIFIED:20250131T085835Z
UID:10001892-1738972800-1739145599@demercadosmedievales.info
SUMMARY:Mercado de la Reserva de Quesa 2025 (Valencia) Programación.
DESCRIPTION:La Gran Fiesta de la Reserva 2025 en Quesa\, evento de Interés Turístico de la Comunitat Valenciana\, se celebrará del 7 al 9 de febrero en Valencia. Talleres artesanales\, ludoteca familiar\, granja educativa entre otros.  \n\n\n\n\n\n\nMercado de la Reserva\n\n\n\nJuegos\, granja\, aves rapaces \n\n\n\n\n\n\n\nCartel Oficial\n\n\n\nProgramación :\n\n\n\n\n\n\n\n \n\n\n\n\n\n\n\n \n\n\n\n\n\n\n\nFechas : 08 y 09 de Febrero 2025 \n\n\n\nLocalidad y provincia : Quesa\, VALENCIA \n\n\n\nDescripción de la localidad : Quesa es un municipio español de la Comunidad Valenciana\, perteneciente a la provincia de Valencia\, ubicado en la comarca del Canal de Navarrés. \n\n\n\nContara con las siguientes actividades y espectáculos : \n\n\n\nJuegos\, granja\, aves rapaces. \n\n\n\nSi quieres participar como artesano / vendedor en este mercado/feria debes ponerte en contacto con el organizador del mismoDATOS DEL ORGANIZADOR : EL PALLETER MEDIEVAL \n\n\n\nTeléfono : 653 555 365  e-mail: elpalletermedieval@gmail.com \n\n\n\nLA RESERVA EN QUESA :\n\n\n\nSe trata sin duda de la fiesta más tradicional y querida por los vecinos del municipio. Declarada Fiesta de Interés turístico local en la Comunitat Valenciana en 2012. Tiene su origen en 1695\, cinco años antes una epidemia asoló el pueblo dejando con vida solo a la Familia García. Ésta familia daba cobijo y comida a todos aquellos que acudían al pueblo para su repoblación. En conmemoración esta repoblación del pueblo se celebra esta fiesta. \n\n\n\nSe celebra el segundo fin de semana de febrero y durante el mismo se celebran entre otras actividades: mercado medieval\, degustaciones gastronómicas autóctonas\, reparto de paella y pan para todos los asistentes\, talleres artesanales… \n\n\n\nDesde hace varios años también se lleva a cabo la recreación histórica de los hechos orígen de esta fiesta\, por el Grupo de teatro local y con la colaboración de otras asociaciones y de voluntarios del pueblo. El fin de semana de “La Reserva”\, Quesa puede llegar a triplicar la población de residentes gracias a la afluencia de visitantes\, muchos de ellos familiares y amigos\, número de visitantes que en los últimos años se ha considerado superior a 2000 personas a lo largo del fin de semana festivo. \n\n\n\nMás fechas  Puedes conocer mas ferias y mercados en está provincia\, consultando nuestra sección de Eventos de la provincia de Valencia \n\n\n\nOtros eventos del organizadorConsulta Aquí otras ferias y mercados que organizará la empresa EL PALLETER MEDIEVAL \n\n\n\notros mercados temáticos y FeriasSi quieres conocer cuando se realizan más ferias y mercados\, puedes consultarlos visitando nuestro   Calendario de Eventos \n\n\n\nCalendario 2025\n\n\n\nSobre los Mercados Medievales\n\n\n\nLas ferias medievales son eventos que recrean la atmósfera de la Edad Media. Por lo general\, se llevan a cabo en pueblos o ciudades\, y presentan puestos de vendedores que venden artesanías\, alimentos y bebidas. También puede haber entretenimiento\, como justas\, música y baile.  \n\n\n\n\n\n\n\nOrganizador\n\n\n\n\n\nLocalización\n\n\n\nQuesa es un municipio español de la Comunidad Valenciana\, perteneciente a la provincia de Valencia\, ubicado en la comarca del Canal de Navarrés.
URL:https://demercadosmedievales.info/mercadomedieval/mercado-de-la-reserva-de-quesa-2025-valencia/
LOCATION:Quesa (Valencia) (***)\, Quesa\, Valencia\, 46824\, Spain
CATEGORIES:Cartel,Feria tradicional,Mercado tradicional,Programación,Valencia
ATTACH;FMTTYPE=image/jpeg:https://demercadosmedievales.info/wp-content/uploads/2024/11/Quesa_mercado_reserva_2024-f.jpg
ORGANIZER;CN="El Palleter medieval":MAILTO:elpalletermedieval@gmail.com
GEO:39.1178831;-0.7393214
END:VEVENT
END:VCALENDAR