BEGIN:VCALENDAR
VERSION:2.0
PRODID:-//Mercados Medievales - ECPv6.15.20//NONSGML v1.0//EN
CALSCALE:GREGORIAN
METHOD:PUBLISH
X-ORIGINAL-URL:https://demercadosmedievales.info
X-WR-CALDESC:Eventos para Mercados Medievales
REFRESH-INTERVAL;VALUE=DURATION:PT1H
X-Robots-Tag:noindex
X-PUBLISHED-TTL:PT1H
BEGIN:VTIMEZONE
TZID:Europe/Madrid
BEGIN:DAYLIGHT
TZOFFSETFROM:+0100
TZOFFSETTO:+0200
TZNAME:CEST
DTSTART:20230326T010000
END:DAYLIGHT
BEGIN:STANDARD
TZOFFSETFROM:+0200
TZOFFSETTO:+0100
TZNAME:CET
DTSTART:20231029T010000
END:STANDARD
BEGIN:DAYLIGHT
TZOFFSETFROM:+0100
TZOFFSETTO:+0200
TZNAME:CEST
DTSTART:20240331T010000
END:DAYLIGHT
BEGIN:STANDARD
TZOFFSETFROM:+0200
TZOFFSETTO:+0100
TZNAME:CET
DTSTART:20241027T010000
END:STANDARD
BEGIN:DAYLIGHT
TZOFFSETFROM:+0100
TZOFFSETTO:+0200
TZNAME:CEST
DTSTART:20250330T010000
END:DAYLIGHT
BEGIN:STANDARD
TZOFFSETFROM:+0200
TZOFFSETTO:+0100
TZNAME:CET
DTSTART:20251026T010000
END:STANDARD
END:VTIMEZONE
BEGIN:VEVENT
DTSTART;TZID=Europe/Madrid:20240725T000000
DTEND;TZID=Europe/Madrid:20240727T235959
DTSTAMP:20260420T112009
CREATED:20240608T112144Z
LAST-MODIFIED:20240715T093909Z
UID:10001414-1721865600-1722124799@demercadosmedievales.info
SUMMARY:Mercado Zoco Árabe de Purchena (Almería) 2024
DESCRIPTION:El mercado Zoco Árabe contará con decoración temática andalusí\, así como animación teatral con personajes\, pasacalles\, circo\, campamento árabe \, talleres de oficios\, exposiciones temáticas\, rincón infantil con juegos y atracciones… \n\n\n \nTags:  Feria Medieval\,Convocatoria\,Zoco  Árabe\, Purchena\,Andalucia\,2024\,España \nMercado Zoco Árabe\nJuegos Moriscos de Abén Humeya\n \nJueves\, Viernes y Sábado \n25\, 26 y 27 de julio \n\n\n\nLos Juegos Moriscos de Abén Humeya son un evento histórico-deportivo celebrado anualmente en el municipio de Purchena (Almería\, España) desde 1993. Se desarrollan durante el primer fin de semana de agosto y han sido declarados de «Interés Turístico Nacional de Andalucía». Los Juegos Moriscos constituyen una muestra del legado granadino\, con concursos de música\, canto y danza\, muestras de cocina y zoco artesanal\, todo ello enriquecido cada noche por las actuaciones de grupos de música y étnica. \n\n\n\nCartel \n\n\n\nProgramación \nPROXIMAMENTE \nInformación básica del Mercado\nMercado Zoco Árabe\nPurchena (Almería)\n25\, 26 Y 27 De Julio (¡Ojo! Jueves\, Viernes Y Sábado)\nCentro Del Municipio \nFecha de celebración\n Los dias 25\, 26 y 27 de julio  del  2024 \nDonde se realiza\nEn el centro del municipio de Purchena de que pertenece a la provincia de  ALMERIA  \nUbicación del Evento\nEstará ubicado en el centro del municipio \nInformación del Organizador\nLa empresa organizadora es LA FRAGUA DE VULCANO \, organiza este mercado Zoco Árabe que se llevará a cabo entre los días 25\, 26 y 27 de julio en la localidad de Purchena (Almería) El mercado se celebra en jueves\, viernes y sábado. El mercado Zoco Árabe contará con decoración temática andalusí\, así como animación teatral con personajes\, pasacalles\, circo\, campamento árabe \, talleres de oficios\, exposiciones temáticas\, rincón infantil con juegos y atracciones… \nComo participar\nLos organizadores han facilitado los siguientes medios de contacto para que se inscriban y/o consulten los artesanos y mercaderes:\nInformación e Inscripciones:\nlafragua@espectaculosamb.com \nMás fechas\nPuedes conocer mas ferias y mercados en está provincia\, consultando nuestra sección de  Eventos en Almería \nOtros eventos\nConsulta Aquí otras ferias y mercados que organizará la empresa La Fragua de Vulcano \nOtros mercados temáticos y Ferias\nSi quieres conocer cuando se realizan más ferias y mercados\, puedes consultarlos visitando nuestro  👀 Calendario de Eventos \nAcerca de Purchena\nPurchena es una ciudad​ y un municipio español de la provincia de Almería\, en la comunidad autónoma de Andalucía\, situada en la comarca del Valle del Almanzora. Se localiza a 91 km de la capital provincial\, Almería; a 28 km del límite de la provincia de Granada\, concretamente a 144 km de su capital provincial\, Granada; y 158 km de Murcia capital. \nCalendario 2024\nSobre los Mercados Medievales\nLas ferias medievales son eventos que recrean la atmósfera de la Edad Media. Por lo general\, se llevan a cabo en pueblos o ciudades\, y presentan puestos de vendedores que venden artesanías\, alimentos y bebidas. También puede haber entretenimiento\, como justas\, música y baile. \nTags:  Feria Medieval\,Convocatoria\,organizador\,montaje\,inscripciones\,cuando\,donde\,localización\,2024\,España
URL:https://demercadosmedievales.info/mercadomedieval/mercado-zoco-arabe-de-purchena-almeria-2024/
LOCATION:Purchena (Almería) (***)\, Purchena\, Almería\, 04870
CATEGORIES:Almería,Cartel,Mercado arabe
ATTACH;FMTTYPE=image/jpeg:https://demercadosmedievales.info/wp-content/uploads/2024/06/zoco_arabe_purchena_f-1.jpg
ORGANIZER;CN="La Fragua de Vulcano":MAILTO:lafragua@espectaculosamb.com
GEO:37.3472466;-2.3603867
END:VEVENT
END:VCALENDAR