BEGIN:VCALENDAR
VERSION:2.0
PRODID:-//Mercados Medievales - ECPv6.15.20//NONSGML v1.0//EN
CALSCALE:GREGORIAN
METHOD:PUBLISH
X-WR-CALNAME:Mercados Medievales
X-ORIGINAL-URL:https://demercadosmedievales.info
X-WR-CALDESC:Eventos para Mercados Medievales
REFRESH-INTERVAL;VALUE=DURATION:PT1H
X-Robots-Tag:noindex
X-PUBLISHED-TTL:PT1H
BEGIN:VTIMEZONE
TZID:Europe/Madrid
BEGIN:DAYLIGHT
TZOFFSETFROM:+0100
TZOFFSETTO:+0200
TZNAME:CEST
DTSTART:20230326T010000
END:DAYLIGHT
BEGIN:STANDARD
TZOFFSETFROM:+0200
TZOFFSETTO:+0100
TZNAME:CET
DTSTART:20231029T010000
END:STANDARD
BEGIN:DAYLIGHT
TZOFFSETFROM:+0100
TZOFFSETTO:+0200
TZNAME:CEST
DTSTART:20240331T010000
END:DAYLIGHT
BEGIN:STANDARD
TZOFFSETFROM:+0200
TZOFFSETTO:+0100
TZNAME:CET
DTSTART:20241027T010000
END:STANDARD
BEGIN:DAYLIGHT
TZOFFSETFROM:+0100
TZOFFSETTO:+0200
TZNAME:CEST
DTSTART:20250330T010000
END:DAYLIGHT
BEGIN:STANDARD
TZOFFSETFROM:+0200
TZOFFSETTO:+0100
TZNAME:CET
DTSTART:20251026T010000
END:STANDARD
BEGIN:DAYLIGHT
TZOFFSETFROM:+0100
TZOFFSETTO:+0200
TZNAME:CEST
DTSTART:20260329T010000
END:DAYLIGHT
BEGIN:STANDARD
TZOFFSETFROM:+0200
TZOFFSETTO:+0100
TZNAME:CET
DTSTART:20261025T010000
END:STANDARD
END:VTIMEZONE
BEGIN:VEVENT
DTSTART;TZID=Europe/Madrid:20241206T000000
DTEND;TZID=Europe/Madrid:20250105T235959
DTSTAMP:20260420T170504
CREATED:20241115T071216Z
LAST-MODIFIED:20241208T061945Z
UID:10001935-1733443200-1736121599@demercadosmedievales.info
SUMMARY:Mercado de Navidad en Pozuelo de Alarcón 2024 (Madrid)
DESCRIPTION:El Mercado contará con moda y complementos\, bisutería\, cosmética\, perfumes\, productos gourmet. Además\, de una zona gastronómica con productos navideños.  \n\n\n \n\n\n\n\n\n\n\n \n\n\n\n\nFerias de NavidadLlegan las fechas de los mercados navideños\,  consulta el calendario de Ferias Y Mercados de navidad . \n\n\n\n\nEn esta edición del Mercado de la Navidad no pierdas la oportunidad de realizar tus compras navideñas con los productos más exclusivos. El Mercado contará con comercios que ofrecerán entre otros:  moda y complementos\, bisutería\, cosmética\, perfumes\, menaje\, productos gourmet y por supuesto\, decoración navideña. Además\, podrás disfrutar de una zona gastronómica con productos típicos de la Navidad. \n\n\n\nLugar : Bulevar de la Avenida de Europa\, desde la Glorieta Víctimas del Terrorismo hasta la Carretera de Húmera. \n\n\n\nMercado Navideño\n\n\n\n\n\n\n\nEl Mercado de Navidad de Pozuelo de Alarcón se ha convertido en una tradición muy esperada por los vecinos y visitantes. Durante estas fechas\, el Bulevar de la Avenida de Europa se transforma en un espacio mágico y lleno de encanto navideño. \n\n\n\n¿Qué puedes encontrar? \n\n\n\n\nAmplia variedad de productos: Desde artículos de decoración navideña hasta regalos originales\, pasando por productos gourmet\, artesanía local y mucho más.\n\n\n\nAmbiente festivo: Las luces\, la música navideña y la decoración crean un ambiente acogedor y perfecto para disfrutar en familia o con amigos.\n\n\n\nGastronomía: Una amplia oferta gastronómica te permitirá degustar platos tradicionales y productos navideños mientras paseas por el mercado.\n\n\n\n\n \n\n\n\nProgramación  \n\n\n\n\n\n\n\nInformación básica del Mercado\n\n\n\nFecha de celebración Los dias  06 de Diciembre del  2024 al 05 de Enero del 2025 \n\n\n\nDonde se realizaEn la localidad de Pozuelo de Alarcón que pertenece a la provincia de  MADRID  /  Pozuelo de Alarcón es una ciudad y municipio español perteneciente a la Comunidad de Madrid\, situado en el área metropolitana\, al oeste y ligeramente al norte de la capital. \n\n\n\nUbicación del EventoEstará ubicado en  el Bulevar de la avd. Europa\, entre la Glorieta Víctimas del Terrorismo y la Carretera Húmera \n\n\n\nInformación del Organizador\n\n\n\nLa empresa organizadora es RIVENDEL MERCADOS TEMATICOS \n\n\n\nInformación e Inscripciones :mercados@rivendelmercados.com Y su página Web donde se pueden inscribir :https://rivendelmercados.com/rivendelmercadosslu/ \n\n\n\nMás fechas  Puedes conocer mas ferias y mercados en está provincia\, consultando nuestra sección de Eventos en la provincia de Madrid \n\n\n\nOtros eventosConsulta Aquí otras ferias y mercados que organizará la empresa Rivendel Mercados Temáticos \n\n\n\notros mercados temáticos y FeriasSi quieres conocer cuando se realizan más ferias y mercados\, puedes consultarlos visitando nuestro   Calendario de Eventos \n\n\n\nCalendario 2024\n\n\n\nCalendario 2025\n\n\n\nSobre los Mercados Medievales\n\n\n\nLas ferias medievales son eventos que recrean la atmósfera de la Edad Media. Por lo general\, se llevan a cabo en pueblos o ciudades\, y presentan puestos de vendedores que venden artesanías\, alimentos y bebidas. También puede haber entretenimiento\, como justas\, música y baile.  \n\n\n\n\n\n\n\nOrganizador\n\n\n\n\n\nLocalización \n\n\n\nPozuelo de Alarcón es una ciudad y municipio español perteneciente a la Comunidad de Madrid\, situado en el área metropolitana\, al oeste y ligeramente al norte de la capital.
URL:https://demercadosmedievales.info/mercadomedieval/mercado-de-navidad-en-pozuelo-de-alarcon-2024-madrid/
LOCATION:Pozuelo de Alarcón (Madrid) (***)\, Pozuelo de Alarcón\, Madrid\, 28223\, España
CATEGORIES:Cartel,Comunidad de Madrid,Mercados de navidad,Programación
ATTACH;FMTTYPE=image/jpeg:https://demercadosmedievales.info/wp-content/uploads/2024/11/mercado_navidad_pozuelo_cartel-f.jpg
ORGANIZER;CN="Rivendel mercados tem%C3%A1ticos":MAILTO:mercados@rivendelmercados.com
GEO:40.4243614;-3.8197381
END:VEVENT
END:VCALENDAR