BEGIN:VCALENDAR
VERSION:2.0
PRODID:-//Mercados Medievales - ECPv6.15.20//NONSGML v1.0//EN
CALSCALE:GREGORIAN
METHOD:PUBLISH
X-WR-CALNAME:Mercados Medievales
X-ORIGINAL-URL:https://demercadosmedievales.info
X-WR-CALDESC:Eventos para Mercados Medievales
REFRESH-INTERVAL;VALUE=DURATION:PT1H
X-Robots-Tag:noindex
X-PUBLISHED-TTL:PT1H
BEGIN:VTIMEZONE
TZID:Europe/Madrid
BEGIN:DAYLIGHT
TZOFFSETFROM:+0100
TZOFFSETTO:+0200
TZNAME:CEST
DTSTART:20240331T010000
END:DAYLIGHT
BEGIN:STANDARD
TZOFFSETFROM:+0200
TZOFFSETTO:+0100
TZNAME:CET
DTSTART:20241027T010000
END:STANDARD
BEGIN:DAYLIGHT
TZOFFSETFROM:+0100
TZOFFSETTO:+0200
TZNAME:CEST
DTSTART:20250330T010000
END:DAYLIGHT
BEGIN:STANDARD
TZOFFSETFROM:+0200
TZOFFSETTO:+0100
TZNAME:CET
DTSTART:20251026T010000
END:STANDARD
BEGIN:DAYLIGHT
TZOFFSETFROM:+0100
TZOFFSETTO:+0200
TZNAME:CEST
DTSTART:20260329T010000
END:DAYLIGHT
BEGIN:STANDARD
TZOFFSETFROM:+0200
TZOFFSETTO:+0100
TZNAME:CET
DTSTART:20261025T010000
END:STANDARD
END:VTIMEZONE
BEGIN:VEVENT
DTSTART;TZID=Europe/Madrid:20250116T000000
DTEND;TZID=Europe/Madrid:20250117T235959
DTSTAMP:20260421T122025
CREATED:20241204T051918Z
LAST-MODIFIED:20250105T090522Z
UID:10001993-1736985600-1737158399@demercadosmedievales.info
SUMMARY:Mercado Tradicional del Porrat de Sant Antoni en Valencia - 16 y 17 de enero de 2025
DESCRIPTION:Convocatoria abierta para el Mercado Tradicional del Porrat de Sant Antoni\, Valencia\, 16 y 17 enero 2025\, en la Calle Sagunto\, Valencia capital.  \n\n\n \n\n\n\n\n\n\n\nMercado Tradicional del Porrat de Sant Antoni\n\n\n\nConvocatoria de Participación Valencia\, 16 y 17 de enero de 2025\n\n\n\n\n\n\n\nCon motivo de la Festividad de Sant Antoni Abat\, invitamos a artesanos\, mercaderes\, y expositores interesados en formar parte del Mercado Tradicional del Porrat de Sant Antoni\, que tendrá lugar los días 16 y 17  de enero de 2025 en la Calle Sagunto\, Valencia capital. \n\n\n\nEste mercado se celebra como parte de las festividades de San Antonio Abad\, que incluyen el tradicional desfile y bendición de animales\, atrayendo a numerosos visitantes y familias. La actividad se organiza conjuntamente con el Mercado Medieval de San Antonio (9 al 12 de enero)\, ofreciendo la posibilidad de participar en ambos eventos. \n\n\n\n \n\n\n\nBases de participación\n\n\n\nOtros relacionados con la temática tradicional. \n\n\n\nProductos admitidos: \n\n\n\n\nArtesanías.\n\n\n\nProductos tradicionales y gastronómicos.\n\n\n\nDemostraciones de oficios antiguos.\n\n\n\n\n\nInscripciones:\n\nFecha límite:  Lo antes posible\n\n\n\nContacto:  lafragua@espectaculosamb.com\n\n\n\nDocumentación requerida: Solicitud cumplimentada\, listado de productos a exhibir\, y fotografía del PUESTO.\n\n\n\n\n\nCostes:\n\nLas tarifas de participación serán detalladas al momento de inscripción.\n\n\n\n\n\n\n\n\n\n\n\nFestividad de Sant Antoni Abad en Valencia  \n\n\n\n\n\n\n\n\nBeneficios para los participantes\n\n\n\n\nExposición en un evento emblemático de gran afluencia de público.\n\n\n\nPosibilidad de formar parte de dos mercados consecutivos.\n\n\n\nPromoción de los participantes a través de los canales de difusión del evento.\n\n\n\n\n¡Únete a este evento único y comparte tu talento\, productos y tradiciones con la comunidad valenciana!Para más información\, contacta con La Fragua de Vulcano a través de: lafragua@espectaculosamb.com \n\n\n\nEmpresa organizadora :\n\n\n\nLa organización y decoración de este evento están a cargo de LA FRAGUA DE VULCANO Descubre las próximas ferias y mercados en su agenda: 👉 Consulta Aquí para acceder al calendario. Para más información y registro\, contacta con: 📧 lafragua@espectaculosamb.com \n\n\n\n\n\n\n\nFerias y Mercados en la Provincia de Valencia\n\n\n\nExplora otros eventos en la misma provincia visitando nuestra sección de Eventos de LA PROVINCIA DE VALENCIA\, donde encontrarás información actualizada sobre ferias\, mercados y actividades para todas las edades. \n\n\n\n\n\n\n\nCalendario de Mercados Temáticos y Ferias\n\n\n\n¿Quieres saber cuándo y dónde se realizarán más ferias y mercados?Visita nuestro Calendario de Eventos para obtener detalles de: Calendario 2025: Planifica con anticipación y no te pierdas ninguna cita. \n\n\n\n \n\n\n\n\n\n\n\nLos Mercados y Ferias Medievales\n\n\n\nLas ferias medievales son auténticos viajes en el tiempo. Estos eventos recrean la atmósfera de la Edad Media. Leer más… \n\n\n\n\n\n\n\n\nMERCADOS MEDIEVALES Y TEMATICOS \n\n\n\nInformación de los próximos mercados medievales\, temáticos\, de artesanía a nivel nacional además de ofrecer información sobre servicios de alquiler de casetas\, venta de paradas\, cooperativas\, decoración y más. \n\n\n\nwww.mercados medievales.net \n\n\n\n\n\n\n\n\nEn Resumen…\n\n\n\nMERCADO TRADICIONAL DEL PORRAT DE SANT ANTONI16 y 17 DE ENERO DE 2025Lugar: Calle Sagunto de ValenciaMontaje: Pendiente de confirmar día y horaHorario del mercado: Jueves 16 de 17:00 a 23:00 horas. Viernes 17 de 10 a 23 horas \n\n\n\n\n\n\n\n\n\n\n\nEstos eventos recrean la atmósfera de la Edad Media \n\n\n\n \n\n\n\n\n\n\n\nOrganiza :\n\n\n\n\n\nLugar :\n\n\n\nValencia ​ es un municipio​ y una ciudad de España\, capital de la provincia homónima y de la Comunidad Valenciana. Su población es de 807 693 habitantes\, alcanzando los 1 581 057 habitantes si se incluye su espacio urbano.​
URL:https://demercadosmedievales.info/mercadomedieval/mercado-tradicional-del-porrat-de-sant-antoni-en-valencia-16-y-17-de-enero-de-2025/
LOCATION:Valencia capital (Calle Sagunto) (***)\, Calle Sagunto\, Valencia\, Valencia\, España
CATEGORIES:Mercado tradicional,Porrats,Valencia
ATTACH;FMTTYPE=image/jpeg:https://demercadosmedievales.info/wp-content/uploads/2024/12/porrat_valencia_sant_antoni_2025_f-2.jpg
ORGANIZER;CN="La Fragua de Vulcano":MAILTO:lafragua@espectaculosamb.com
GEO:39.4865871;-0.3748959
X-APPLE-STRUCTURED-LOCATION;VALUE=URI;X-ADDRESS=Valencia capital (Calle Sagunto) (***) Calle Sagunto Valencia Valencia España;X-APPLE-RADIUS=500;X-TITLE=Calle Sagunto:geo:-0.3748959,39.4865871
END:VEVENT
END:VCALENDAR