BEGIN:VCALENDAR
VERSION:2.0
PRODID:-//Mercados Medievales - ECPv6.15.20//NONSGML v1.0//EN
CALSCALE:GREGORIAN
METHOD:PUBLISH
X-ORIGINAL-URL:https://demercadosmedievales.info
X-WR-CALDESC:Eventos para Mercados Medievales
REFRESH-INTERVAL;VALUE=DURATION:PT1H
X-Robots-Tag:noindex
X-PUBLISHED-TTL:PT1H
BEGIN:VTIMEZONE
TZID:Europe/Madrid
BEGIN:DAYLIGHT
TZOFFSETFROM:+0100
TZOFFSETTO:+0200
TZNAME:CEST
DTSTART:20220327T010000
END:DAYLIGHT
BEGIN:STANDARD
TZOFFSETFROM:+0200
TZOFFSETTO:+0100
TZNAME:CET
DTSTART:20221030T010000
END:STANDARD
BEGIN:DAYLIGHT
TZOFFSETFROM:+0100
TZOFFSETTO:+0200
TZNAME:CEST
DTSTART:20230326T010000
END:DAYLIGHT
BEGIN:STANDARD
TZOFFSETFROM:+0200
TZOFFSETTO:+0100
TZNAME:CET
DTSTART:20231029T010000
END:STANDARD
BEGIN:DAYLIGHT
TZOFFSETFROM:+0100
TZOFFSETTO:+0200
TZNAME:CEST
DTSTART:20240331T010000
END:DAYLIGHT
BEGIN:STANDARD
TZOFFSETFROM:+0200
TZOFFSETTO:+0100
TZNAME:CET
DTSTART:20241027T010000
END:STANDARD
END:VTIMEZONE
BEGIN:VEVENT
DTSTART;VALUE=DATE:20231201
DTEND;VALUE=DATE:20231204
DTSTAMP:20260420T100343
CREATED:20231006T171840Z
LAST-MODIFIED:20231128T130303Z
UID:10000171-1701388800-1701647999@demercadosmedievales.info
SUMMARY:Mercado Navideño De Paracuellos De Jarama ( Madrid ) 2023 Plaza Constitución
DESCRIPTION:Mercado Navideño en la Plaza Constitución\, será los días 01 al 03 de Diciembre 2023 . Inscripciones abiertas. \n \nMercado de navidad\nFECHAS :   01 AL 03 DE DICIEMBRE 2023\nLOCALIDAD Y PROVINCIA : Paracuellos de Jarama\, MADRID \nUBICACION :  Plaza Constitución\nMONTAJE : por confirmar\nEL ORGANIZADOR PROVEERÁ DE :   Agua\, electricidad y vigilancia disuasoria. \nPuedes participar poniéndote en contacto con :\nOrganiza : ANAYAO\nDatos de contacto: Telefono : 925800859 – Sagrario 607 71 57 90\nHorario de atencion : DE LUNES A VIERNES DE 9.00H A 15.00H \nCartel\n \n  \nDonde puedo consultar más mercados y ferias navideños\n\n\nen nuestra Agenda de Ferias\, Mercados y mercadillos de navidad 2023 – 2024\nLas ferias\, mercados y mercadillos navideños son una tradición navideña que se celebra en muchos países del mundo. En España\, estas ferias se han convertido en un atractivo turístico muy popular\, y atraen a miles de visitantes cada año. \nAquí encontraras un calendario de Ferias\, Mercados y mercadillos de navidad : Agenda de navidad 2023 – 2024 \n\n  \nSiempre a tu lado !!!\n  \n 
URL:https://demercadosmedievales.info/mercadomedieval/mercado-navideno-de-paracuellos-de-jarama-madrid-2023-plaza-constitucion/
LOCATION:Paracuellos de Jarama ( Madrid ) Plaza Constitución (***)\, Plaza Constitución\, Paracuellos de Jarama\, Comunidad de Madrid
CATEGORIES:Anayao eventos temáticos,Mercados de navidad,Paracuellos de Jarama
ATTACH;FMTTYPE=image/jpeg:https://demercadosmedievales.info/wp-content/uploads/2023/10/Paracuellos_navidad_2023_faceb-1.jpg
GEO:40.5047869;-3.5315653
X-APPLE-STRUCTURED-LOCATION;VALUE=URI;X-ADDRESS=Paracuellos de Jarama ( Madrid ) Plaza Constitución (***) Plaza Constitución Paracuellos de Jarama Comunidad de Madrid;X-APPLE-RADIUS=500;X-TITLE=Plaza Constitución:geo:-3.5315653,40.5047869
END:VEVENT
BEGIN:VEVENT
DTSTART;VALUE=DATE:20231221
DTEND;VALUE=DATE:20231224
DTSTAMP:20260420T100343
CREATED:20231003T171926Z
LAST-MODIFIED:20231003T171926Z
UID:10000162-1703116800-1703375999@demercadosmedievales.info
SUMMARY:Mercado Navideño de Paracuellos de Jarama ( Madrid ) 2023
DESCRIPTION:Abierta la convocatoria de participación del Mercado Navideño en la Calle Urano de Paracuellos. \n \nMercado Navideño\nFECHAS :   21 al 23 de Diciembre 2023\nLOCALIDAD :  Paracuellos de Jarama\nPROVINCIA : MADRID\nUBICACION : CALLE URANO \nComo participar en el Mercado Navideño ?\nPonte en contacto con MERCADOS ARLEKIN \nLLAMAR AL 677538351   JUANJO o AL  628100548\nemail: mercadosarlekin@gmail.com \nCartel\n \nmercadosmedievales.net – Mercado Navideño en Paracuellos de Jarama ( Madrid ) 2023 \nParacuellos de Jarama\, Comunidad de Madrid
URL:https://demercadosmedievales.info/mercadomedieval/mercado-navideno-de-paracuellos-de-jarama-madrid-2023/
LOCATION:Paracuellos de Jarama ( Madrid) (***)\, Paracuellos de Jarama\, Madrid
CATEGORIES:Mercados Arlekin,Mercados de navidad,Paracuellos de Jarama
ATTACH;FMTTYPE=image/jpeg:https://demercadosmedievales.info/wp-content/uploads/2023/10/PARACUELLOS_NAVIDAD_2023_WEB.jpg
ORGANIZER;CN="Mercados Arlekin":MAILTO:mercadosarlekin@gmail.com
GEO:40.5056034;-3.5302108
END:VEVENT
END:VCALENDAR