BEGIN:VCALENDAR
VERSION:2.0
PRODID:-//Mercados Medievales - ECPv6.15.20//NONSGML v1.0//EN
CALSCALE:GREGORIAN
METHOD:PUBLISH
X-ORIGINAL-URL:https://demercadosmedievales.info
X-WR-CALDESC:Eventos para Mercados Medievales
REFRESH-INTERVAL;VALUE=DURATION:PT1H
X-Robots-Tag:noindex
X-PUBLISHED-TTL:PT1H
BEGIN:VTIMEZONE
TZID:Europe/Madrid
BEGIN:DAYLIGHT
TZOFFSETFROM:+0100
TZOFFSETTO:+0200
TZNAME:CEST
DTSTART:20230326T010000
END:DAYLIGHT
BEGIN:STANDARD
TZOFFSETFROM:+0200
TZOFFSETTO:+0100
TZNAME:CET
DTSTART:20231029T010000
END:STANDARD
BEGIN:DAYLIGHT
TZOFFSETFROM:+0100
TZOFFSETTO:+0200
TZNAME:CEST
DTSTART:20240331T010000
END:DAYLIGHT
BEGIN:STANDARD
TZOFFSETFROM:+0200
TZOFFSETTO:+0100
TZNAME:CET
DTSTART:20241027T010000
END:STANDARD
BEGIN:DAYLIGHT
TZOFFSETFROM:+0100
TZOFFSETTO:+0200
TZNAME:CEST
DTSTART:20250330T010000
END:DAYLIGHT
BEGIN:STANDARD
TZOFFSETFROM:+0200
TZOFFSETTO:+0100
TZNAME:CET
DTSTART:20251026T010000
END:STANDARD
END:VTIMEZONE
BEGIN:VEVENT
DTSTART;TZID=Europe/Madrid:20240712T000000
DTEND;TZID=Europe/Madrid:20240712T235959
DTSTAMP:20260419T191213
CREATED:20240702T173849Z
LAST-MODIFIED:20240820T093054Z
UID:10001519-1720742400-1720828799@demercadosmedievales.info
SUMMARY:Feria Artesana y Comercial Mar y Arte de Mazagón (Huelva)
DESCRIPTION:La Feria Artesana y Comercial Mar y Arte estará ubicada en la Plaza Doctor Betanzos de Mazagón\, del 12 de Julio al 1 de Septiembre. \n \nTags:  Feria Medieval\,Convocatoria\,organizador\,montaje\,inscripciones\,cuando\,donde\,localización\,2024\,España \nFeria Artesana y Comercial Mar y Arte\nPleno CentroMontaje En Casetas De Madera \nLa Feria constara de 12 a 15 casetas en Madera con tres planos de Exposición (Frontal de 3 metros y laterales de 2 metros cada uno de ellos)\, la ubicación de la puerta de acceso es trasera \nDECORACION ZONA EVENTOLa Zona del evento para el atractivo de la misma será decorada \nBAÑOS QUIMICOSInstalación de Baños Químicos para expositores zona Evento \nDINAMIZACION DE LA FERIAContaremos con Atracciones y Espectáculos durante los fines de semana de duración de la Feria. \nSEGURIDAD EN EL EVENTOIgualmente Contaremos con servicio de Seguridad Nocturna en el Evento \, de 2 de la Madrugada (estimación del cierre) hasta las 9 de la Mañana siguiente \nInformación básica del Mercado\nFecha de celebración Los dias del 12 de Julio al 1 de Septiembre del  2024 \nDonde se realizaEn la localidad de Mazagón  que pertenece a la provincia de HUELVA / Mazagón es un núcleo de población perteneciente a los municipios de Moguer y Palos de la Frontera en la provincia de Huelva\, Andalucía\, España. Está regido por la mancomunidad Moguer – Palos de la Frontera​ constituida por los ayuntamientos de Moguer y Palos de la Frontera. \nUbicación del EventoEstará ubicado en Plaza Doctor Betanzos \nInformación del Organizador\nLa empresa organizadora es ADONAY EVENTOS \nComo participar\nInformación e Inscripciones: Adonay Eventos 695 022 197 \nMás fechasPuedes conocer mas ferias y mercados en está provincia\, consultando nuestra sección de Eventos en Huelva \nOtros eventosConsulta Aquí otras ferias y mercados que organizará la empresa Adonay Eventos \nOtros mercados temáticos y FeriasSi quieres conocer cuando se realizan más ferias y mercados\, puedes consultarlos visitando nuestro  Calendario de Eventos \nAcerca de Mazagón\nMazagón es un núcleo de población perteneciente a los municipios de Moguer y Palos de la Frontera en la provincia de Huelva\, Andalucía\, España. Está regido por la mancomunidad Moguer – Palos de la Frontera​ constituida por los ayuntamientos de Moguer y Palos de la Frontera. \nCalendario 2024\nSobre los Mercados Medievales\nLas Ferias y mercados medievales son eventos populares que recrean el ambiente y la atmósfera de la Edad Media. Estos eventos suelen tener lugar en diferentes partes del mundo y atraen a numerosos visitantes que desean sumergirse en la historia y disfrutar de una experiencia única. Las ferias y mercados medievales suelen tener una gran cantidad de visitantes\, ya que ofrecen una oportunidad única de sumergirse en la historia y disfrutar de una experiencia diferente. También son muy populares entre los amantes de la cultura medieval\, los aficionados a la historia y las familias que buscan una actividad divertida y educativa. Consulta nuestro amplio calendario de eventos \n 
URL:https://demercadosmedievales.info/mercadomedieval/feria-artesana-y-comercial-mar-y-arte-de-mazagon-huelva-2024/
LOCATION:Mazagón (Huelva) (***)\, Mazagón\, Huelva\, 21130
CATEGORIES:Huelva,Mercado de Verano
ATTACH;FMTTYPE=image/jpeg:https://demercadosmedievales.info/wp-content/uploads/2024/07/VERANO_MAZAGON_f.jpg
ORGANIZER;CN="Recreaciones Adonay eventos":MAILTO:adonayrecreaciones@gmail.com
GEO:37.1369251;-6.828392
END:VEVENT
END:VCALENDAR