BEGIN:VCALENDAR
VERSION:2.0
PRODID:-//Mercados Medievales - ECPv6.15.20//NONSGML v1.0//EN
CALSCALE:GREGORIAN
METHOD:PUBLISH
X-ORIGINAL-URL:https://demercadosmedievales.info
X-WR-CALDESC:Eventos para Mercados Medievales
REFRESH-INTERVAL;VALUE=DURATION:PT1H
X-Robots-Tag:noindex
X-PUBLISHED-TTL:PT1H
BEGIN:VTIMEZONE
TZID:Europe/Madrid
BEGIN:DAYLIGHT
TZOFFSETFROM:+0100
TZOFFSETTO:+0200
TZNAME:CEST
DTSTART:20230326T010000
END:DAYLIGHT
BEGIN:STANDARD
TZOFFSETFROM:+0200
TZOFFSETTO:+0100
TZNAME:CET
DTSTART:20231029T010000
END:STANDARD
BEGIN:DAYLIGHT
TZOFFSETFROM:+0100
TZOFFSETTO:+0200
TZNAME:CEST
DTSTART:20240331T010000
END:DAYLIGHT
BEGIN:STANDARD
TZOFFSETFROM:+0200
TZOFFSETTO:+0100
TZNAME:CET
DTSTART:20241027T010000
END:STANDARD
BEGIN:DAYLIGHT
TZOFFSETFROM:+0100
TZOFFSETTO:+0200
TZNAME:CEST
DTSTART:20250330T010000
END:DAYLIGHT
BEGIN:STANDARD
TZOFFSETFROM:+0200
TZOFFSETTO:+0100
TZNAME:CET
DTSTART:20251026T010000
END:STANDARD
END:VTIMEZONE
BEGIN:VEVENT
DTSTART;VALUE=DATE:20240104
DTEND;VALUE=DATE:20240108
DTSTAMP:20260420T033115
CREATED:20231121T171336Z
LAST-MODIFIED:20231221T182136Z
UID:10000707-1704326400-1704671999@demercadosmedievales.info
SUMMARY:Se ha suspendido -Mercado de reyes de Paiporta (Valencia) Enero del 2024
DESCRIPTION:Se ha suspendido \, el Mercado de reyes de Paiporta \, posiblemente se celebre el mes de Abril del 2024 \n \nMercado de reyes\n\nFECHAS : 04 al 07 de Enero 2024 \nPosiblemente se la fecha de celebración es ABRIL y cambiará la temática a medieval o de primavera. \nLOCALIDAD Y PROVINCIA: PAIPORTA \, VALENCIA\nPaiporta es un municipio de la Comunidad Valenciana\, España. Pertenece a la provincia de Valencia\, en la comarca de la Huerta Sur. \nUBICACION : calle Iglesia esquina con Jaime I\, calle Padre Jordi de María y calle José Iturbi \nMONTAJE EN LA MAÑANA \nINAUGURACIÓN EN LA TARDE \nHORARIO : MAÑANA Y TARDE \nEl organizador proveerá de : \n\nLuz\nAgua\nVigilancia\nPublicidad\n\nComo participar en este Mercado ?\nLlama al organizador y el te informa de todos los detalles ( precio\, condiciones\, etc)\nORGANIZADOR : EL TROVADOR Ver ficha\nDatos de contacto :\nTeléfono y WhatsApp : 675 190 524\nCorreo electrónico : mars.guz@hotmail.es \n  \n \n  \nSobre Paiporta\n\nPaiporta es un municipio de la Comunidad Valenciana\, España. Pertenece a la provincia de Valencia\, en la comarca de la Huerta Sur. \nLimita con las localidades de Alfafar\, Benetúser\, Catarroja\, Masanasa\, Picaña y Valencia\, todas ellas de la provincia de Valencia. \nDesde Valencia\, se accede a esta localidad por carretera a través de la CV-407 y la CV-404 (salida 6 de la V-30). Los otros accesos son la carretera CV-4063 (desde Picaña)\, la carretera de Albal\, la carretera Benetúser y el Camino Catarroja\, que a pesar de su nombre es una carretera. También se puede acceder desde Catarroja por dos caminos paralelos en la orilla del barranco\, cada uno a un lado. \n\nAgenda de Ferias\, Mercados y mercadillos de navidad 2023 – 2024\n\nLas ferias\, mercados y mercadillos navideños son una tradición navideña que se celebra en muchos países del mundo. En España\, estas ferias se han convertido en un atractivo turístico muy popular\, y atraen a miles de visitantes cada año. \nAquí encontraras un calendario de Ferias\, Mercados y mercadillos de navidad : Agenda de Ferias\, Mercados y mercadillos de navidad 2023 – 2024 \n  \n\n 
URL:https://demercadosmedievales.info/mercadomedieval/mercado-de-reyes-de-paiporta-valencia-enero-del-2024/
LOCATION:Paiporta (Valencia) (***)\, Paiporta\, Valencia\, 46200\, Spain
CATEGORIES:Mercados de navidad,Valencia
ATTACH;FMTTYPE=image/jpeg:https://demercadosmedievales.info/wp-content/uploads/2023/11/paiporta_MERCADO_reyes_2024_F-1.jpg
GEO:39.4274468;-0.4184093
END:VEVENT
BEGIN:VEVENT
DTSTART;VALUE=DATE:20240412
DTEND;VALUE=DATE:20240415
DTSTAMP:20260420T033115
CREATED:20240311T070319Z
LAST-MODIFIED:20240311T163827Z
UID:10001018-1712880000-1713139199@demercadosmedievales.info
SUMMARY:MERCADO MEDIEVAL DE PAIPORTA (VALENCIA) 2024
DESCRIPTION:MERCADO MEDIEVAL que estará situado en la Plaza Mayor y Jaime I de Paiporta \, los días del 12 al 14 de abril del 2024. \n \n Detalles del MERCADO MEDIEVAL\nCuando se celebra ? Los dias  12\, 13 y 14 de abril  del  2024 (Viernes\, Sábado y domingo)\nEn que localidad y provincia ? PAIPORTA provincia de  VALENCIA\nCual será la ubicación ? Plaza Mayor y Jaime I \n  \n Descripción del evento\nMercado con temática medieval para ello el vestuario y decoración de los puestos deben estar acorde con ella . Pueden participar paradas de artesanía\, alimentación\, gastronomía\, complementos\, etc.\nDia y hora de Montaje : El montaje será el día 12 por la mañana.\n Fecha y hora de Inauguración : Y la inauguración será por tarde \, la hora exacta la debe indicar el organizador.\n Precio Para conocer el coste del metro lineal tienes que ponerte en contacto con el organizador. \n  \n  \n Quién lo organiza ?  La empresa EL TROVADOR   es la encargada de la organización y gestión de paradas/puestos de venta. \n Como participar ? Ponte en contacto con el organizador para conocer los requisitos de participación y solicitar tu participación:\nPoniendo en contacto con el organizador EL TROVADOR \nTeléfono y WhatsApp : 675 190 524 \nEl organizador proveerá de los siguientes servicios para los artesanos : \n\nLUZ\nAGUA\nPUBLICIDAD\nVIGILANCIA DISUASORIA\nATRACCIONES\nANIMACION\n\n  \n Acerca de PAIPORTA\nPaiporta es un municipio de la Comunidad Valenciana\, España. Pertenece a la provincia de Valencia\, en la comarca de la Huerta Sur. \n\nCalendario de Mercado Medieval y Ferias 2024 :\n\n\nEnero\nFebrero\nMarzo\nAbril\nMayo\nJunio\nJulio\nAgosto\nSeptiembre\nOctubre\nNoviembre\nDiciembre\n\n Las Ferias y mercados medievales\n\n\nLas ferias medievales son eventos que recrean la atmósfera de la Edad Media. Por lo general\, se llevan a cabo en pueblos o ciudades\, y presentan puestos de vendedores que venden artesanías\, alimentos y bebidas. También puede haber entretenimiento\, como justas\, música y baile. . \nLos Mercados  Medievales son una forma popular de aprender sobre la historia de la Edad Media y experimentar la cultura de la época. También son una actividad divertida para toda la familia. \n\nMERCADO MEDIEVAL\, FERIA MEDIEVAL\,MERCADO MEDIEVAL DE PAIPORTA\, PAIPORTA\, VALENCIA\,2024\,
URL:https://demercadosmedievales.info/mercadomedieval/mercado-medieval-de-paiporta-valencia-2024/
LOCATION:Paiporta (Valencia) (***)\, Paiporta\, Valencia\, 46200\, Spain
CATEGORIES:Mercado Medieval,Valencia
ATTACH;FMTTYPE=image/jpeg:https://demercadosmedievales.info/wp-content/uploads/2024/03/mercado_medieval_paiporta_2024-F.jpg
GEO:39.4274468;-0.4184093
END:VEVENT
END:VCALENDAR