BEGIN:VCALENDAR
VERSION:2.0
PRODID:-//Mercados Medievales - ECPv6.15.20//NONSGML v1.0//EN
CALSCALE:GREGORIAN
METHOD:PUBLISH
X-WR-CALNAME:Mercados Medievales
X-ORIGINAL-URL:https://demercadosmedievales.info
X-WR-CALDESC:Eventos para Mercados Medievales
REFRESH-INTERVAL;VALUE=DURATION:PT1H
X-Robots-Tag:noindex
X-PUBLISHED-TTL:PT1H
BEGIN:VTIMEZONE
TZID:Europe/Madrid
BEGIN:DAYLIGHT
TZOFFSETFROM:+0100
TZOFFSETTO:+0200
TZNAME:CEST
DTSTART:20230326T010000
END:DAYLIGHT
BEGIN:STANDARD
TZOFFSETFROM:+0200
TZOFFSETTO:+0100
TZNAME:CET
DTSTART:20231029T010000
END:STANDARD
BEGIN:DAYLIGHT
TZOFFSETFROM:+0100
TZOFFSETTO:+0200
TZNAME:CEST
DTSTART:20240331T010000
END:DAYLIGHT
BEGIN:STANDARD
TZOFFSETFROM:+0200
TZOFFSETTO:+0100
TZNAME:CET
DTSTART:20241027T010000
END:STANDARD
BEGIN:DAYLIGHT
TZOFFSETFROM:+0100
TZOFFSETTO:+0200
TZNAME:CEST
DTSTART:20250330T010000
END:DAYLIGHT
BEGIN:STANDARD
TZOFFSETFROM:+0200
TZOFFSETTO:+0100
TZNAME:CET
DTSTART:20251026T010000
END:STANDARD
END:VTIMEZONE
BEGIN:VEVENT
DTSTART;TZID=Europe/Madrid:20241213T000000
DTEND;TZID=Europe/Madrid:20241215T235959
DTSTAMP:20260420T183632
CREATED:20241027T174738Z
LAST-MODIFIED:20241127T122813Z
UID:10001873-1734048000-1734307199@demercadosmedievales.info
SUMMARY:XII Mercado Navideño de Av. Josep Tarradellas / Av. Sarria - Barcelona 2024
DESCRIPTION:El XII Mercado Navideño de Av. Josep Tarradellas / Av. Sarria suena como un evento encantador para sumergirnos en el espíritu navideño.  \n\n\n\n\n\n\n\nFerias de NavidadLlegan las fechas de los mercados navideños\,  consulta el calendario de Ferias de navidad .\n\n\n\n\nXII Mercado Navideño\n\n\n\n \n\n\n\n\n\n\n\nCartel – Próximamente\n\n\n\nProgramación – Próximamente\n\n\n\n** Próximamente dispondremos del cartel y del programa con las actividades previstas. \n\n\n\nInformación básica del Mercado\n\n\n\nFecha de celebración Los dias  13 Al 15 De Diciembre  del  2024 \n\n\n\nDonde se realizaEn la localidad de Barcelona  que pertenece a la provincia de BARCELONA  / Barcelona\, la capital cosmopolita de la región de Cataluña en España\, es conocida por su arte y arquitectura. La fantástica iglesia de la Sagrada Familia y otros hitos modernistas diseñados por Antoni Gaudí adornan la ciudad. El Museo Picasso y la Fundación Joan Miró muestran el arte moderno de los artistas que dan origen a sus nombres. El Museo de Historia de Barcelona (MUHBA) incluye varios sitios arqueológicos romanos. \n\n\n\nUbicación del EventoEstará ubicado en AV. JOSEP TARRADELLAS / AV. SARRIA \n\n\n\nInformación del Organizador\n\n\n\nLa empresa organizadora es  EVENTOS SJ DEL VALLES \n\n\n\nComo participar \n\n\n\nPlazo Inscripción: Hasta Agotar SitiosRequisitos: Carpa\, Parada Madera O De HierroDocumentación En ReglaServicios: Luz\, Y Vigilancia Nocturna \n\n\n\nPara más Información e Inscripciones: 639351258\, Eventos.Sja1@Gmail.Com\,Eventos.Sja2@Gmail.Com\, Eventos.Sja3@Gmail.Com \n\n\n\nMás fechas  Puedes conocer mas ferias y mercados en está provincia\, consultando nuestra sección de Eventos en Barcelona \n\n\n\nOtros eventos del organizadorConsulta Aquí otras ferias y mercados que organizará la empresa Eventos SJ del Valles \n\n\n\notros mercados temáticos y FeriasSi quieres conocer cuando se realizan más ferias y mercados\, puedes consultarlos visitando nuestro   Calendario de Eventos \n\n\n\nCalendario 2024\n\n\n\nCalendario 2025\n\n\n\nSobre los Mercados Medievales\n\n\n\nLas ferias medievales son eventos que recrean la atmósfera de la Edad Media. Por lo general\, se llevan a cabo en pueblos o ciudades\, y presentan puestos de vendedores que venden artesanías\, alimentos y bebidas. También puede haber entretenimiento\, como justas\, música y baile. \n\n\n\n\n\n\n\nOrganizador\n\n\n\n\n\nLocalización\n\n\n\nBarcelona\, la capital cosmopolita de la región de Cataluña en España\, es conocida por su arte y arquitectura. La fantástica iglesia de la Sagrada Familia y otros hitos modernistas diseñados por Antoni Gaudí adornan la ciudad. El Museo Picasso y la Fundación Joan Miró muestran el arte moderno de los artistas que dan origen a sus nombres. El Museo de Historia de Barcelona (MUHBA) incluye varios sitios arqueológicos romanos. 
URL:https://demercadosmedievales.info/mercadomedieval/xii-mercado-navideno-de-rocafort-rosellon-barcelona-2024/
LOCATION:Barcelona (Barcelona) (***)\, Barcelona\, Barcelona
CATEGORIES:Barcelona,Mercados de navidad
ATTACH;FMTTYPE=image/jpeg:https://demercadosmedievales.info/wp-content/uploads/2024/10/navidad_rosellon_rocafort_barcelona-f-1.jpg
ORGANIZER;CN="Eventos SJ del Valles":MAILTO:eventos.sja1@gmail.com
GEO:41.3873974;2.168568
END:VEVENT
END:VCALENDAR