BEGIN:VCALENDAR
VERSION:2.0
PRODID:-//Mercados Medievales - ECPv6.15.20//NONSGML v1.0//EN
CALSCALE:GREGORIAN
METHOD:PUBLISH
X-ORIGINAL-URL:https://demercadosmedievales.info
X-WR-CALDESC:Eventos para Mercados Medievales
REFRESH-INTERVAL;VALUE=DURATION:PT1H
X-Robots-Tag:noindex
X-PUBLISHED-TTL:PT1H
BEGIN:VTIMEZONE
TZID:Europe/Madrid
BEGIN:DAYLIGHT
TZOFFSETFROM:+0100
TZOFFSETTO:+0200
TZNAME:CEST
DTSTART:20230326T010000
END:DAYLIGHT
BEGIN:STANDARD
TZOFFSETFROM:+0200
TZOFFSETTO:+0100
TZNAME:CET
DTSTART:20231029T010000
END:STANDARD
BEGIN:DAYLIGHT
TZOFFSETFROM:+0100
TZOFFSETTO:+0200
TZNAME:CEST
DTSTART:20240331T010000
END:DAYLIGHT
BEGIN:STANDARD
TZOFFSETFROM:+0200
TZOFFSETTO:+0100
TZNAME:CET
DTSTART:20241027T010000
END:STANDARD
BEGIN:DAYLIGHT
TZOFFSETFROM:+0100
TZOFFSETTO:+0200
TZNAME:CEST
DTSTART:20250330T010000
END:DAYLIGHT
BEGIN:STANDARD
TZOFFSETFROM:+0200
TZOFFSETTO:+0100
TZNAME:CET
DTSTART:20251026T010000
END:STANDARD
BEGIN:DAYLIGHT
TZOFFSETFROM:+0100
TZOFFSETTO:+0200
TZNAME:CEST
DTSTART:20260329T010000
END:DAYLIGHT
BEGIN:STANDARD
TZOFFSETFROM:+0200
TZOFFSETTO:+0100
TZNAME:CET
DTSTART:20261025T010000
END:STANDARD
BEGIN:DAYLIGHT
TZOFFSETFROM:+0100
TZOFFSETTO:+0200
TZNAME:CEST
DTSTART:20270328T010000
END:DAYLIGHT
BEGIN:STANDARD
TZOFFSETFROM:+0200
TZOFFSETTO:+0100
TZNAME:CET
DTSTART:20271031T010000
END:STANDARD
END:VTIMEZONE
BEGIN:VEVENT
DTSTART;TZID=Europe/Madrid:20260418T000000
DTEND;TZID=Europe/Madrid:20260419T235959
DTSTAMP:20260422T073427
CREATED:20260129T175025Z
LAST-MODIFIED:20260415T211911Z
UID:10003176-1776470400-1776643199@demercadosmedievales.info
SUMMARY:Mercado Pirata de Fustiñana 2026 - Evento en Navarra 2026
DESCRIPTION:Mercado Pirata de Fustiñana los días 18 y 19 de abril con animación temática y participación gratuita para artesanos. \n\n\n\n\n\n\n\n \n\n\n\n \n\n\n\n\n\n\n\n¿Eres artesano o amante de las ferias temáticas? > Descubre el mayor calendario de mercados medievales 2026. Síguenos en nuestro Instagram oficial o conecta con nosotros vía WhatsApp para recibir novedades sobre plazos de inscripción y fechas de eventos. No olvides suscribirte a nuestra Newsletter para no perderte ninguna publicación. \n\n\n\n\n\n\n\n \n\n\n\nMercado Pirata de FustiñanaFustiñana zarpa rumbo a la aventura pirataCartel Mercado pirata de Fustiñana⚓ PROGRAMACIÓN / AMBIENTACIÓNInformación para artesanos y mercaderes :Fustiñana\, Navarra\n\n\n\n \n\n\n\n \n\n\n\nFustiñana zarpa rumbo a la aventura pirata\n\n\n\nEl Mercado Pirata de Fustiñana llega como una propuesta diferente y muy visual\, pensada para disfrutar en familia y dejarse llevar por el espíritu aventurero. Durante todo el fin de semana\, el municipio se transforma en un auténtico escenario pirata\, con animación temática\, música y personajes que animan cada rincón del mercado. \n\n\n\nUno de los grandes atractivos de esta edición es que el mercado es gratuito para los puestos de artesanía\, lo que supone una excelente oportunidad para artesanos que quieran participar en un evento dinámico y bien organizado. \n\n\n\nLa organización del Mercado Pirata de Fustiñana corre a cargo de Michel (Professional History). \n\n\n\n \n\n\n\nCartel Mercado pirata de Fustiñana\n\n\n\n\n\n\n\n \n\n\n\n⚓ PROGRAMACIÓN / AMBIENTACIÓN\n\n\n\n\nCampamento pirata\n\n\n\nBucaneros\n\n\n\nCantineras\n\n\n\nMagia\n\n\n\nCuenta cuentos\n\n\n\nTeatro de calle\n\n\n\nMercado de artesanía\n\n\n\nAlimentación\n\n\n\nTabernas\n\n\n\nY muchas sorpresas más…\n\n\n\n\n \n\n\n\nInformación para artesanos y mercaderes :\n\n\n\n\nEvento: Mercado Pirata de Fustiñana\n\n\n\nFechas:  18 y de abril del 2026\n\n\n\nHorario: \n\n\n\nUbicación: en el centro del municipio\n\n\n\nLocalidad y Provincia : Fustiñana\, NAVARRA\n\n\n\nInauguración: \n\n\n\nProductos permitidos: artesanía\, mercaderías varias\, alimentación\, gastronomía\n\n\n\nServicios incluidos: agua\, electricidad\, vigilancia disuasoria\n\n\n\nPrecios : Artesanos participación gratuita. Alimentación consultar al organizador.\n\n\n\nOrganiza : Michel (Professional History).\n\nEmail :  phartesanos@gmail.com \n\n\n\n\n\n\nMercado Pirata de Fustiñana\n\n\n\n \n\n\n\n \n\n\n\nFustiñana\, Navarra\n\n\n\nFustiñana es una localidad ribereña de Navarra\, situada cerca de Tudela. Se accede fácilmente por carretera desde la AP-15 y la N-113\, lo que facilita la llegada de visitantes desde distintos puntos de la comunidad y zonas cercanas. \n\n\n\n\n\n \n\n\n\n🗓 Eventos más próximos \n\n\n\nNo hay eventos programados. \n\n\n\n \n\n\n\n\n\n\n\nMercados medievales y temáticos\n\n\n\nAdemás de este evento\, la provincia acoge otras ferias de artesanía y mercados temáticos. A continuación\, destacamos tres opciones adicionales donde también puedes solicitar tu participación:  \n\n\n\nPróximas Ferias y Mercados en España: Consulta las localidades confirmadas y las fechas de los próximos eventos para planificar tu ruta anual. \n\n\n\nGuía de Organizadores de Mercados y Ferias: Accede al listado de empresas organizadoras para solicitar bases de participación\, precios de metros y condiciones de montaje. \n\n\n\n \n\n\n\nMercados Medievales 2026 Calendario de Ferias y Mercados : \n\n\n\nMercados Medievales en la RED\n\n\n\n¿Eres artesano o mercader y buscas nuevos eventos para exponer tus productos? España ofrece una de las agendas de ferias temáticas y mercados medievales más dinámicas de Europa. Estos eventos son el escaparate perfecto para la artesanía de autor\, combinando un gran flujo de visitantes con entornos de venta estratégicos. \n\n\n\nSi tu objetivo es ampliar tu ruta de mercados y asegurar tu participación en las mejores plazas\, esta es tu plataforma profesional de referencia. \n\n\n\n\n\n\n\n \n\n\n\nÚnete a la Red de Artesanos y Mercaderes\n\n\n\nLas plazas en los mejores mercados se agotan rápido. No te quedes fuera de las convocatorias más importantes del año. Únete a nuestros canales exclusivos para profesionales y recibe alertas sobre nuevas aperturas de plazos e inscripciones: \n\n\n\nComunidad y Visibilidad: Conecta con nosotros en Instagram\, Facebook y nuestra Newsletter profesional. \n\n\n\nAlertas Inmediatas: Únete a nuestro Telegram o WhatsApp para recibir avisos de última hora.
URL:https://demercadosmedievales.info/mercadomedieval/mercado-pirata-de-fustinana-2026-navarra/
LOCATION:Fustiñana (Navarra) (***)\, Fustiñana\, Navarra\, 31510\, España
CATEGORIES:Comunidad Foral de Navarra,Mercado pirata
ATTACH;FMTTYPE=image/jpeg:https://demercadosmedievales.info/wp-content/uploads/2026/01/pirata-fustinana-2026-1200.jpg
ORGANIZER;CN="Michel - Recreaciones hist%C3%B3ricas eventos y espect%C3%A1culos":MAILTO:phartesanos@gmail.com
GEO:42.0203449;-1.4857762
END:VEVENT
BEGIN:VEVENT
DTSTART;TZID=Europe/Madrid:20241116T000000
DTEND;TZID=Europe/Madrid:20241116T235959
DTSTAMP:20260422T073427
CREATED:20240907T165834Z
LAST-MODIFIED:20240908T112025Z
UID:10001693-1731715200-1731801599@demercadosmedievales.info
SUMMARY:Mercado De Artesanía De Fustiñana 2024 (Navarra)
DESCRIPTION:Mercado Pirata de Fustiñana los días 18 y 19 de abril con animación y participación gratuita para artesanía.  \n\n\n\n\n\n\nMercado De Artesanía\n\n\n\n \n\n\n\nSe va a celebrar el sábado día 16 de Noviembre el II MERCADO DE ARTESANIA DE FUSTIÑANA (Navarra)\, en la calle principal que da acceso a la plaza donde se desarrolla el evento. \n\n\n\nCartel Próximamente\nProgramación Próximamente\n** Próximamente dispondremos del cartel y del programa con las actividades previstas. \nInformación básica del Mercado\nFecha de celebración Los dias 16 de Noviembre del  2024 \nDonde se realizaEn la localidad de FUSTIÑANA que pertenece a la provincia de  NAVARRA \nUbicación del EventoEstará ubicado en la calle principal que da acceso a la plaza donde se desarrolla el evento. \nInformación del Organizador\nLa empresa organizadora es MICHEL (Professional history) \nComo participar\nInformación e Inscripciones:  phartesanos@gmail.com \nMás fechas  Puedes conocer mas ferias y mercados en está provincia\, consultando nuestra amplia sección de Eventos en Navarra \nOtros eventos  Consulta Aquí otras ferias y mercados que organizará la empresa Michel (Professional history) \notros mercados temáticos y FeriasSi quieres conocer cuando se realizan más ferias y mercados\, puedes consultarlos visitando nuestro  Calendario de Eventos \nCalendario 2024\nSobre los Mercados Medievales\nLas ferias medievales son eventos que recrean la atmósfera de la Edad Media. Por lo general\, se llevan a cabo en pueblos o ciudades\, y presentan puestos de vendedores que venden artesanías\, alimentos y bebidas. También puede haber entretenimiento\, como justas\, música y baile. \n\n\n\n\n\n\n\nDetalles del organización\n\n\n\n\n\nLocalización\n\n\n\nFustiñana es una villa y un municipio español de la Comunidad Foral de Navarra\, en la merindad de Tudela\, en la comarca de la Ribera Navarra y a 110 km de la capital de la comunidad\, Pamplona.
URL:https://demercadosmedievales.info/mercadomedieval/mercado-de-artesania-de-fustinana-2024-navarra/
LOCATION:Fustiñana (Navarra) (***)\, Fustiñana\, Navarra\, 31510\, España
CATEGORIES:Feria de artesanía,Mercado Artesanal,Navarra
ATTACH;FMTTYPE=image/jpeg:https://demercadosmedievales.info/wp-content/uploads/2024/09/mercado_artesania_fustinana_2024-f.jpg
ORGANIZER;CN="Michel - Recreaciones hist%C3%B3ricas eventos y espect%C3%A1culos":MAILTO:phartesanos@gmail.com
GEO:42.0203449;-1.4857762
END:VEVENT
BEGIN:VEVENT
DTSTART;TZID=Europe/Madrid:20240906T000000
DTEND;TZID=Europe/Madrid:20240908T235959
DTSTAMP:20260422T073427
CREATED:20240628T080209Z
LAST-MODIFIED:20240628T080335Z
UID:10001494-1725580800-1725839999@demercadosmedievales.info
SUMMARY:Mercado Medieval de los Tres Burgos de Pamplona 2024
DESCRIPTION:El Mercado Medieval de los Tres Burgos se celebra en Pamplona cada año\, con motivo del Privilegio de la Unión. Este privilegio fue otorgado por el rey Carlos III el Noble a la ciudad en 1423\, y unía los tres burgos que la conformaban: Navarrería\, San Cernín y San Nicolás. \n \nMercado Medieval de los Tres Burgos\nEl mercado se instala en las calles del Casco Antiguo de la ciudad\, y en él se pueden encontrar puestos de alimentación\, artesanía y productos típicos de la zona. También hay espectáculos\, animaciones y pasacalles para toda la familia. \nEl mercado es una oportunidad única para disfrutar de la historia y la cultura de Pamplona\, y para comprar productos de calidad. Además\, es un evento gratuito y al aire libre\, por lo que es perfecto para disfrutar de un buen día en familia o con amigos. \n¿Cuándo se celebra? \nEl Mercado Medieval de los Tres Burgos se celebra el fin de semana más cercano al 8 de septiembre\, que es el día del Privilegio de la Unión. En 2024\, se celebrará del 6 al 8 de septiembre. \n¿Dónde se celebra? \nEl mercado se instala en las calles del Casco Antiguo de Pamplona. \nAcerca de Pamplona\nPamplona\, capital de la provincia de Navarra\, es una ciudad del norte de España. Es conocida principalmente por la celebración de encierros de toros (fiesta de San Fermín) que tiene lugar en julio. Durante esta legendaria fiesta que dura varios días\, los toros persiguen a corredores atrevidos por las calles de la ciudad. Pamplona\, que es una de las principales paradas del Camino de Santiago (ruta de peregrinación de la época medieval)\, también destaca por sus iglesias de estilo gótico\, como la iglesia fortificada de San Nicolás \nCalendario 2024\nSobre los Mercados Medievales\nLas Ferias y mercados medievales son eventos populares que recrean el ambiente y la atmósfera de la Edad Media. Estos eventos suelen tener lugar en diferentes partes del mundo y atraen a numerosos visitantes que desean sumergirse en la historia y disfrutar de una experiencia única. Las ferias y mercados medievales suelen tener una gran cantidad de visitantes\, ya que ofrecen una oportunidad única de sumergirse en la historia y disfrutar de una experiencia diferente. También son muy populares entre los amantes de la cultura medieval\, los aficionados a la historia y las familias que buscan una actividad divertida y educativa. Consulta nuestro amplio calendario de eventos \nTags:  Feria Medieval\,Convocatoria\,Pamplona\,Navarra\,España \n 
URL:https://demercadosmedievales.info/mercadomedieval/mercado-medieval-de-los-tres-burgos-de-pamplona-2024/
LOCATION:Pamplona (Navarra) (***)\, Pamplona\, Navarre
CATEGORIES:Mercado Medieval,Navarra
ATTACH;FMTTYPE=image/jpeg:https://demercadosmedievales.info/wp-content/uploads/2024/06/medieval_pamplona_f.jpg
GEO:42.812526;-1.6457745
END:VEVENT
BEGIN:VEVENT
DTSTART;TZID=Europe/Madrid:20240809T000000
DTEND;TZID=Europe/Madrid:20240811T235959
DTSTAMP:20260422T073427
CREATED:20240316T095936Z
LAST-MODIFIED:20240730T060602Z
UID:10001050-1723161600-1723420799@demercadosmedievales.info
SUMMARY:Mercado Medieval XXX Fiestas Medievales Olite/Erriberri 2024
DESCRIPTION:Programación del Mercado Medieval XXX Fiestas Medievales Olite/Erriberri del 2024 que será los dias 09 al 11 de Agosto. \n \nMercado Medieval de Olite\nLas Fiestas Medievales de Olite son un evento anual que transporta a los visitantes a través del tiempo\, sumergiéndolos en la rica historia de esta encantadora localidad navarra. \nCon sus impresionantes edificios históricos y su ambiente festivo\, Olite se convierte en un escenario perfecto para revivir los días de la Edad Media. Descubre las fascinantes fiestas medievales de Olite y los imperdibles mercados medievales que las acompañan. \nProgramación \n \n \nLas solicitudes de participación deben de enviarse al correo olitemedieval@navarramedia.org hasta las 14:00 del 26 de abril de 2024. \nNORMAS DE PARTICIPACIÓN MERCADO MEDIEVAL DE OLITE 2024 \n Detalles del MERCADO MEDIEVAL\nCuando se celebra ? Los dias 09 al 11 de Agosto del  2024.En que localidad y provincia ?Olite provincia de  NAVARRA \nOlite​ ​ es un municipio y una ciudad española de la Comunidad Foral Navarra. \n\nDista unos 42 km de la capital de la comunidad\, Pamplona\, unos 51 km de Tudela\, unos 40 km de Sangüesa y unos 46 km de Estella. Tafalla está a solo 7 km.\n\nEl término municipal está atravesado por la Autopista de Navarra (AP-15) y por la carretera nacional N-121 (Pamplona-Tudela)\, además de por carreteras locales que conectan con San Martín de Unx y Beire..Cual será la ubicación ? .  En el centro histórico de la localidad de Olite. \nPara conocer la fecha de más mercados y ferias temáticas \, AQUÍ \n Descripción del MERCADO MEDIEVAL\nDia y hora de Montaje : De 11:30 a 14:30 y de 16:00 a 18:00 horas del viernes\, 9 de agosto. Es imprescindible presentar eljustificante de pago de la tasa en el momento de adquirir plaza. \nDia y hora de Desmontaje : A partir de las 20:30 horas del domingo\, 11 de agosto de 2024 \nHorario de venta del mercado:Viernes\, 9 de agosto\, de 18:00 a 21:00 horas.Sábado\, 10 de agosto\, de 11:00 a 21:00 horas*.Domingo\, 11 de agosto\, de 11:00 a 20:30 horas*.*Al mediodía se cierra según criterio de la persona participante\, que será responsable de su puesto.Importante respetar estos horarios por seguridad.. Fecha y hora de Inauguración : 18:00 horas del viernes\, 9 de agosto. Precio Para conocer pago de la tasa consultar NORMAS DE PARTICIPACIÓN MERCADO MEDIEVAL DE OLITE 2024 \n Quién organiza EL EVENTO?  El Consorcio de Desarrollo de la Zona Media es la encargado de la organización y gestión de paradas/puestos de venta. \nPara más información en el Consorcio de Desarrollo de la Zona Media: Tel. 948 7407 39  olitemedieval@navarramedia.org \n \n Acerca de OLITE\nOlite​ ​ es un municipio y una ciudad española de la Comunidad Foral Navarra. \n\nDista unos 42 km de la capital de la comunidad\, Pamplona\, unos 51 km de Tudela\, unos 40 km de Sangüesa y unos 46 km de Estella. Tafalla está a solo 7 km.\n\nEl término municipal está atravesado por la Autopista de Navarra (AP-15) y por la carretera nacional N-121 (Pamplona-Tudela)\, además de por carreteras locales que conectan con San Martín de Unx y Beire. \n\nCalendario de Mercados Medievales y Ferias temáticas 2024 :\n\n\nEnero\nFebrero\nMarzo\nAbril\nMayo\nJunio\nJulio\nAgosto\nSeptiembre\nOctubre\nNoviembre\nDiciembre\n\n Las Ferias y mercados medievales\n\n\nLas ferias medievales son eventos que recrean la atmósfera de la Edad Media. Por lo general\, se llevan a cabo en pueblos o ciudades\, y presentan puestos de vendedores que venden artesanías\, alimentos y bebidas. También puede haber entretenimiento\, como justas\, música y baile. . \nLos Mercados  Medievales son una forma popular de aprender sobre la historia de la Edad Media y experimentar la cultura de la época. También son una actividad divertida para toda la familia. \nTo know the regulatory rules for participation in the Medieval Market as well as the registration period for the XXX Olite/Erriberri Medieval Festivals of 2024\, which will be from August 9 to 11\, which will be from August 9 to 11
URL:https://demercadosmedievales.info/mercadomedieval/mercado-medieval-xxx-fiestas-medievales-olite-erriberri-2024/
LOCATION:Olite (Navarra) (***)\, Olite\, Navarre\, 31390\, España
CATEGORIES:Cartel,Mercado Medieval,Navarra,Programación
ATTACH;FMTTYPE=image/jpeg:https://demercadosmedievales.info/wp-content/uploads/2024/03/fiestas_medievales_olite_F.jpg
GEO:42.481425;-1.6509768
END:VEVENT
BEGIN:VEVENT
DTSTART;VALUE=DATE:20240405
DTEND;VALUE=DATE:20240408
DTSTAMP:20260422T073427
CREATED:20240312T115101Z
LAST-MODIFIED:20240516T172020Z
UID:10001022-1712275200-1712534399@demercadosmedievales.info
SUMMARY:Feria Gastroarte en Tudela  (NAVARRA) 2024
DESCRIPTION:Feria de gastronomía y artesanía en la Paseo De Quiles de Tudela\, los dias 5\,6\,7 de abril del 2024. Inscripciones hasta el 31 de marzo. \n \n\n\n\n\n\n\n\n\n✨Nombre del Evento*\n\n\n\n\nFeria Gastroarte en Tudela\n\n\n\n\n\n\n\n\n\n\n\n\n\nDetalles del Mercado o Feria\n\n\n\n\n\n\n\n\n📅 Cual es la fecha de celebración ?\n\n\n\n\n5\,6\,7 de abril de 2024\n\n\n\n\n\n\n\n\n🗓 Hasta que fecha se pueden inscribir los artesanos y mercaderes ?\n\n\n\n\n31 de marzo de 2024\n\n\n\n\n\n\n\n\n🏡 Donde se va a celebrar ? Localidad y provincia\n\n\n\n\nTudela \, NAVARRA\n\n\n\n\n\n\n\n\n📍 Cual será la ubicación dentro de la localidad (calle\, Plaza\, vía\, etc.)\n\n\n\n\n\nPaseo del Queiles \n\n\n\n\n\n\n\n\n\n💬 Descripción del Evento : (Indica la temática\, características\, etc.)\n\n\n\n\nferia de gastronomía y artesanía\n\n\n\n\n\n\n\n\n🗓 Dia y hora de Montaje :\n\n\n\n\ndia 4 de abril de 2024\n\n\n\n\n\n\n\n\n⏰ Fecha y hora de Inauguración\n\n\n\n\ndia 5 de abril de 2024 Falta por determinar la inauguración\n\n\n\n\n\n\n\n\n📋 Servicios que proporcionara el organizador a los artesanos y mercaderes participantes \n\n\n\n\n\n\n\n\n\n\nSeguridad\nAgua\nElectricidad\nOtro: Publicidad\n\n\n\n\n\n\nCuales son los Requisitos de participación ?\n\n\n\n\ndocumentación en regla\n\n\n\n\n\n\n\n\n🏷Precio del metro lineal\, parada de madera\, carpa ?\n\n\n\n\nsolo carpas.\n\n\n\n\n\n\n\n\nInformación sobre el organizador : \n\n\n\n\n\n\n\n\n\n\n\n\n\n⚜ Quien organiza la Feria y/o Mercado ?\n\n\n\n\nFYME SL colabora Tierra Cazurra\n\n\n\n\n\n\n\n\n📞Teléfono de contacto :\n\n\n\n\n609630609\n\n\n\n\n\n\n\n\n💌 Email de contacto : \n\n\n\n\ntierracazurra@gmail.com\n\n\n\n\n\n\n\n\n\n\n\n\n\n\n\n Acerca de Tudela\nTudela es un municipio español de la Comunidad Foral de Navarra\, situada a 94 km de la capital de la comunidad\, Pamplona. Es la cabeza del partido judicial homónimo\, cabeza de la merindad homónima y el centro económico y comercial de la Ribera de Navarra. \n\nCalendario de Mercado Medieval y Ferias 2024 :\n\n\nEnero\nFebrero\nMarzo\nAbril\nMayo\nJunio\nJulio\nAgosto\nSeptiembre\nOctubre\nNoviembre\nDiciembre\n\n Las Ferias y mercados medievales\n\n\nLas ferias medievales son eventos que recrean la atmósfera de la Edad Media. Por lo general\, se llevan a cabo en pueblos o ciudades\, y presentan puestos de vendedores que venden artesanías\, alimentos y bebidas. También puede haber entretenimiento\, como justas\, música y baile. . \nLos Mercados  Medievales son una forma popular de aprender sobre la historia de la Edad Media y experimentar la cultura de la época. También son una actividad divertida para toda la familia. \n\n\n\nFeria Gastroarte en Tudela\,feria gastronomica\,feria de artesania\,Tudela\,Navarra\,2024.feria\,
URL:https://demercadosmedievales.info/mercadomedieval/feria-gastroarte-en-tudela-navarra-2024/
LOCATION:Tudela (Navarra) (***)\, Tudela\, Navarre\, 31500
CATEGORIES:Mercado de artesanía y alimentación,Navarra
ATTACH;FMTTYPE=image/jpeg:https://demercadosmedievales.info/wp-content/uploads/2024/03/feria_gastroarte_tudela_2024_f_1-.jpg
ORGANIZER;CN="Tierra Cazurra":MAILTO:tierracazurra@gmail.com
GEO:42.0613816;-1.6063169
END:VEVENT
BEGIN:VEVENT
DTSTART;VALUE=DATE:20240229
DTEND;VALUE=DATE:20240302
DTSTAMP:20260422T073427
CREATED:20240219T075217Z
LAST-MODIFIED:20240219T075217Z
UID:10000924-1709164800-1709337599@demercadosmedievales.info
SUMMARY: 29 de febrero al  2 de marzo 2024 Feria del stock de TUDELA\, Navarra 2024
DESCRIPTION:Feria del stock : plazo de inscripción abierto para comercios hasta el 21 de febrero del 2024\n \n\n\nLos días 29 de febrero \, 1 y 2 de marzo de 2024  se va a realizar la primera Feria del stock de este año. Como en ediciones anteriores el lugar será en los propios establecimientos de los comercios adheridos y a las puertas de los mismos.\n\nEn esta feria se pueden vender objetos/prendas en stock\, de últimas ediciones o exclusivos con un precio de valor de mercado inferior al habitual.\nUna gran oportunidad de encuentro tanto para comercios como para la clientela.\n\nLos establecimientos interesados pueden inscribirse cumplimentando el formulario que encontrarán siguiendo el siguiente enlace:\n\nhttps://docs.google.com/forms/d/1gz9zrSEywzoGm7NDBpCWGTYJaybwCsyEXooGPZ720l0\n\nA los comercios inscritos se les facilitará más información\, cartelería y elementos decorativos distintivos de la feria que deberán colocar en su establecimiento.\n\nEl plazo de inscripción finaliza el día 21 de febrero del 2024.\n\n\n\n\n\n\n\nCalendario de Mercado Medieval y Ferias 2024 :\n\n\nEnero\nFebrero\nMarzo\nAbril\nMayo\nJunio\nJulio\nAgosto\nSeptiembre\nOctubre\nNoviembre\nDiciembre\n\n Las Ferias y mercados medievales\n\n\nLas ferias medievales son eventos que recrean la atmósfera de la Edad Media. Por lo general\, se llevan a cabo en pueblos o ciudades\, y presentan puestos de vendedores que venden artesanías\, alimentos y bebidas. También puede haber entretenimiento\, como justas\, música y baile. . \nLos Mercados  Medievales son una forma popular de aprender sobre la historia de la Edad Media y experimentar la cultura de la época. También son una actividad divertida para toda la familia. \n\nFeria del Stock\, Tudela\, Navarra\, España\, 2024
URL:https://demercadosmedievales.info/mercadomedieval/29-de-febrero-al-2-de-marzo-2024-feria-del-stock-de-tudela-navarra-2024/
LOCATION:Tudela (Navarra) (***)\, Tudela\, Navarre\, 31500
CATEGORIES:Feria comercial,Navarra
ATTACH;FMTTYPE=image/jpeg:https://demercadosmedievales.info/wp-content/uploads/2024/02/feria-del-stock-inscripcion-abierta-hasta-21-de-febrero-de-2024-025821.jpg
GEO:42.0613816;-1.6063169
END:VEVENT
END:VCALENDAR