BEGIN:VCALENDAR
VERSION:2.0
PRODID:-//Mercados Medievales - ECPv6.15.20//NONSGML v1.0//EN
CALSCALE:GREGORIAN
METHOD:PUBLISH
X-WR-CALNAME:Mercados Medievales
X-ORIGINAL-URL:https://demercadosmedievales.info
X-WR-CALDESC:Eventos para Mercados Medievales
REFRESH-INTERVAL;VALUE=DURATION:PT1H
X-Robots-Tag:noindex
X-PUBLISHED-TTL:PT1H
BEGIN:VTIMEZONE
TZID:Europe/Madrid
BEGIN:DAYLIGHT
TZOFFSETFROM:+0100
TZOFFSETTO:+0200
TZNAME:CEST
DTSTART:20230326T010000
END:DAYLIGHT
BEGIN:STANDARD
TZOFFSETFROM:+0200
TZOFFSETTO:+0100
TZNAME:CET
DTSTART:20231029T010000
END:STANDARD
BEGIN:DAYLIGHT
TZOFFSETFROM:+0100
TZOFFSETTO:+0200
TZNAME:CEST
DTSTART:20240331T010000
END:DAYLIGHT
BEGIN:STANDARD
TZOFFSETFROM:+0200
TZOFFSETTO:+0100
TZNAME:CET
DTSTART:20241027T010000
END:STANDARD
BEGIN:DAYLIGHT
TZOFFSETFROM:+0100
TZOFFSETTO:+0200
TZNAME:CEST
DTSTART:20250330T010000
END:DAYLIGHT
BEGIN:STANDARD
TZOFFSETFROM:+0200
TZOFFSETTO:+0100
TZNAME:CET
DTSTART:20251026T010000
END:STANDARD
BEGIN:DAYLIGHT
TZOFFSETFROM:+0100
TZOFFSETTO:+0200
TZNAME:CEST
DTSTART:20260329T010000
END:DAYLIGHT
BEGIN:STANDARD
TZOFFSETFROM:+0200
TZOFFSETTO:+0100
TZNAME:CET
DTSTART:20261025T010000
END:STANDARD
END:VTIMEZONE
BEGIN:VEVENT
DTSTART;TZID=Europe/Madrid:20241220T000000
DTEND;TZID=Europe/Madrid:20250106T235959
DTSTAMP:20260421T061349
CREATED:20241020T170658Z
LAST-MODIFIED:20241118T072308Z
UID:10001851-1734652800-1736207999@demercadosmedievales.info
SUMMARY:MERCADO NAVIDEÑO NAVALMORAL DE LA MATA 2024 (Cáceres)
DESCRIPTION:II Mercado navideño en el centro neurálgico comercial de la ciudad junto a biblioteca publica en calle peatonal.  \n\n\n\n\n\n\n \n\n\n\n\nFerias de NavidadLlegan las fechas de los mercados navideños\,  consulta el calendario de Ferias Y Mercados de navidad . \n\n\n\n\n \n\n\n\nMERCADO NAVIDEÑO NAVALMORAL DE LA MATA\n\n\n\nII Mercado navideño en el centro neurálgico comercial de la ciudad junto a biblioteca publica en calle peatonal. Navalmoral de la Mata con 17.000 habitantes es cabeza de partido y tiene una población flotante de pueblos de alrededor de mas de 70.000 \n\n\n\n\n\n\n\nOs invitamos a participar en el Mercado Navideño de Navalmoral de Mata (Cáceres) del 20 de Diciembre 2024 al 6 de Enero de 2025\, en caseta de maderas de 3 x 2m\, en el centro\, en la peatonal de NAVALMORAL DE LA MATA (Cáceres) son solo 17 casetas con productos de artesanía y alimentación. \n\n\n\nPrecios :  \n\n\n\n\nPrecio de caseta de 3x2m de 1000€ \n\n\n\nPrecio de caseta de 3x2m con esquina 1150€ \n\n\n\n\n\nSolo nos  quedan 3 casetas libres de artesanía y alimentación. \n\n\n\nPara cualquier información puedes llamar al tlf 663 882 711 o 722 509 481 y también puedes escribir a este correo electrónico Si estais interesados mandar a este Email: \n\n\n\n\n\n\nFotos del producto a exponer\n\n\n\nNombre y apellidos \n\n\n\nTeléfono de contacto\n\n\n\nDescripción del producto \n\n\n\n\n\nInformación básica del Evento\n\n\n\nLa fecha de celebración seráDEL 20 DE DICIEMBRE DEL 2024 AL 6 DE ENERO DE 2025Hasta que fecha se pueden inscribir los artesanos y mercaderes ?HASTA AGOTAR PLAZAEl lugar de celebración seráNAVALMORAL DE LA MATA (CACERES)Estará ubicado enCENTRO DE LA CIUDAD JUNTO A BIBLIOTECA PUBLICA EN LA PEATONAL \n\n\n\nCuando será el MontajeDIA 19 DE DICIEMBRE DE 2024Será inaugurado el día20 DE DICIEMBRE DE 2024Servicios que proporcionara el organizador a los artesanos y mercaderes participantesSeguridadElectricidad  \n\n\n\nOrganizador\n\n\n\nANIMACERES EVENTOSInformación e Inscripcionesal email: animacereseventos@gmail.com \n\n\n\nWhatsApp 663882711Email de contacto :animacereseventos@gmail.com \n\n\n\nQue otro medio de contacto proporciona el organizador ?tlf 663882711Requisitos de participación ?FICHA DE INSCRIPCION Y DOCUMENTACIONPrecio del metro lineal\, caseta de madera\, o de la carpa ?CASETA 3 X 2 1000€\, Y CON ESQUINA 1150 \n\n\n\nMás fechas  Puedes conocer mas ferias y mercados en está provincia\, consultando nuestra sección de Eventos de la provincia Cáceres \n\n\n\nOtros eventos del organizadorConsulta Aquí otras ferias y mercados que organizará la empresa ANIMACERES EVENTOS \n\n\n\notros mercados temáticos y FeriasSi quieres conocer cuando se realizan más ferias y mercados\, puedes consultarlos visitando nuestro   Calendario de Eventos \n\n\n\nCalendario 2024\n\n\n\n \n\n\n\nCalendario 2025\n\n\n\nSobre los Mercados Medievales\n\n\n\nLas ferias medievales son eventos que recrean la atmósfera de la Edad Media. Por lo general\, se llevan a cabo en pueblos o ciudades\, y presentan puestos de vendedores que venden artesanías\, alimentos y bebidas. También puede haber entretenimiento\, como justas\, música y baile. \n\n\n\n\n\n\n\nOrganizador\n\n\n\n\n\nLocalización
URL:https://demercadosmedievales.info/mercadomedieval/mercado-navideno-navalmoral-de-la-mata-2024-caceres/
LOCATION:Navalmoral de la Mata (Cáceres) (***)\, Navalmoral de la Mata\, Cáceres\, 10300\, España
CATEGORIES:Caceres,Mercados de navidad
ATTACH;FMTTYPE=image/jpeg:https://demercadosmedievales.info/wp-content/uploads/2024/10/navidad-navalmoral-2024-f.jpg
ORGANIZER;CN="ANIMACERES EVENTOS":MAILTO:animacereseventos@gmail.com
GEO:40.463667;-3.74922
END:VEVENT
END:VCALENDAR