BEGIN:VCALENDAR
VERSION:2.0
PRODID:-//Mercados Medievales - ECPv6.15.20//NONSGML v1.0//EN
CALSCALE:GREGORIAN
METHOD:PUBLISH
X-ORIGINAL-URL:https://demercadosmedievales.info
X-WR-CALDESC:Eventos para Mercados Medievales
REFRESH-INTERVAL;VALUE=DURATION:PT1H
X-Robots-Tag:noindex
X-PUBLISHED-TTL:PT1H
BEGIN:VTIMEZONE
TZID:Europe/Madrid
BEGIN:DAYLIGHT
TZOFFSETFROM:+0100
TZOFFSETTO:+0200
TZNAME:CEST
DTSTART:20230326T010000
END:DAYLIGHT
BEGIN:STANDARD
TZOFFSETFROM:+0200
TZOFFSETTO:+0100
TZNAME:CET
DTSTART:20231029T010000
END:STANDARD
BEGIN:DAYLIGHT
TZOFFSETFROM:+0100
TZOFFSETTO:+0200
TZNAME:CEST
DTSTART:20240331T010000
END:DAYLIGHT
BEGIN:STANDARD
TZOFFSETFROM:+0200
TZOFFSETTO:+0100
TZNAME:CET
DTSTART:20241027T010000
END:STANDARD
BEGIN:DAYLIGHT
TZOFFSETFROM:+0100
TZOFFSETTO:+0200
TZNAME:CEST
DTSTART:20250330T010000
END:DAYLIGHT
BEGIN:STANDARD
TZOFFSETFROM:+0200
TZOFFSETTO:+0100
TZNAME:CET
DTSTART:20251026T010000
END:STANDARD
END:VTIMEZONE
BEGIN:VEVENT
DTSTART;TZID=Europe/Madrid:20241205T000000
DTEND;TZID=Europe/Madrid:20241207T235959
DTSTAMP:20260420T140246
CREATED:20241124T193014Z
LAST-MODIFIED:20241124T194356Z
UID:10001976-1733356800-1733615999@demercadosmedievales.info
SUMMARY:Naturefest Moncofa Nadal 2024 (Castellón)
DESCRIPTION:Si eres artesano\, gestor de talleres\, dueño de un food truck\, Naturefest 2024 te invita a ser parte de su edición más especial.  \n\n\n \n\n\n\n\n\n\n\nNaturefest Moncofa Nadal 2024\n\n\n\nNaturefest\, el mejor festival familiar \, solidario y experiencial de la c.Valenciana. Los mejores conciertos en directos de pop rock\, food trucks\, artesania\, regalos\, talleres infantiles \, zona lúcica tradicional y atracciones ecológicas.El mejor evento para disfrutar y hacer esos regalos de navidad que tanto deseas \n\n\n\n\n\n\n\n \n\n\n\nInformación básica del Evento\n\n\n\nLa fecha de celebración será5 al 7 DICIEMBRE del  2024Hasta que fecha se pueden inscribir los artesanos y mercaderes ?2 DICIEMBRE del  2024El lugar de celebración seráPLAZA DE LA CONSTITUCIÓNEstará ubicado enMONCOFA\, CASTELLON /  Moncófar​ municipio de la provincia de Castellón en la Comunidad Valenciana\, España. Perteneciente a la comarca de la Plana Baja.Descripción intersante del EventoNaturefest\, el mejor festival familiar \, solidario y experiencial de la c.Valenciana. Los mejores conciertos en directos de pop rock\, food trucks\, artesania\, regalos\, talleres infantiles \, zona lúcica tradicional y atracciones ecológicas.El mejor evento para disfrutar y hacer esos regalos de navidad que tanto deseasCuando será el Montaje5 DICIEMBRE del  2024Será inaugurado el día5 DICIEMBRE del  2024 17H Servicios que proporcionara el organizador a los artesanos y mercaderes participantesSeguridadAguaElectricidad \n\n\n\nOrganizador\n\n\n\nLA MAREA ARTSInformación e InscripcionesWhatsApp  667058594Email de contacto :HYBRIDARTS.EVENTS@GMAIL.COMQue otro medio de contacto proporciona el organizador ?INSTAGRAM @LAMAREAARTS \n\n\n\nRequisitos de participación ?VENTA DE PRODUCTOS INTERESANTES Y ALIMENTACIÓNPrecio del metro lineal\, caseta de madera\, o de la carpa ?ARTESANIA: 35€ +IVAALIMENTACIÓN :55€+IVA \n\n\n\nMás fechas  Puedes conocer mas ferias y mercados en está provincia\, consultando nuestra sección de Eventos de la provincia de Castellón \n\n\n\nOtros eventos del organizadorConsulta Aquí otras ferias y mercados que organizará la empresa LA MAREA ARTS \n\n\n\notros mercados temáticos y FeriasSi quieres conocer cuando se realizan más ferias y mercados\, puedes consultarlos visitando nuestro   Calendario de Eventos \n\n\n\nCalendario 2024\n\n\n\nCalendario 2025\n\n\n\nSobre los Mercados Medievales\n\n\n\nLas ferias medievales son eventos que recrean la atmósfera de la Edad Media. Por lo general\, se llevan a cabo en pueblos o ciudades\, y presentan puestos de vendedores que venden artesanías\, alimentos y bebidas. También puede haber entretenimiento\, como justas\, música y baile. \n\n\n\n \n\n\n\n\n\n\n\nOrganiza :\n\n\n\n\n\nLugar : Moncofa\n\n\n\nMoncófar​ municipio de la provincia de Castellón en la Comunidad Valenciana\, España. Perteneciente a la comarca de la Plana Baja. 
URL:https://demercadosmedievales.info/mercadomedieval/naturefest-moncofa-nadal-2024-castellon/
LOCATION:Moncofa (Castellón) (***)\, Moncofa\, Castellón\, España
CATEGORIES:Cartel,Castellon,Mercados de navidad
ATTACH;FMTTYPE=image/jpeg:https://demercadosmedievales.info/wp-content/uploads/2024/11/naturesfest_nadal_moncofa_2024_F.jpg
ORGANIZER;CN="La Marea ARts":MAILTO:HYBRIDARTS.EVENTS@GMAIL.COM
GEO:39.8088264;-0.1470569
END:VEVENT
END:VCALENDAR