BEGIN:VCALENDAR
VERSION:2.0
PRODID:-//Mercados Medievales - ECPv6.15.20//NONSGML v1.0//EN
CALSCALE:GREGORIAN
METHOD:PUBLISH
X-WR-CALNAME:Mercados Medievales
X-ORIGINAL-URL:https://demercadosmedievales.info
X-WR-CALDESC:Eventos para Mercados Medievales
REFRESH-INTERVAL;VALUE=DURATION:PT1H
X-Robots-Tag:noindex
X-PUBLISHED-TTL:PT1H
BEGIN:VTIMEZONE
TZID:Europe/Madrid
BEGIN:DAYLIGHT
TZOFFSETFROM:+0100
TZOFFSETTO:+0200
TZNAME:CEST
DTSTART:20220327T010000
END:DAYLIGHT
BEGIN:STANDARD
TZOFFSETFROM:+0200
TZOFFSETTO:+0100
TZNAME:CET
DTSTART:20221030T010000
END:STANDARD
BEGIN:DAYLIGHT
TZOFFSETFROM:+0100
TZOFFSETTO:+0200
TZNAME:CEST
DTSTART:20230326T010000
END:DAYLIGHT
BEGIN:STANDARD
TZOFFSETFROM:+0200
TZOFFSETTO:+0100
TZNAME:CET
DTSTART:20231029T010000
END:STANDARD
BEGIN:DAYLIGHT
TZOFFSETFROM:+0100
TZOFFSETTO:+0200
TZNAME:CEST
DTSTART:20240331T010000
END:DAYLIGHT
BEGIN:STANDARD
TZOFFSETFROM:+0200
TZOFFSETTO:+0100
TZNAME:CET
DTSTART:20241027T010000
END:STANDARD
END:VTIMEZONE
BEGIN:VEVENT
DTSTART;VALUE=DATE:20231222
DTEND;VALUE=DATE:20231225
DTSTAMP:20260420T051339
CREATED:20231128T195437Z
LAST-MODIFIED:20231128T195438Z
UID:10000733-1703203200-1703462399@demercadosmedievales.info
SUMMARY:Mercado navideño ¡¡ GRATUITO!! de Najera (La Rioja) diciembre 2023
DESCRIPTION:Este Mercado Navideño se celebrará en la inmediatez de las fiestas navideñas\, llevándose a cabo desde la mañana del día 22\, hasta el mediodía del día 24 de diciembre\, Nochebuena. \n \nMERCADO NAVIDEÑO\nNÁJERA (LA RIOJA)\n22 AL 24 DE DICIEMBRE\nPLAZA DE SANTA MARÍA \n\n¡MERCADO GRATUITO! \nLa Fragua de Vulcano organizará un año este Mercado Navideño en la histórica Plaza de Santa María de Nájera\, en la parte antigua de la villa. Este Mercado Navideño se celebrará en la inmediatez de las fiestas navideñas\, llevándose a cabo desde la mañana del día 22\, hasta el mediodía del día 24 de diciembre\, Nochebuena. \nNájera es un municipio de más de 8.000 habitantes ubicado en la comarca de la Rioja Alta y a tan sólo 30 kilómetros de Logroño. \nESTE MERCADO SERÁ GRATUITO PARA PARTICIPANTES DE ARTESANÍA Y ALIMENTACIÓN. \nEl mercado se clausurará el domingo 24 de diciembre a las 14 horas\, permitiendo así que los participantes\, puedan celebrar la Nochebuena en sus casas junto a sus familias. \nMercado Navideño que contará con una zona de artesanos con puestos propios\, actividades de animación durante todo el desarrollo del evento\, decoración navideña\, caseta de Papá Noél para depositar cartas\, rincón infantil con juegos y atracciones…. \n\nHorario del Mercado: Viernes 22 y Sábado 23 de 10 a 14 y de 16 a 21 horas. \nDomingo 24 de diciembre de 10 a 14 horas. \nMontaje: Jueves 21 de diciembre a las 17:00 horas \nLugar: Plaza de Santa María \nInformación e Inscripciones:\ncontacto@espectaculosamb.com \nComo participar en el MERCADO NAVIDEÑO DE NÁJERA ?\n\nPonte en contacto con LA FRAGUA DE VULCANO  Tel. 963 400 037 email :  contacto@espectaculosamb.com \nPróximos mercados y ferias organizados por LA FRAGUA DE VULCANO : \nNo hay eventos programados. \n\n  \n \n  \n  \n  \nDonde puedo consultar más mercados y ferias navideños\n\n\nen nuestra Agenda de Ferias\, Mercados y mercadillos de navidad 2023 – 2024\nLas ferias\, mercados y mercadillos navideños son una tradición navideña que se celebra en muchos países del mundo. En España\, estas ferias se han convertido en un atractivo turístico muy popular\, y atraen a miles de visitantes cada año. \nAquí encontraras un calendario de Ferias\, Mercados y mercadillos de navidad : Agenda de navidad 2023 – 2024 \n\n  \nSiempre a tu lado !!!\n  \n 
URL:https://demercadosmedievales.info/mercadomedieval/mercado-navideno-gratuito-de-najera-la-rioja-diciembre-2023/
LOCATION:Nájera (La Rioja) (***)\, Najera\, La Rioja\, España
CATEGORIES:La Fragua de Vulcano,La Rioja,Mercados de navidad
ATTACH;FMTTYPE=image/png:https://demercadosmedievales.info/wp-content/uploads/2023/11/NAJERA_mercado_de_navidad_2023_F.png
ORGANIZER;CN="La Fragua de Vulcano":MAILTO:lafragua@espectaculosamb.com
GEO:42.4167413;-2.7294624
END:VEVENT
END:VCALENDAR