BEGIN:VCALENDAR
VERSION:2.0
PRODID:-//Mercados Medievales - ECPv6.15.20//NONSGML v1.0//EN
CALSCALE:GREGORIAN
METHOD:PUBLISH
X-WR-CALNAME:Mercados Medievales
X-ORIGINAL-URL:https://demercadosmedievales.info
X-WR-CALDESC:Eventos para Mercados Medievales
REFRESH-INTERVAL;VALUE=DURATION:PT1H
X-Robots-Tag:noindex
X-PUBLISHED-TTL:PT1H
BEGIN:VTIMEZONE
TZID:Europe/Madrid
BEGIN:DAYLIGHT
TZOFFSETFROM:+0100
TZOFFSETTO:+0200
TZNAME:CEST
DTSTART:20220327T010000
END:DAYLIGHT
BEGIN:STANDARD
TZOFFSETFROM:+0200
TZOFFSETTO:+0100
TZNAME:CET
DTSTART:20221030T010000
END:STANDARD
BEGIN:DAYLIGHT
TZOFFSETFROM:+0100
TZOFFSETTO:+0200
TZNAME:CEST
DTSTART:20230326T010000
END:DAYLIGHT
BEGIN:STANDARD
TZOFFSETFROM:+0200
TZOFFSETTO:+0100
TZNAME:CET
DTSTART:20231029T010000
END:STANDARD
BEGIN:DAYLIGHT
TZOFFSETFROM:+0100
TZOFFSETTO:+0200
TZNAME:CEST
DTSTART:20240331T010000
END:DAYLIGHT
BEGIN:STANDARD
TZOFFSETFROM:+0200
TZOFFSETTO:+0100
TZNAME:CET
DTSTART:20241027T010000
END:STANDARD
BEGIN:DAYLIGHT
TZOFFSETFROM:+0100
TZOFFSETTO:+0200
TZNAME:CEST
DTSTART:20250330T010000
END:DAYLIGHT
BEGIN:STANDARD
TZOFFSETFROM:+0200
TZOFFSETTO:+0100
TZNAME:CET
DTSTART:20251026T010000
END:STANDARD
END:VTIMEZONE
BEGIN:VEVENT
DTSTART;VALUE=DATE:20231201
DTEND;VALUE=DATE:20240108
DTSTAMP:20260420T100801
CREATED:20231101T183318Z
LAST-MODIFIED:20231101T184746Z
UID:10000633-1701388800-1704671999@demercadosmedievales.info
SUMMARY:MUESTRA NAVIDEÑA PLAZA DEL PILAR DE ZARAGOZA 2023-2024
DESCRIPTION:Zaragoza & Eventos  vuelve a organizar la  MUESTRA NAVIDEÑA de Zaragoza \, se la dispondrán 40 casetas y 2 Tabernas  a lo largo de toda la Plaza del Pilar.  \n  \n\n\n\n\n\n\n\n\n\n\n\n\n\n\n\n\nMUESTRA NAVIDEÑA PLAZA DEL PILAR DE ZARAGOZA 2023 2024\n1 de diciembre 2023 al 7 de enero 2024\n\n\n\n\n\n\n\n\n\n\n\n\n\n\n\n\n\n\n\n\n\n\n\n\n\n\n\n\nSOLICITUD DEL MERCADO\nEstimados artesanos\, \nZaragoza & Eventos  vuelve a organizar la  MUESTRA NAVIDEÑA de Zaragoza \, se la dispondrán 40 casetas y 2 Tabernas  a lo largo de toda la Plaza del Pilar.\nA continuación os adjuntamos la documentación necesaria para participar en la muestra. \nMUESTRA NAVIDEÑA \nTendrá lugar del 1 de DICIEMBRE de 2023 al 7 de ENERO de 2024 en ZARAGOZA.\n– Montaje día 28 de noviembre\n–Inspección día 29 de noviembre \nEl plazo para presentar las solicitudes totalmente cumplimentadas termina el próximo 2  de NOVIEMBRE de 2023. \nEn este correo electrónico adjuntamos los siguientes archivos\, puedes verlos y descargarlos haciendo clic encima de cada apartado: \n– Calendario  de participación\n\n–  Formulario de participación\n\n– Normativa de participación\n\n– Plano y Tarifas\n  \nEn dichos documentos encontrará toda la información necesaria para enviar su solicitud de participación debidamente cumplimentada\, así como los plazos para poder hacerlo.\nLa  Plaza del Pilar  es un punto de referencia y encuentro para los ciudadanos y turistas durante las fiestas de Navidad\, por eso además de las casetas para la venta se instalarán otros espacios  fijos  pensados ​​para el disfrute tanto de mayores como de pequeños:  pista de hielo\, Pista de Trineos Neumáticos\, Árbol de los Deseos\, atracciones ecológicas y el ya tradicional Belén \, éste último gestionado por el Ayuntamiento de Zaragoza.\nAdemás\, la muestra contará con una  completa programación cultural  compuesta por  diversos talleres participativos\, actividades y espectáculos \, tanto en escenario como a pie de calle\, con el fin de convertirse en el mayor evento de estas Navidades. \n  \n  \nPara cualquier consulta o aclaración se pueden poner en contacto con nosotros a través del siguiente mail\nmercados@zaragozayeventos.es\n\n\n\n\n\n\n\n\n\n\n\n\n\n\n\n  \nOtros mercados y ferias de Zaragoza & Eventos : \nNo hay eventos programados. \n  \nOtros mercados y ferias de Zaragoza : \nMercado Medieval de Belchite 2026 Zaragoza25 abrilMercado Medieval de Villanueva de Jiloca 2026 Zaragoza8 mayo - 10 mayoMercado Renacentista de Utebo 2026 / Zaragoza15 mayo - 17 mayoMercado Pirata en Movera 2026 | Zaragoza16 mayoMercado Medieval de Cadrete 2026 (Zaragoza)23 mayo - 24 mayo \n  \nOtros mercados y ferias de Aragón : \nMercado Medieval de Belchite 2026 Zaragoza25 abrilMercado Medieval de Villanueva de Jiloca 2026 Zaragoza8 mayo - 10 mayoMercado Medieval de Tamarite de Litera 2026 (Huesca) 🏰 Información artesanos9 mayo - 10 mayoMercado Renacentista de Utebo 2026 / Zaragoza15 mayo - 17 mayoMercado Pirata en Movera 2026 | Zaragoza16 mayo \n  \n \nFerias\, Mercados y mercadillos de navidad 2023 – 2024\nLas ferias\, mercados y mercadillos navideños son una tradición navideña que se celebra en muchos países del mundo. En España\, estas ferias se han convertido en un atractivo turístico muy popular\, y atraen a miles de visitantes cada año. Aquí encontraras un calendario de Ferias\, Mercados y mercadillos de navidad…  Consulta el calendario de Ferias\, mercados y mercadillos de navidad \n  \n  \n \nAquí puedes consultar el calendario de Ferias y mercados medievales \n\nINFORMACION \n\n2023 calendario de mercados\n\n\nLOS MERCADOS Y FERIAS EN CADA PROVINCIA\nEMPRESAS QUE ORGANIZAN\nSUSCRIBETE A NUESTRO EMAIL \nGALERIA MEDIEVAL\nVESTUARIO\n\n\n\nMERCADOS MEDIEVALES – MUESTRA NAVIDEÑA PLAZA DEL PILAR DE ZARAGOZA 2023-2024\nEspaña\, Aragón\, Zaragoza\, MERCADOS NAVIDEÑOS\, MUESTRA NAVIDEÑA PLAZA DEL PILAR DE ZARAGOZA 2023-2024\,
URL:https://demercadosmedievales.info/mercadomedieval/muestra-navidena-plaza-del-pilar-de-zaragoza-2023-2024/
LOCATION:Zaragoza\, Plaza del Pilar\, Zaragoza\, Zaragoza\, España
CATEGORIES:Mercados de navidad,Zaragoza & Eventos,Zaragoza capital
ORGANIZER;CN="Zaragoza & Eventos (Zaragoza y Eventos)":MAILTO:mercados@zaragozayeventos.es
GEO:41.6562071;-0.8785916
X-APPLE-STRUCTURED-LOCATION;VALUE=URI;X-ADDRESS=Zaragoza Plaza del Pilar Zaragoza Zaragoza España;X-APPLE-RADIUS=500;X-TITLE=Plaza del Pilar:geo:-0.8785916,41.6562071
END:VEVENT
END:VCALENDAR