BEGIN:VCALENDAR
VERSION:2.0
PRODID:-//Mercados Medievales - ECPv6.15.20//NONSGML v1.0//EN
CALSCALE:GREGORIAN
METHOD:PUBLISH
X-WR-CALNAME:Mercados Medievales
X-ORIGINAL-URL:https://demercadosmedievales.info
X-WR-CALDESC:Eventos para Mercados Medievales
REFRESH-INTERVAL;VALUE=DURATION:PT1H
X-Robots-Tag:noindex
X-PUBLISHED-TTL:PT1H
BEGIN:VTIMEZONE
TZID:Europe/Madrid
BEGIN:DAYLIGHT
TZOFFSETFROM:+0100
TZOFFSETTO:+0200
TZNAME:CEST
DTSTART:20230326T010000
END:DAYLIGHT
BEGIN:STANDARD
TZOFFSETFROM:+0200
TZOFFSETTO:+0100
TZNAME:CET
DTSTART:20231029T010000
END:STANDARD
BEGIN:DAYLIGHT
TZOFFSETFROM:+0100
TZOFFSETTO:+0200
TZNAME:CEST
DTSTART:20240331T010000
END:DAYLIGHT
BEGIN:STANDARD
TZOFFSETFROM:+0200
TZOFFSETTO:+0100
TZNAME:CET
DTSTART:20241027T010000
END:STANDARD
BEGIN:DAYLIGHT
TZOFFSETFROM:+0100
TZOFFSETTO:+0200
TZNAME:CEST
DTSTART:20250330T010000
END:DAYLIGHT
BEGIN:STANDARD
TZOFFSETFROM:+0200
TZOFFSETTO:+0100
TZNAME:CET
DTSTART:20251026T010000
END:STANDARD
END:VTIMEZONE
BEGIN:VEVENT
DTSTART;TZID=Europe/Madrid:20241002T000000
DTEND;TZID=Europe/Madrid:20241006T235959
DTSTAMP:20260423T114555
CREATED:20240905T091110Z
LAST-MODIFIED:20240924T104438Z
UID:10001675-1727827200-1728259199@demercadosmedievales.info
SUMMARY:Mercado de Moros y Cristianos de Benidorm (ALICANTE) 2024 Programación
DESCRIPTION:Con la invasión del ejército de la media luna en la Playa de Levante comienza una batalla que sirve de inicio a cuatro días de lucha entre moros y cristianos.  \n\n\n\n\n\n\nMercado de Moros y Cristianos de Benidorm (ALICANTE) 2024\n\n\n\n \n\n\n\nLas Fiestas de Moros y Cristianos de Benidorm se celebran el primer fin de semana de octubre.Representan la invasión del ejercito musulmán de la Playa de Levante y la posterior reconquista de la fortaleza por parte del bando cristiano. \nCartel \n \nProgramación \n \nInformación básica del Mercado\nFecha de celebración Los dias 02 al 06 de Octubre  del  2024 \nDonde se realizaEn la localidad de Benidorm que pertenece a la provincia de ALICANTE \nInformación del Organizador\n ANUBIS TEMATICA / LEGEND ESPECIALISTAS es la encargada de la organización y gestión de paradas/puestos de venta. \nComo participar ? Ponte en contacto con el organizador para conocer los requisitos de participación y solicitar tu participación :teléfono : +34 966 851 604   +34 609 682 742Email : artesanos@anubistematica.com   //  artesanos@legendespecialistas.com \nMás fechas  Puedes conocer mas ferias y mercados en está provincia\, consultando nuestra sección de Eventos en Alicante \nOtros eventos del organizadorConsulta otras ferias y mercados que organizará la empresa Legend especialistas  Anubis tematica \notros mercados temáticos y FeriasSi quieres conocer cuando se realizan más ferias y mercados\, puedes consultarlos visitando nuestro  👀 Calendario de Eventos \nCalendario 2024\nSobre los Mercados Medievales\nLas ferias medievales son eventos que recrean la atmósfera de la Edad Media. Por lo general\, se llevan a cabo en pueblos o ciudades\, y presentan puestos de vendedores que venden artesanías\, alimentos y bebidas. También puede haber entretenimiento\, como justas\, música y baile. \n  \n\n\n\n\n\n\n\nDetalles del organizador\n\n\n\n\n\nLocalización\n\n\n\nBenidorm es una ciudad y municipio español de la provincia de Alicante\, en la Comunidad Valenciana. Conocida como la «Nueva York del Mediterráneo»\,​ Benidorm es la ciudad con más rascacielos de España\, la ciudad con más rascacielos por habitante del mundo​ y la segunda ciudad con más rascacielos por metro cuadrado del mundo\, solo detrás de Nueva York.
URL:https://demercadosmedievales.info/mercadomedieval/mercado-de-moros-y-cristianos-de-benidorm-alicante-2024/
LOCATION:Benidorm (Alicante) (***)\, Benidorm\, Alicante\, España
CATEGORIES:Alicante,Cartel,Mercado de Moros y Cristianos,Programación
ATTACH;FMTTYPE=image/jpeg:https://demercadosmedievales.info/wp-content/uploads/2024/09/moros-y-cristianos-benidorm-2024-f.jpg
ORGANIZER;CN="Legend Especialistas":MAILTO:artesanos@legendespecialistas.com
GEO:38.5411928;-0.1233831
END:VEVENT
END:VCALENDAR