BEGIN:VCALENDAR
VERSION:2.0
PRODID:-//Mercados Medievales - ECPv6.15.20//NONSGML v1.0//EN
CALSCALE:GREGORIAN
METHOD:PUBLISH
X-ORIGINAL-URL:https://demercadosmedievales.info
X-WR-CALDESC:Eventos para Mercados Medievales
REFRESH-INTERVAL;VALUE=DURATION:PT1H
X-Robots-Tag:noindex
X-PUBLISHED-TTL:PT1H
BEGIN:VTIMEZONE
TZID:Europe/Madrid
BEGIN:DAYLIGHT
TZOFFSETFROM:+0100
TZOFFSETTO:+0200
TZNAME:CEST
DTSTART:20230326T010000
END:DAYLIGHT
BEGIN:STANDARD
TZOFFSETFROM:+0200
TZOFFSETTO:+0100
TZNAME:CET
DTSTART:20231029T010000
END:STANDARD
BEGIN:DAYLIGHT
TZOFFSETFROM:+0100
TZOFFSETTO:+0200
TZNAME:CEST
DTSTART:20240331T010000
END:DAYLIGHT
BEGIN:STANDARD
TZOFFSETFROM:+0200
TZOFFSETTO:+0100
TZNAME:CET
DTSTART:20241027T010000
END:STANDARD
BEGIN:DAYLIGHT
TZOFFSETFROM:+0100
TZOFFSETTO:+0200
TZNAME:CEST
DTSTART:20250330T010000
END:DAYLIGHT
BEGIN:STANDARD
TZOFFSETFROM:+0200
TZOFFSETTO:+0100
TZNAME:CET
DTSTART:20251026T010000
END:STANDARD
END:VTIMEZONE
BEGIN:VEVENT
DTSTART;TZID=Europe/Madrid:20241129T000000
DTEND;TZID=Europe/Madrid:20241208T235959
DTSTAMP:20260422T013735
CREATED:20241019T184817Z
LAST-MODIFIED:20241019T184820Z
UID:10001843-1732838400-1733702399@demercadosmedievales.info
SUMMARY:Mercado de Navidad de Montcada i Reixac 2024 (Barcelona)
DESCRIPTION:Mercado navideño en la Calle Mayor de Montcada i Reixac con puestos de alimentación \, artesanía\, regalos\, complementos y artículos navideños.  \n\n\n\n\n\n\n  \nMercado Navideño\n \nCartel – Próximamente\nProgramación – Próximamente\n** Próximamente dispondremos del cartel y del programa con las actividades previstas. \nInformación básica del Mercado\nFecha de celebración Los dias  29 De Noviembre Al 8 De Diciembre  del  2024 \nDonde se realizaEn la localidad de Montcada I Reixac que pertenece a la provincia de BARCELONA  / Moncada y Reixach​​ es un municipio perteneciente a la comarca del Vallès Occidental ubicada en la provincia de Barcelona; Cataluña\, España \nUbicación del EventoEstará ubicado en la C/ Major \nInformación del Organizador\nLa empresa organizadora es  EVENTOS SJ DEL VALLES \nComo participar \nPlazo Inscripción: Hasta Agotar SitiosRequisitos: Carpa\, Parada Madera O De HierroDocumentación En ReglaServicios: Luz\, Y Vigilancia Nocturna \nPara más Información e Inscripciones: 639351258\, Eventos.Sja1@Gmail.Com\,Eventos.Sja2@Gmail.Com\, Eventos.Sja3@Gmail.Com \nMás fechas  Puedes conocer mas ferias y mercados en está provincia\, consultando nuestra sección de Eventos en Barcelona \nOtros eventos del organizadorConsulta Aquí otras ferias y mercados que organizará la empresa Eventos SJ del Valles \notros mercados temáticos y FeriasSi quieres conocer cuando se realizan más ferias y mercados\, puedes consultarlos visitando nuestro   Calendario de Eventos \nCalendario 2024\nSobre los Mercados Medievales\nLas ferias medievales son eventos que recrean la atmósfera de la Edad Media. Por lo general\, se llevan a cabo en pueblos o ciudades\, y presentan puestos de vendedores que venden artesanías\, alimentos y bebidas. También puede haber entretenimiento\, como justas\, música y baile.  \n\n\n\n\n\n\n\nOrganizador\n\n\n\n\n\nLocalización\n\n\n\nMoncada y Reixach​​ es un municipio perteneciente a la comarca del Vallès Occidental ubicada en la provincia de Barcelona; Cataluña\, España
URL:https://demercadosmedievales.info/mercadomedieval/mercado-de-navidad-de-montcada-i-reixac-2024-barcelona/
LOCATION:Montcada i Reixac (Barcelona) (***)\, Montcada i Reixac\, Barcelona\, 08110\, España
CATEGORIES:Barcelona,Mercados de navidad
ATTACH;FMTTYPE=image/jpeg:https://demercadosmedievales.info/wp-content/uploads/2024/10/mercado-navidad-montcada-1-2024-f.jpg
ORGANIZER;CN="Eventos SJ del Valles":MAILTO:eventos.sja1@gmail.com
GEO:41.4949044;2.1800696
END:VEVENT
BEGIN:VEVENT
DTSTART;TZID=Europe/Madrid:20241108T000000
DTEND;TZID=Europe/Madrid:20241110T235959
DTSTAMP:20260422T013735
CREATED:20241019T090222Z
LAST-MODIFIED:20241019T101418Z
UID:10001840-1731024000-1731283199@demercadosmedievales.info
SUMMARY:VIII Feria Medieval de Montcada i Reixac 2024 (Barcelona)
DESCRIPTION:Mercado navideño en la Calle Mayor de Montcada i Reixac con puestos de alimentación \, artesanía\, regalos\, complementos y artículos navideños.  \n\n\n\n\n\n\n \n\n\n\nMercado Medieval\n\nCartel – Próximamente\nProgramación – Próximamente\n** Próximamente dispondremos del cartel y del programa con las actividades previstas. \n \nInformación básica del Mercado\nFecha de celebración Los dias 08 al 10 de Noviembre  del  2024 \nDonde se realizaEn la localidad de Montcada I Reixac que pertenece a la provincia de BARCELONA  / Moncada y Reixach​​ es un municipio perteneciente a la comarca del Vallès Occidental ubicada en la provincia de Barcelona; Cataluña\, España \nUbicación del EventoEstará ubicado en la Rbla. Païssos Catalans / Cami Fontfreda \nInformación del Organizador\nLa empresa organizadora es  EVENTOS SJ DEL VALLES \nComo participar \nPlazo Inscripción: Hasta Agotar SitiosRequisitos: Carpa\, Parada Madera O De HierroDocumentación En ReglaServicios: Luz\, Y Vigilancia Nocturna \nPara más Información e Inscripciones: 639351258\, Eventos.Sja1@Gmail.Com\,Eventos.Sja2@Gmail.Com\, Eventos.Sja3@Gmail.Com \nMás fechas  Puedes conocer mas ferias y mercados en está provincia\, consultando nuestra sección de Eventos en Barcelona \nOtros eventos del organizadorConsulta Aquí otras ferias y mercados que organizará la empresa Eventos SJ del Valles \notros mercados temáticos y FeriasSi quieres conocer cuando se realizan más ferias y mercados\, puedes consultarlos visitando nuestro   Calendario de Eventos \nCalendario 2024\nSobre los Mercados Medievales\nLas ferias medievales son eventos que recrean la atmósfera de la Edad Media. Por lo general\, se llevan a cabo en pueblos o ciudades\, y presentan puestos de vendedores que venden artesanías\, alimentos y bebidas. También puede haber entretenimiento\, como justas\, música y baile.  \n\n\n\n\n\n\n\nDetalles del organizador\n\n\n\n\n\nLocalización\n\n\n\nMoncada y Reixach​​ es un municipio perteneciente a la comarca del Vallès Occidental ubicada en la provincia de Barcelona; Cataluña\, España
URL:https://demercadosmedievales.info/mercadomedieval/viii-feria-medieval-de-montcada-i-reixac-2024-barcelona/
LOCATION:Montcada i Reixac (Barcelona) (***)\, Montcada i Reixac\, Barcelona\, 08110\, España
CATEGORIES:Barcelona,Mercado Medieval
ATTACH;FMTTYPE=image/jpeg:https://demercadosmedievales.info/wp-content/uploads/2024/10/fira-medieval-montcada-1-2024-f.jpg
ORGANIZER;CN="Eventos SJ del Valles":MAILTO:eventos.sja1@gmail.com
GEO:41.4949044;2.1800696
END:VEVENT
END:VCALENDAR