BEGIN:VCALENDAR
VERSION:2.0
PRODID:-//Mercados Medievales - ECPv6.15.20//NONSGML v1.0//EN
CALSCALE:GREGORIAN
METHOD:PUBLISH
X-WR-CALNAME:Mercados Medievales
X-ORIGINAL-URL:https://demercadosmedievales.info
X-WR-CALDESC:Eventos para Mercados Medievales
REFRESH-INTERVAL;VALUE=DURATION:PT1H
X-Robots-Tag:noindex
X-PUBLISHED-TTL:PT1H
BEGIN:VTIMEZONE
TZID:Europe/Madrid
BEGIN:DAYLIGHT
TZOFFSETFROM:+0100
TZOFFSETTO:+0200
TZNAME:CEST
DTSTART:20220327T010000
END:DAYLIGHT
BEGIN:STANDARD
TZOFFSETFROM:+0200
TZOFFSETTO:+0100
TZNAME:CET
DTSTART:20221030T010000
END:STANDARD
BEGIN:DAYLIGHT
TZOFFSETFROM:+0100
TZOFFSETTO:+0200
TZNAME:CEST
DTSTART:20230326T010000
END:DAYLIGHT
BEGIN:STANDARD
TZOFFSETFROM:+0200
TZOFFSETTO:+0100
TZNAME:CET
DTSTART:20231029T010000
END:STANDARD
BEGIN:DAYLIGHT
TZOFFSETFROM:+0100
TZOFFSETTO:+0200
TZNAME:CEST
DTSTART:20240331T010000
END:DAYLIGHT
BEGIN:STANDARD
TZOFFSETFROM:+0200
TZOFFSETTO:+0100
TZNAME:CET
DTSTART:20241027T010000
END:STANDARD
END:VTIMEZONE
BEGIN:VEVENT
DTSTART;VALUE=DATE:20231216
DTEND;VALUE=DATE:20231218
DTSTAMP:20260420T064153
CREATED:20231125T092802Z
LAST-MODIFIED:20231125T092803Z
UID:10000725-1702684800-1702857599@demercadosmedievales.info
SUMMARY:Mercado navideño hebreo de Mocejón - Toledo - diciembre del 2023
DESCRIPTION:El Mercado navideño hebreo estará ubicado en el centro \, será los días 16 y 17 de diciembre del 2023. Es organizado por Anayao Eventos. \n \nMercado navideño hebreo de Mocejón\n\nLas fechas son los días 16 y 17 de diciembre del 2023  \nLa localidad es Mocejón en la provincia de TOLEDO \nEstará ubicado : en el centro de la localidad \nY el montaje está todavía por  :  confirmar por parte del organizador. \nEl organizador pondra a disposición de los artesanos de los servicios de :   Agua\, electricidad y vigilancia disuasoria. \nPuedes participar poniéndote en contacto con : ANAYAO\nY estos son sus datos de contacto:\n\nLos teléfonos  son : oficina 925800859  – Sagrario 607 71 57 90\nte atenderán en el siguiente horario: DE LUNES A VIERNES DE 9.00H A 15.00H\n\n\nCartel del Mercado Navideño\n\n\nSobre Mocejón\n\nMocejón es un municipio y localidad española de la provincia de Toledo\, en la comunidad autónoma de Castilla-La Mancha. En su término se encuentran los caseríos de Velilla e Higares. \nEl municipio se encuentra situado «en una llanura»​ en la comarca de La Sagra y linda con los términos municipales de Aranjuez al este en la provincia de Madrid y Magán y Villaseca de la Sagra al norte\, Toledo al sur y Olías del Rey al oeste. \nAl sur del municipio discurre el Tajo y de norte a sur es atravesado por el Canal del Jarama. \n\n  \nSiempre a tu lado !!!
URL:https://demercadosmedievales.info/mercadomedieval/mercado-navideno-hebreo-de-mocejon-toledo-diciembre-del-2023/
LOCATION:Mocejón (Toledo) *\, Mocejón\, Toledo\, España
CATEGORIES:Anayao eventos temáticos,Mercados de navidad,Toledo
ATTACH;FMTTYPE=image/jpeg:https://demercadosmedievales.info/wp-content/uploads/2023/11/mocejon_Mercado_de_navidad_2023_cartel-f.jpg
END:VEVENT
END:VCALENDAR