BEGIN:VCALENDAR
VERSION:2.0
PRODID:-//Mercados Medievales - ECPv6.15.20//NONSGML v1.0//EN
CALSCALE:GREGORIAN
METHOD:PUBLISH
X-WR-CALNAME:Mercados Medievales
X-ORIGINAL-URL:https://demercadosmedievales.info
X-WR-CALDESC:Eventos para Mercados Medievales
REFRESH-INTERVAL;VALUE=DURATION:PT1H
X-Robots-Tag:noindex
X-PUBLISHED-TTL:PT1H
BEGIN:VTIMEZONE
TZID:Europe/Madrid
BEGIN:DAYLIGHT
TZOFFSETFROM:+0100
TZOFFSETTO:+0200
TZNAME:CEST
DTSTART:20240331T010000
END:DAYLIGHT
BEGIN:STANDARD
TZOFFSETFROM:+0200
TZOFFSETTO:+0100
TZNAME:CET
DTSTART:20241027T010000
END:STANDARD
BEGIN:DAYLIGHT
TZOFFSETFROM:+0100
TZOFFSETTO:+0200
TZNAME:CEST
DTSTART:20250330T010000
END:DAYLIGHT
BEGIN:STANDARD
TZOFFSETFROM:+0200
TZOFFSETTO:+0100
TZNAME:CET
DTSTART:20251026T010000
END:STANDARD
BEGIN:DAYLIGHT
TZOFFSETFROM:+0100
TZOFFSETTO:+0200
TZNAME:CEST
DTSTART:20260329T010000
END:DAYLIGHT
BEGIN:STANDARD
TZOFFSETFROM:+0200
TZOFFSETTO:+0100
TZNAME:CET
DTSTART:20261025T010000
END:STANDARD
END:VTIMEZONE
BEGIN:VEVENT
DTSTART;TZID=Europe/Madrid:20250519T000000
DTEND;TZID=Europe/Madrid:20250525T235959
DTSTAMP:20260420T112050
CREATED:20250126T093356Z
LAST-MODIFIED:20250513T172931Z
UID:10002143-1747612800-1748217599@demercadosmedievales.info
SUMMARY:XV Emerita Lvdica\, Ferias Romanas en Mérida 2025 (Badajoz)
DESCRIPTION:Mercado Romano con puestos de artesanía\, alimentación y recreación histórica fiel a la época romana. \n\n\n\n\n\n\n\n\n\nXV Emerita Lvdica \n\n\n\nEmerita Lvdica cumple este año su XV edición y\, por ello\, se ha puesto de largo en la presentación que\, de mano del alcalde\, Antonio Rodríguez Osuna\, se ha celebrado en el stand de la Junta de Extremadura en Fitur con la presencia de recreacionistas de. distintas asociaciones de la ciudad\, la presentación del cartel anunciador de la fiesta y el avance de una intensa programación que\, en esta ocasión\, incluirá nuevos escenarios como el Circo Romano que\, sin duda\, y como ha destacado el alcalde\, “supondrá un plus de calidad a esta fiesta consolidada en la ciudad de Mérida”. \n\n\n\nCon estas armas\, Mérida ha presentado en FITUR su oferta turística\, cultural\, deportiva y de ocio con la intervención del alcalde y a la que han asistido varios miembros del Equipo de Gobierno\, la Corporación Municipal\, así como los responsables del Festival Internacional de Teatro Clásico y del Stone & Music Festival. \n\n\n\nEn su intervención\, el alcalde ha señalado que el 2024 ha acabado con datos “buenos y sorprendentes para la ciudad como el medio millón de entradas vendidas al conjunto patrimonial que gestiona el Consorcio de la Ciudad Monumental\, a los que hay que sumar las decenas de miles de personas que han escogido la capital extremeña para disfrutar de su Festival de Teatro Clásico\, el Stone & Music Festival\, la Semana Santa de Interés Turístico Internacional o Emerita Lvdica\, la mayor fiesta de recreación romana de la península”…. más  \n\n\n\n\n\n\n\nMercado Romano\n\n\n\nDel 19 al 25 de mayo de 2025\, la ciudad de Mérida ofrece la oportunidad de ser testigos (o preferentemente actores y figurantes) de escenas cotidianas del mundo romano\, aproximándonos a sus modos de vida\, utilizando los escenarios originales que conforman el conjunto arqueológico monumental más completo y mejor conservado de Hispania: Avgvsta Emerita\, declarado Patrimonio de la Humanidad por la UNESCO. Será en la XV edición de Emerita Lvdica. \n\n\n\nEsta actividad hace revivir cada año las grandes ruinas de la antigua ciudad\, abrir los monumentos al público y mostrarlos de una forma alternativa a la par que formativa y divertida. Por ello se cuida con todo rigor que las recreaciones sean fidedignas: tramas\, escenas\, indumentarias\, objetos\, mensajes\, aromas\, sabores\, etc. \n\n\n\nEmerita Lvdica (lvdi = juegos) lleva este nombre con el propósito de retomar el ambiente festivo que acompañaba la celebración de juegos en la capital de Lusitania\, atrayendo a gentes de toda la provincia. Se disputarán luchas de gladiadores\, se harán ritos en el Templo de Diana\, el foro se llenará de vida recreando escenas de la vida cotidiana de Avgusta Emerita\, los legionarios entrarán por el puente romano en la ciudad\, acampando a sus puertas\, donde harán prácticas de entrenamiento\, y habrá constantes recreaciones de la vida cotidiana de una ciudad romana. \n\n\n\nSon cuatro asociaciones de recreacionistas de Mérida las que ayudan a hacer posible esta actividad: Emérita Antiqva\, Ara Concordiae\, Lvporvm Celtiberiae Levkoni y Tanit\, además de otras de recreación romana de diferentes puntos del territorio nacional. \n\n\n\nAdemás\, se instala un Mercado Romano (Macellvm Ceres) de puestos de artesanía\, de alimentación y restauración que tengan relación con la época y recreación histórica romana. \n\n\n\nEmerita Lvdica\, Fiesta de Interés Turístico de Extremadura\, es organizada por el Ayuntamiento de Mérida con la colaboración de la Dirección General de Turismo\, la Diputación de Badajoz\, el Consorcio de la Ciudad Monumental y el Museo Nacional de Arte Romano de Mérida. \n\n\n\nWeb oficial: https://www.emerita-lvdica.es/ \n\n\n\n \n\n\n\n\nDescarga la programación completa \n\n\n\n\n \n\n\n\nInformación del evento\n\n\n\n\nFecha:  19 al 25 Mayo de  2025 \n\n\n\nPlazo de inscripción :  \n\n\n\nLugar:  distribuidos entre la zona del Templo de Diana y Macellum Ceres.\n\n\n\nPoblación:  Mérida ( BADAJOZ ) Mérida es un municipio y ciudad de España\, capital de la comunidad autónoma de Extremadura y sede de sus instituciones de gobierno. Situado en el norte de la provincia de Badajoz\, su término municipal cuenta con una población de 59 857 habitantes (INE 2024).\n\n\n\nOferta a exponer:    Alimentación\, Gastronomía\, Artesanía y complementos.\n\n\n\nSerá inaugurado  : A las 6 de la tarde del Miércoles\n\n\n\nRequisitos : Consultar con el organizador\n\n\n\nServicios que proporcionara el organizador: Consultar con el organizador\n\n\n\nEntidad organizadora: Ayuntamiento de Mérida\n\n\n\n\n \n\n\n\n \n\n\n\nInformación del organizador :\n\n\n\nLa organización y decoración de este evento están a cargo de AYUNTAMIENTO DE MÉRIDA . Para más detalles sobre el proceso de inscripción\, tarifas y requisitos específicos\, contacta a través de: \n\n\n\n\nCorreo electrónico :  emeritalvdica@merida.es  mercado.romano@merida.es\n\n\n\nTeléfono / WhatsApp :  +34 924 380 162\n\n\n\nPersonas de contacto :  \n\n\n\nFacebook : https://www.facebook.com/emeritalvdica/?locale=es_ES\n\n\n\n\n \n\n\n\n\n\n\n\n \n\n\n\nAcerca de .. Mérida\n\n\n\nMérida es un municipio y ciudad de España\, capital de la comunidad autónoma de Extremadura y sede de sus instituciones de gobierno. Situado en el norte de la provincia de Badajoz\, su término municipal cuenta con una población de 59 857 habitantes (INE 2024). \n\n\n\n \n\n\n\n\n\n\n\n \n\n\n\n \n\n\n\n\n\n\n\nFerias y Mercados Medievales :\n\n\n\n\nEventos de LA PROVINCIA DE BADAJOZ\n\n\n\nCalendario de Mercados Medievales en Mayo\n\n\n\nFerias y Mercados en España\n\n\n\nOrganizadores de Mercados y Ferias\n\n\n\n\n\nVisita nuestro Calendario de Eventos para obtener detalles de: Calendario 2025: Planifica con anticipación y no te pierdas ninguna cita.\n\n\n\n\n\nLas ferias medievales son auténticos viajes en el tiempo. Estos eventos recrean la atmósfera de la Edad Media. Leer más…\n\n\n\n\n\n\n\n\n \n\n\n\nSigue disfrutando de MercadosMedievales.net:\n\n\n\n\nTelegram: Recibe nuestras noticias y contenido exclusivo (clic aquí).\n\n\n\nNewsletter: Recibe un correos con nuestras últimas noticias (clic aquí).\n\n\n\nWhatsApp: Suscríbete para ver nuestros mejores vídeos (clic aquí).\n\n\n\nInstagram:  Síguenos en Instagram ( clic aquí )\n\n\n\n\n \n\n\n\n\n\n\n\n\n\n\n\nMercadosmedievales.net \n\n\n\nLas ferias medievales son auténticos viajes en el tiempo. Estos eventos recrean la atmósfera de la Edad Media….  \n\n\n\n\n\n\n\n\n\n\n\n\nBuscar \n\n\nSearch\n					\n				\n\n\n\n\n\nSocial \n\n\n\n\nFacebook \n\n\n\nInstagram \n\n\n\nTwitter
URL:https://demercadosmedievales.info/mercadomedieval/xv-emerita-lvdica-feria-romana-en-merida-2025-badajoz/
CATEGORIES:Badajoz,Extremadura,Mercado romano
ATTACH;FMTTYPE=image/jpeg:https://demercadosmedievales.info/wp-content/uploads/2025/01/emerita-lvdica-2025-anuncio.jpg
END:VEVENT
END:VCALENDAR