BEGIN:VCALENDAR
VERSION:2.0
PRODID:-//Mercados Medievales - ECPv6.15.20//NONSGML v1.0//EN
CALSCALE:GREGORIAN
METHOD:PUBLISH
X-WR-CALNAME:Mercados Medievales
X-ORIGINAL-URL:https://demercadosmedievales.info
X-WR-CALDESC:Eventos para Mercados Medievales
REFRESH-INTERVAL;VALUE=DURATION:PT1H
X-Robots-Tag:noindex
X-PUBLISHED-TTL:PT1H
BEGIN:VTIMEZONE
TZID:Europe/Madrid
BEGIN:DAYLIGHT
TZOFFSETFROM:+0100
TZOFFSETTO:+0200
TZNAME:CEST
DTSTART:20220327T010000
END:DAYLIGHT
BEGIN:STANDARD
TZOFFSETFROM:+0200
TZOFFSETTO:+0100
TZNAME:CET
DTSTART:20221030T010000
END:STANDARD
BEGIN:DAYLIGHT
TZOFFSETFROM:+0100
TZOFFSETTO:+0200
TZNAME:CEST
DTSTART:20230326T010000
END:DAYLIGHT
BEGIN:STANDARD
TZOFFSETFROM:+0200
TZOFFSETTO:+0100
TZNAME:CET
DTSTART:20231029T010000
END:STANDARD
BEGIN:DAYLIGHT
TZOFFSETFROM:+0100
TZOFFSETTO:+0200
TZNAME:CEST
DTSTART:20240331T010000
END:DAYLIGHT
BEGIN:STANDARD
TZOFFSETFROM:+0200
TZOFFSETTO:+0100
TZNAME:CET
DTSTART:20241027T010000
END:STANDARD
BEGIN:DAYLIGHT
TZOFFSETFROM:+0100
TZOFFSETTO:+0200
TZNAME:CEST
DTSTART:20250330T010000
END:DAYLIGHT
BEGIN:STANDARD
TZOFFSETFROM:+0200
TZOFFSETTO:+0100
TZNAME:CET
DTSTART:20251026T010000
END:STANDARD
BEGIN:DAYLIGHT
TZOFFSETFROM:+0100
TZOFFSETTO:+0200
TZNAME:CEST
DTSTART:20260329T010000
END:DAYLIGHT
BEGIN:STANDARD
TZOFFSETFROM:+0200
TZOFFSETTO:+0100
TZNAME:CET
DTSTART:20261025T010000
END:STANDARD
END:VTIMEZONE
BEGIN:VEVENT
DTSTART;VALUE=DATE:20231215
DTEND;VALUE=DATE:20231218
DTSTAMP:20260420T191349
CREATED:20231123T091309Z
LAST-MODIFIED:20231123T091309Z
UID:10000712-1702598400-1702857599@demercadosmedievales.info
SUMMARY:Mercado navideño de Oliva\, Valencia 15 al 17 de diciembre del 2023
DESCRIPTION:Tradicional Mercado navideño que se celebra anualmente en Oliva\, con puestos de navidad\, artesanía\, gastronomía\, juguetes\, complementos de navidad en el centro . \n \nMercado navideño\nFECHAS :  15 al 17 de Diciembre 2023 \nLOCALIDAD Y PROVINCIA : Oliva (VALENCIA) //  Oliva es un municipio de la Comunidad Valenciana\, España. Está situado en el sureste de la provincia de Valencia\, en la comarca de la Safor\, limitando con la provincia de Alicante. Contaba con 25.119 habitantes en 2021 . \nCONTARÁ CON :  \n– Papá Noel y Elfos (recogida de cartas) \n– Talleres \n–  Tiovivo \n– Decoración especial navideña \nMONTAJE:  Se monta el viernes 15 a partir de las 10:00\, se  abre a las 17:00 h. \nDECORACION Y VESTUARIO : Vestimenta y decoración navideña (pastor \, ropa color rojo) \nORGANIZA : Arcome\nTelefono  685589326\nEmail *  ferias.arcome@gmail.com \n  \nCartel :\n \n  \n\n\n2023 calendario de mercados\nLOS MERCADOS Y FERIAS EN CADA PROVINCIA\nEMPRESAS QUE ORGANIZAN\nSUSCRIBETE A NUESTRO EMAIL \nGALERIA MEDIEVAL\nVESTUARIO\n\n\n  \n  \nmercados medievales en la RED
URL:https://demercadosmedievales.info/mercadomedieval/mercado-navideno-de-oliva-valencia-15-al-17-de-diciembre-del-2023/
LOCATION:Oliva ( Valencia ) (***)\, en el centro historico\, Oliva\, Valencia\, España
CATEGORIES:Mercados de navidad,Valencia
ATTACH;FMTTYPE=image/jpeg:https://demercadosmedievales.info/wp-content/uploads/2023/08/oliva_mercat_nadalenc_2023_cartel.jpg
GEO:39.4782333;-0.380187
X-APPLE-STRUCTURED-LOCATION;VALUE=URI;X-ADDRESS=Oliva ( Valencia ) (***) en el centro historico Oliva Valencia España;X-APPLE-RADIUS=500;X-TITLE=en el centro historico:geo:-0.380187,39.4782333
END:VEVENT
BEGIN:VEVENT
DTSTART;VALUE=DATE:20240112
DTEND;VALUE=DATE:20240115
DTSTAMP:20260420T191349
CREATED:20231123T094549Z
LAST-MODIFIED:20231123T094549Z
UID:10000713-1705017600-1705276799@demercadosmedievales.info
SUMMARY:Fira modernista de Oliva ( Valencia ) 12 al 14 de Enero del 2024
DESCRIPTION:Fira modernista que coincide con  Les Calderes \, donde acude todo el pueblo y alrededores a degustar la famosa caldereta. Decoración y vestimenta modernista \, se monta en la calle Arzobispo Reig . \n \nFira Modernista de Oliva (Valencia)\n\nEsta incluido en la Ruta de Porrats del año 2024\nFECHAS : 12 al 14 de Enero 2024 \nLOCALIDAD Y PROVINCIA : Oliva (VALENCIA) //  Oliva es un municipio de la Comunidad Valenciana\, España. Está situado en el sureste de la provincia de Valencia\, en la comarca de la Safor\, limitando con la provincia de Alicante. Contaba con 25.119 habitantes en 2021 . \nDECORACION Y VESTUARIO : Decoración y vestimenta modernista \, se monta en la calle Arzobispo Reig \, \nMOTIVO : Coincide con  Les Calderes \, donde acude todo el pueblo y alrededores a degustar la famosa caldereta (será el sábado 13 \, gratuita pero deben llevar cazuela).  Exposición de bicicletas de época\, representaciones de época \, más de 100 figurantes. \nMONTAJE : Se monta el viernes 12 a partir de las 10:00. \nORGANIZA : Arcome\nTelefono  685589326\nEmail *  ferias.arcome@gmail.com \nVer  Los vestidos de las clases populares durante la época modernista \nCartel\n \n  \n\n  \n\n\nLOS MERCADOS Y FERIAS EN CADA PROVINCIA\nEMPRESAS QUE ORGANIZAN\nSUSCRIBETE A NUESTRO EMAIL \nGALERIA MEDIEVAL\nVESTUARIO\n\n\nmercados medievales en la RED
URL:https://demercadosmedievales.info/mercadomedieval/fira-modernista-de-oliva-valencia-12-al-14-de-enero-del-2024/
LOCATION:Oliva ( Valencia ) (***)\, en el centro historico\, Oliva\, Valencia\, España
CATEGORIES:Mercado modernista,Valencia
ATTACH;FMTTYPE=image/jpeg:https://demercadosmedievales.info/wp-content/uploads/2023/08/oliva_modernista_2024_cartel.jpg
GEO:39.4782333;-0.380187
X-APPLE-STRUCTURED-LOCATION;VALUE=URI;X-ADDRESS=Oliva ( Valencia ) (***) en el centro historico Oliva Valencia España;X-APPLE-RADIUS=500;X-TITLE=en el centro historico:geo:-0.380187,39.4782333
END:VEVENT
BEGIN:VEVENT
DTSTART;VALUE=DATE:20240614
DTEND;VALUE=DATE:20240617
DTSTAMP:20260420T191349
CREATED:20240217T052428Z
LAST-MODIFIED:20240217T052428Z
UID:10000916-1718323200-1718582399@demercadosmedievales.info
SUMMARY:14 al 16 de Junio Mercat del Llaurador de OLIVA (Valencia)
DESCRIPTION:Mercat del Llaurador (mercado tradicional) en el paseo Jaime I de Oliva coincidiendo con la fira de fires de las fiestas mayores. \n \n Detalles del Mercat del Llaurador\nCuando se celebra ? Los dias  14 al 16 de Junio del  2024\nEn que localidad y provincia ? Oliva  provincia de   VALENCIA\nCual será la ubicación ? La ubicación seráen el paseo Jaime I\nMOTIVO : fira de fires de las fiestas mayores. \n  \n Descripción del evento\nDia y hora de Montaje : El dia 14 de junio en la mañana\n Fecha y hora de Inauguración el dia 14 de junio por la tarde\n Precio Para conocer el coste del metro lineal tienes que ponerte en contacto con el organizador.\nComo debe ser la Decoración de la parada y el Vestuario de los artesanos/mercaderes: La temática de este mercado es la de un mercado tradicional campesino por lo cual el vestuario debe ser sencillo y cómodo de estilo campesino\, en colores neutros como marrón\, beige y verde oliva para la ropa base y puedes acompañarlo con accesorios tradicionales como sombreros de paja\, pañuelos\, delantales y botas \n  \n Quién lo organiza ?  La empresa  Arcome es la encargada de la organización y gestión de paradas/puestos de venta.\n Como participar ? Ponte en contacto con el organizador para conocer los requisitos de participación y solicitar tu participación.\nTeléfono  685589326\nEmail * ad.arcome@gmail.com   ferias.arcome@gmail.com \nEl organizador proveerá de los siguientes servicios para los artesanos : \n\nLUZ\nAGUA\nPUBLICIDAD\nVIGILANCIA DISUASORIA\nMÚSICOS\, \, TALLERES\, TÍO VIVO  Y MUCHO MÁS.\n\n  \n Acerca de Oliva\nOliva es un municipio de la Comunidad Valenciana\, España. Está situado en el sureste de la provincia de Valencia\, en la comarca de la Safor\, limitando con la provincia de Alicante. Contaba con 25.119 habitantes en 2021 . \n  \n\nCalendario de Mercado Medieval y Ferias 2024 :\n\n\nEnero\nFebrero\nMarzo\nAbril\nMayo\nJunio\nJulio\nAgosto\nSeptiembre\nOctubre\nNoviembre\nDiciembre\n\n Las Ferias y mercados medievales\n\n\nLas ferias medievales son eventos que recrean la atmósfera de la Edad Media. Por lo general\, se llevan a cabo en pueblos o ciudades\, y presentan puestos de vendedores que venden artesanías\, alimentos y bebidas. También puede haber entretenimiento\, como justas\, música y baile. . \nLos Mercados  Medievales son una forma popular de aprender sobre la historia de la Edad Media y experimentar la cultura de la época. También son una actividad divertida para toda la familia. \n\n\n 
URL:https://demercadosmedievales.info/mercadomedieval/14-al-16-de-junio-mercat-del-llaurador-de-oliva-valencia/
LOCATION:Oliva ( Valencia ) (***)\, en el centro historico\, Oliva\, Valencia\, España
CATEGORIES:Mercado tradicional,Valencia
ATTACH;FMTTYPE=image/jpeg:https://demercadosmedievales.info/wp-content/uploads/2024/02/mercat_llaurador_oliva-2024-f.jpg
ORGANIZER;CN="Arcome":MAILTO:ferias.arcome@gmail.com // ad.arcome@gmail.com
GEO:39.4782333;-0.380187
X-APPLE-STRUCTURED-LOCATION;VALUE=URI;X-ADDRESS=Oliva ( Valencia ) (***) en el centro historico Oliva Valencia España;X-APPLE-RADIUS=500;X-TITLE=en el centro historico:geo:-0.380187,39.4782333
END:VEVENT
BEGIN:VEVENT
DTSTART;TZID=Europe/Madrid:20241213T000000
DTEND;TZID=Europe/Madrid:20241215T235959
DTSTAMP:20260420T191349
CREATED:20241102T191306Z
LAST-MODIFIED:20241102T191458Z
UID:10001888-1734048000-1734307199@demercadosmedievales.info
SUMMARY:Mercado Navideño de Oliva (Valencia) 2024
DESCRIPTION:Fira modernista que coincide con fiesta de Les Calderes \, donde acude todo el pueblo y alrededores a degustar la famosa caldereta. Decoración y vestimenta modernista \, se monta en la calle Arzobispo Reig .  \n\n\n \n\n\n\n\n\n\n\n\n\n– Decoración especial navideña \n\n\n\n \n\n\n\nFerias de NavidadLlegan las fechas de los mercados navideños\,  consulta el calendario de Ferias de navidad .\n\n\n\nMercado Navideño\n\n\n\nCartel – Próximamente\n\n\n\nProgramación – Próximamente\n\n\n\n** Próximamente dispondremos del cartel y del programa con las actividades previstas. \n\n\n\nInformación básica del Mercado\n\n\n\nFecha de celebraciónLos dias 13 al 15 Diciembre del  2024 \n\n\n\nDonde se realizaEn la localidad de Oliva que pertenece a la provincia de VALENCIA  / Oliva es un municipio de la Comunidad Valenciana\, España. Está situado en el sureste de la provincia de Valencia\, en la comarca de la Safor\, limitando con la provincia de Alicante. Cuenta con 25 558 habitantes.​ \n\n\n\nUbicación del EventoEstará ubicado en el centro de la localidad \n\n\n\nInformación del Organizador\n\n\n\nLa empresa organizadora es Arcome \n\n\n\nComo participar \n\n\n\nPonte en contacto con el organizador para conocer los requisitos de participación y solicitar tu participación.Teléfono  685589326Email * ad.arcome@gmail.com   ferias.arcome@gmail.com \n\n\n\nSe monta el viernes 13 a partir de las 10:00\,se abre a las 17:00 h. \n\n\n\nVestimenta y decoración navideña (pastor \, ropa color rojo) \n\n\n\nPara más Información e Inscripciones: \n\n\n\nMás fechas  Puedes conocer mas ferias y mercados en está provincia\, consultando nuestra sección de Eventos de Valencia \n\n\n\nOtros eventos del organizadorConsulta Aquí otras ferias y mercados que organizará la empresa Arcome \n\n\n\notros mercados temáticos y FeriasSi quieres conocer cuando se realizan más ferias y mercados\, puedes consultarlos visitando nuestro   Calendario de Eventos \n\n\n\nCalendario 2024\n\n\n\nCalendario 2025\n\n\n\nSobre los Mercados Medievales\n\n\n\nLas ferias medievales son eventos que recrean la atmósfera de la Edad Media. Por lo general\, se llevan a cabo en pueblos o ciudades\, y presentan puestos de vendedores que venden artesanías\, alimentos y bebidas. También puede haber entretenimiento\, como justas\, música y baile. \n\n\n\n\n\n\n\nOrganizador\n\n\n\n\n\nLocalización\n\n\n\nOliva es un municipio de la Comunidad Valenciana\, España. Está situado en el sureste de la provincia de Valencia\, en la comarca de la Safor\, limitando con la provincia de Alicante. Cuenta con 25 558 habitantes.​
URL:https://demercadosmedievales.info/mercadomedieval/mercado-navideno-de-oliva-valencia-2024/
LOCATION:Oliva ( Valencia ) (***)\, en el centro historico\, Oliva\, Valencia\, España
CATEGORIES:Mercados de navidad,Valencia
ATTACH;FMTTYPE=image/jpeg:https://demercadosmedievales.info/wp-content/uploads/2024/11/navidad_oliva-f.jpg
GEO:39.4782333;-0.380187
X-APPLE-STRUCTURED-LOCATION;VALUE=URI;X-ADDRESS=Oliva ( Valencia ) (***) en el centro historico Oliva Valencia España;X-APPLE-RADIUS=500;X-TITLE=en el centro historico:geo:-0.380187,39.4782333
END:VEVENT
BEGIN:VEVENT
DTSTART;TZID=Europe/Madrid:20250110T000000
DTEND;TZID=Europe/Madrid:20250112T235959
DTSTAMP:20260420T191349
CREATED:20241103T080147Z
LAST-MODIFIED:20250106T061115Z
UID:10001889-1736467200-1736726399@demercadosmedievales.info
SUMMARY:VIII Feria Modernista y Calderos tradicionales de Oliva ( Valencia ) 2025
DESCRIPTION:Fira modernista que coincide con fiesta de Les Calderes \, donde acude todo el pueblo y alrededores a degustar la famosa caldereta. Decoración y vestimenta modernista \, se monta en la calle Arzobispo Reig .  \n\n\n\n\n\n\nVIII Feria Modernista de Oliva  y Calderos tradicionales\n\n\n\nCaldero popular \,talleres \, exposiciones modernistas \,figurantes\, exposición de bicicletas antiguas\, coches antiguos. Rutas guiadas\, noria\, tiovivo\, bailes de época \, recreaciones y muchas más sorpresas. \n\n\n\nPremio mejor parada y mejor vestimenta. \n\n\n\n\n\nCartel – Próximamente\n\n\n\nProgramación – Próximamente\n\n\n\n** Próximamente dispondremos del cartel y del programa con las actividades previstas. \n\n\n\nInformación básica del Mercado\n\n\n\nFecha de celebraciónLos dias 10 al 12 de Enero  del  2024 \n\n\n\nDonde se realizaEn la localidad de Oliva que pertenece a la provincia de VALENCIA / Oliva es un municipio de la Comunidad Valenciana\, España. Está situado en el sureste de la provincia de Valencia\, en la comarca de la Safor\, limitando con la provincia de Alicante. Cuenta con 25 558 habitantes.​ \n\n\n\nUbicación del EventoEstará ubicado en el centro de la localidad \n\n\n\nInformación del Organizador\n\n\n\nLa empresa organizadora es Arcome \n\n\n\n Como participar\n\n\n\nPonte en contacto con el organizador para conocer los requisitos de participación y solicitar tu participación.Teléfono  685589326Email * ad.arcome@gmail.com   ferias.arcome@gmail.com \n\n\n\n\nMontaje : Se monta el viernes 10 a partir de las 9:00 \, se abre el viernes a las 17:00\n\n\n\nRequisitos : Paradas con telas crema y/o blancas encajes\,  etc…\, vestimenta modernista.\n\n\n\nHorario de 10:00 a 22:00 \, a medio día el que quiera puede cerrar( de 14 a 17)\n\n\n\nPrecio :  Precio a 50 Euros el metro lineal\n\n\n\n\nOtros eventos del organizadorConsulta Aquí otras ferias y mercados que organizará la empresa Arcome \n\n\n\nFerias y Mercados en la Provincia de   \n\n\n\nExplora otros eventos en la misma provincia visitando nuestra sección de Eventos de LA PROVINCIA DE VALENCIA\, donde encontrarás información actualizada sobre ferias\, mercados y actividades para todas las edades. \n\n\n\n \n\n\n\n\n\n\n\nCalendario de los Mercados Temáticos y Ferias Medievales\n\n\n\n¿Quieres saber cuándo y dónde se realizarán más ferias y mercados?Visita nuestro Calendario de Eventos para obtener detalles de: Calendario 2025: Planifica con anticipación y no te pierdas ninguna cita. \n\n\n\n \n\n\n\n\n\n\n\nLos Mercados y Ferias Medievales\n\n\n\nLas ferias medievales son auténticos viajes en el tiempo. Estos eventos recrean la atmósfera de la Edad Media. Leer más… \n\n\n\n\n\n\n\n\nMERCADOS MEDIEVALES Y TEMATICOS \n\n\n\nInformación de los próximos mercados medievales\, temáticos\, de artesanía a nivel nacional además de ofrecer información sobre servicios de alquiler de casetas\, venta de paradas\, cooperativas\, decoración y más. \n\n\n\nwww.mercados medievales.net \n\n\n\n \n\n\n\n \n\n\n\n \n\n\n\n\n\n\nOrganizador\n\n\n\n\n\nLocalización\n\n\n\nOliva es un municipio de la Comunidad Valenciana\, España. Está situado en el sureste de la provincia de Valencia\, en la comarca de la Safor\, limitando con la provincia de Alicante. Cuenta con 25 558 habitantes.​
URL:https://demercadosmedievales.info/mercadomedieval/viii-feria-modernista-y-calderos-tradicionales-de-oliva-valencia-2025/
LOCATION:Oliva ( Valencia ) (***)\, en el centro historico\, Oliva\, Valencia\, España
CATEGORIES:Mercado modernista,Porrats,Valencia
ATTACH;FMTTYPE=image/jpeg:https://demercadosmedievales.info/wp-content/uploads/2024/11/feria_modernista_oliva_2025_f.jpg
ORGANIZER;CN="Arcome":MAILTO:ferias.arcome@gmail.com // ad.arcome@gmail.com
GEO:39.4782333;-0.380187
X-APPLE-STRUCTURED-LOCATION;VALUE=URI;X-ADDRESS=Oliva ( Valencia ) (***) en el centro historico Oliva Valencia España;X-APPLE-RADIUS=500;X-TITLE=en el centro historico:geo:-0.380187,39.4782333
END:VEVENT
END:VCALENDAR