BEGIN:VCALENDAR
VERSION:2.0
PRODID:-//Mercados Medievales - ECPv6.15.20//NONSGML v1.0//EN
CALSCALE:GREGORIAN
METHOD:PUBLISH
X-ORIGINAL-URL:https://demercadosmedievales.info
X-WR-CALDESC:Eventos para Mercados Medievales
REFRESH-INTERVAL;VALUE=DURATION:PT1H
X-Robots-Tag:noindex
X-PUBLISHED-TTL:PT1H
BEGIN:VTIMEZONE
TZID:Europe/Madrid
BEGIN:DAYLIGHT
TZOFFSETFROM:+0100
TZOFFSETTO:+0200
TZNAME:CEST
DTSTART:20230326T010000
END:DAYLIGHT
BEGIN:STANDARD
TZOFFSETFROM:+0200
TZOFFSETTO:+0100
TZNAME:CET
DTSTART:20231029T010000
END:STANDARD
BEGIN:DAYLIGHT
TZOFFSETFROM:+0100
TZOFFSETTO:+0200
TZNAME:CEST
DTSTART:20240331T010000
END:DAYLIGHT
BEGIN:STANDARD
TZOFFSETFROM:+0200
TZOFFSETTO:+0100
TZNAME:CET
DTSTART:20241027T010000
END:STANDARD
BEGIN:DAYLIGHT
TZOFFSETFROM:+0100
TZOFFSETTO:+0200
TZNAME:CEST
DTSTART:20250330T010000
END:DAYLIGHT
BEGIN:STANDARD
TZOFFSETFROM:+0200
TZOFFSETTO:+0100
TZNAME:CET
DTSTART:20251026T010000
END:STANDARD
END:VTIMEZONE
BEGIN:VEVENT
DTSTART;VALUE=DATE:20240419
DTEND;VALUE=DATE:20240422
DTSTAMP:20260420T111006
CREATED:20240210T123242Z
LAST-MODIFIED:20250201T203315Z
UID:10000891-1713484800-1713743999@demercadosmedievales.info
SUMMARY:19 al 21 de Abril 2024 Mercado Circense Las Lagunas de Mijas (Malaga) 2024
DESCRIPTION:Mercado Circense con espectáculos de circo\,  de fuego\,  de telas acrobáticas\,  de malabares\, talleres infantiles\, títeres\, ludoteca..\n\n\n\n\n\nMercado Circense Las Lagunas de Mijas\n\n\n\n\n\n\n\n\n\nFecha de inicio y finalización\n\n\n\n\nDel 19 al 21 de Abril 2024\n\n\n\n\n\n\n\n\nPlazo de Inscripción ( Hasta que día se pueden apuntar los artesanos y mercaderes)*\n\n\n\n\nHasta completar plazas\n\n\n\n\n\n\n\n\nLocalidad y Provincia\n\n\n\n\nLas Lagunas de Mijas (Mijas\, MALAGA) – Las Lagunas es una localidad española del municipio de Mijas\, en la provincia de Málaga. También se le conoce como Mijas Costa\, aunque este nombre es igualmente utilizado para designar a toda la zona sur del municipio\, incluyendo los núcleos de La Cala de Mijas y Calahonda.\n\n\n\n\n\n\n\n\nUbicación dentro de la localidad (calle\, Plaza\, vía\, etc.)\n\n\n\n\nPlaza de la Candelaria\n\n\n\n\n\n\n\n\n\nDescripción del Evento :\nPasen ¡¡Pasen y vean!! Ven a disfrutar en familia de un circo a pie de calle. Te esperamos el 19\, 20 y 21 de abril en la Plaza de la Candelaria.\n\n\n\n\nHabrá espectáculos de circo: contamos con la compañía cántabra «V de Banana»\, Espectáculo de fuego\, Espectáculos de telas acrobáticas\, Espectáculos de malabares\, talleres infantiles\, títeres\, ludoteca….¿ Te lo vas a perder ? \nLa Plaza de la Candelaria se encuentra en el corazón de las Lagunas \, zona de tránsito y de núcleo de población local\, colegios\, supermercados…. Tiene una población censada de unos 49.000 habitantes y siendo uno de los tres núcleo de Mijas (junto a Mijas pueblo y Mijas Costa).\nSe pretende dar una difusión que llegue a cada una de las casas\, colegios y demás locales. Si quieres participar escríbenos!\n\n\n\n\n\n\n\n\n\nDia y hora de Montaje :\n\n\n\n\nViernes 19 de abril durante la mañana\nFecha y hora de Inauguración\n\n\n\n\n\n\n19 de abril en horario de tarde\n\n\n\n\n\n\n\n\n\nEl organizador proveerá de :\n\n\n\n\n\n\n\n\n\n 	Seguridad\n 	Agua\n 	Electricidad\n 	Otro: Espectáculos\n\n\n\n\n\n\n\n\n\n\n\n\n\n\nOrganizador :*\n\n\n\n\n\n Malik Mercados Temáticos\n Como participar ?  Llama al Teléfono 657665994 / 676928928 ó escribe al mail  asociacionmalik@hotmail.com para informarte como participar.\n\n\n\n\n\n\n\n\n\n\n\n\n\n\n\n\n\n\n\n\n\n\nCartel del Mercado Circense\n\n\n\n\n\nMercado Circense\nUn mercado circense es un evento festivo que combina la magia del circo con la atmósfera vibrante de un mercado tradicional. Es un espacio donde se mezclan diferentes expresiones artísticas\, creando una experiencia única para toda la familia.\n\nLo que puedes encontrar en un mercado circense:\n\n 	Espectáculos circenses: Acrobacias\, malabares\, payasos\, trapecistas\, magia y mucho más.\n 	Talleres: Aprende diferentes habilidades circenses\, como acrobacias\, malabares o hula hoop.\n 	Música en vivo: Disfruta de bandas\, DJs o artistas callejeros que amenizarán el ambiente.\n 	Gastronomía: Degusta una variedad de comida y bebida de diferentes países y culturas.\n 	Artesanías: Encuentra productos únicos y originales hechos a mano por artesanos locales.\n 	Juegos y actividades para niños: Un espacio para que los más pequeños se diviertan con juegos tradicionales\, pintacaras\, globoflexia y mucho más.\n\nMercados Medievales de Malaga\, Mercado Circense\, España\,Andalucia\,Malga\,Mijas\, Lagunas de Mijas\,
URL:https://demercadosmedievales.info/mercadomedieval/19-al-21-de-abril-2024-mercado-circense-las-lagunas-de-mijas-malaga-2024/
LOCATION:Las Lagunas de Mijas (Málaga) (***)\, Plaza de la Candelaria en Lagunas de Mijas\, Mijas\, Málaga\, 29650\, España
CATEGORIES:Cartel,Malaga,Malik mercados tematicos,Mercado Circense
ATTACH;FMTTYPE=image/jpeg:https://demercadosmedievales.info/wp-content/uploads/2024/02/mercado-circense-las-lagunas-de-mijas-2024-f.jpg
ORGANIZER;CN="Malik Culture Eventos":MAILTO:asociacionmalim@hotmail.com
GEO:36.5967755;-4.6323067
X-APPLE-STRUCTURED-LOCATION;VALUE=URI;X-ADDRESS=Las Lagunas de Mijas (Málaga) (***) Plaza de la Candelaria en Lagunas de Mijas Mijas Málaga 29650 España;X-APPLE-RADIUS=500;X-TITLE=Plaza de la Candelaria en Lagunas de Mijas:geo:-4.6323067,36.5967755
END:VEVENT
BEGIN:VEVENT
DTSTART;VALUE=DATE:20240404
DTEND;VALUE=DATE:20240408
DTSTAMP:20260420T111006
CREATED:20240130T053845Z
LAST-MODIFIED:20240327T132724Z
UID:10000834-1712188800-1712534399@demercadosmedievales.info
SUMMARY:Mercado Medieval de Nerja (Malaga)
DESCRIPTION:¡Atención! Mercado Medieval de Nerja aplazado al 4 al 7 de abril.\nDebido a las condiciones meteorológicas\, el Mercado Medieval de Nerja se ha aplazado del 28 al 31 de marzo al 4 al 7 de abril de 2024. \n \nDurante la semana santa se realizará en Nerja un mercado medieval que contará con una programación variada para todo el público aprovechando el turismo que acoge la localidad. \n\n\n\n\n\n\n Detalles del Mercado Medieval\nCARTEL del Mercado Medieval\n  \n\n\n Fecha de inicio y finalización*\n\n\n\n\n\nEl MERCADO MEDIEVAL se celebrará del  04 al 07 de Abril 2024\n\n\n\n\n\n\n\n\n\n Plazo de Inscripción ( Hasta que día se pueden apuntar los artesanos y mercaderes)*\n\n\n\n\nHasta completar plaza\n\n\n\n\n\n\n\n\n\n Localidad y Provincia\n\n\n\n\nNerja ( MALAGA )\n\n\n\n\n\n\n\n\n\n Ubicación dentro de la localidad (calle\, Plaza\, vía\, etc.)\n\n\n\n\nPlaza España\n\n\n\n\n\n\n\n\n\n Descripción del Evento :\n\n\n\n\nEl mercado medieval contará con una programación variada para todo el público aprovechando el turismo que acoge la localidad. El municipio de Nerja se encuentra en la parte más oriental de la provincia de Málaga\, en la Costa del Sol. Originariamente musulmán\, este municipio es el lugar escogido por cada vez más turistas que quieren no solo disfrutar de la playa y del buen tiempo\, sino de la belleza del paisaje y la hospitalidad de sus gentes. (extraído de https://www.malagacar.com/sp/informacion/malaga/pueblos/nerja.htm)\n\n\n\n\n\n\n\n\n\n\n\n\n\n\n\n Dia y hora de Montaje :\n\n\n\n\nMiércoles 03 de Abril en horario de tarde\n\n\n\n\n\n\n\n\n\nFecha y hora de Inauguración\n\n\n\n\nJueves 04 de Abril a la mañana\n\n\n\n\n\n\n\n\n\n\n\n\n\n\n\n\n\n\n\n\n\n El organizador proveerá de :\n\n\n\n\n\n\n\n\n\nSeguridad\nAgua\nElectricidad\nOtro: Animación\n\n\n\n\n\n\n\n\n\n\n\n\n\n\n\n\n\n\n\n\n  Organizador del Mercado Medieval :\nMalik Mercados Temáticos\n\n\n\n\n\n\n\n\n\n\nTeléfono 657665994 / 676928928\n\n\n\n\n\n\n\n\n\n\nEmail asociacionmalik@hotmail.com\n\n\n\n\n\n\n\n\n\n\n\n\n\n\n\n\n\n\n\n\n\n\n\n  Requisitos de participación y precio :\n\n\n\n\n¡Consulta las bases escribiéndonos por teléfono o mediante correo: asociacionmalik@hotmail.com !\n\n\n\n\n\n\n\n\n\n Acerca de Nerja\nNerja es un municipio de la provincia de Málaga (España) y el pueblo más oriental de la comarca de la Axarquía. Está situado a unos 52 kilómetros al este de la ciudad de Málaga\, y a unos 100 kilómetros de Granada. \n\nCalendario de Mercado Medieval y Ferias 2024 :\n\n\nEnero\nFebrero\nMarzo\nAbril\nMayo\nJunio\nJulio\nAgosto\nSeptiembre\nOctubre\nNoviembre\nDiciembre\n\nLas Ferias y mercados medievales\n\n\nLas Ferias y mercados medievales son eventos populares que recrean el ambiente y la atmósfera de la Edad Media. \n\n\n\nDurante estas Ferias y mercados medievales\, se recrea un pueblo o una ciudad medieval\, con puestos de artesanía\, alimentos\, entretenimiento y actividades relacionadas con la época. Los participantes\, vestidos con trajes medievales\, venden productos tradicionales como joyería\, armas\, vestimenta\, objetos de cuero\, cerámica y otros productos artesanales.\nLos alimentos y bebidas también desempeñan un papel importante en las ferias medievales.  + Leer más \n\n\n\n\n\n  \nMercados Medievales de Malaga\, Mercado Medieval de Estepona\, España\,Andalucia\,Malaga\,Estepona\,
URL:https://demercadosmedievales.info/mercadomedieval/28-al-31-de-marzo-2024-mercado-medieval-de-nerja-malaga/
LOCATION:Nerja (Málaga) (***)\, Nerja\, Málaga\, 29780\, España
CATEGORIES:Malaga,Malik mercados tematicos,Mercado Medieval
ATTACH;FMTTYPE=image/jpeg:https://demercadosmedievales.info/wp-content/uploads/2024/01/medieval_nerja_2024_552x276.jpg
ORGANIZER;CN="Malik Culture Eventos":MAILTO:asociacionmalim@hotmail.com
GEO:36.756395;-3.8727496
END:VEVENT
BEGIN:VEVENT
DTSTART;VALUE=DATE:20240209
DTEND;VALUE=DATE:20240212
DTSTAMP:20260420T111006
CREATED:20240121T134428Z
LAST-MODIFIED:20240207T044820Z
UID:10000789-1707436800-1707695999@demercadosmedievales.info
SUMMARY:Suspendido el Mercado Carnavalesco de Estepona 2024 (Málaga)
DESCRIPTION:El Mercado Carnavalesco de Estepona se ha suspendido\, debido a la previsión climatológica para el fin de semana del 09 al 11 de febrero del 2024. \nMercado Carnavalesco en la Plaza del Ajedrez de Estepona\, coincidiendo con la celebración del Carnaval 2024\, donde habrá puestos de artesanía\, gastronomía\, charanga\, comparsas\, chirigotas\, circo\, espectáculo de fuego\, talleres…. \n \n\n\n\n\n\n Detalles del Evento \n\n\n\n\nMercado Carnavalesco de Estepona\nFecha de inicio y finalización\n\n\n\n\n\n\nDesde el 9 al 11 de febrero del 2024 El Mercado Carnavalesco de Estepona se ha suspendido\, debido a la previsión climatológica para el fin de semana del 09 al 11 de febrero del 2024.\n\n\n\n\n\n\n\n\n\nPlazo de Inscripción ( Hasta que día se pueden apuntar los artesanos y mercaderes)\n\n\n\n\nHasta completar plazas según producto\n\n\n\n\n\n\n\n\n\nLocalidad y Provincia\n\n\n\n\nEstepona\, Málaga\n\n\n\n\n\n\n\n\n\nUbicación dentro de la localidad (calle\, Plaza\, vía\, etc.)\n\n\n\n\nPlaza del Ajedrez\n\n\n\n\n\n\n\n\n\nDescripción del Mercado Carnavalesco :\n\n\n\n\nLa Plaza del Ajedrez acogerá durante los días 9\, 10 y 11 de febrero un Mercado Carnavalesco\, coincidiendo con la celebración del Carnaval 2024\, donde habrá puestos de artesanía\, gastronomía\, charanga\, comparsas\, chirigotas\, circo\, espectáculo de fuego\, talleres….\n\n\n\n\n\n\n\n\n\n Dia y hora de Montaje :\n\n\n\n\n9 de febrero a las 9:00 AM\n\n\n\n\n\n\n\n\n\nFecha y hora de Inauguración\n\n\n\n\n9 de febrero a las 17:00 PM\n\n\n\n\n\n\n\n\n\nEl organizador proveerá de :\n\n\n\n\n\n\n\n\n\nSeguridad\nAgua\nElectricidad\nOtro: Animación\n\n\n\n\n\n\n\n\n\n\n\n\n\n\nOrganizador del Mercado Carnavalesco :\nMalik Mercados Temáticos\n\n\n\n\n\n\n\n\n\n\nTeléfono 657665994 / 676928928\n\n\n\n\n\n\n\n\n\n\nEmail asociacionmalik@hotmail.com\n\n\n\n\n\n\n\n\n\n\n\n\n\n\n\n\n\n\n\n\n\n\nRequisitos de participación en Mercado Carnavalesco de Estepona 2024 y  Precio\n\n\n\n\nConsúltanos escribiéndonos al wasap o al correo electrónico: asociacionmalik@hotmail.com\n\n\n\n\n\nCartel del Mercado Carnavalesco de Estepona 2024\n \nPrograma del Mercado Carnavalesco de Estepona 2024\n\n\n\n\nAcerca deEstepona\nEstepona es una localidad turística ubicada en la Costa del Sol\, en el sur de España. El paseo marítimo está repleto de palmeras y discurre junto a la playa de la Rada.\nEn el cercano puerto deportivo hay restaurantes e instalaciones de deportes acuáticos. Cerca también hay un puerto pesquero y la playa del Cristo.\nEl casco antiguo está lleno de edificios encalados y su centro es la plaza de las Flores\, donde se encuentran las eclécticas obras de arte de la Colección Garó. \n\n\n\n\n\n\n\n\n\n\n\nFerias y mercados medievales\n\n\nLas Ferias y mercados medievales son eventos populares que recrean el ambiente y la atmósfera de la Edad Media. \nEstos eventos suelen tener lugar en diferentes partes de España y atraen a numerosos visitantes que desean sumergirse en la historia y disfrutar de una experiencia única. \n\n\n\nDurante estas Ferias y mercados medievales\, se recrea un pueblo o una ciudad medieval\, con puestos de artesanía\, alimentos\, entretenimiento y actividades relacionadas con la época.\nLos participantes\, vestidos con trajes medievales\, venden productos tradicionales como joyería\, armas\, vestimenta\, objetos de cuero\, cerámica y otros productos artesanales. Los alimentos y bebidas también desempeñan un papel importante en las ferias medievales.  + Leer más \n\n\n\n\n\n  \nMercados Medievales de Malaga\, Mercado Carnavalesco de Estepona\, Estepona\, Malaga\, Andalucia\,
URL:https://demercadosmedievales.info/mercadomedieval/mercado-carnavalesco-de-estepona-2024-malaga/
LOCATION:Estepona (Málaga) (***)\, en el centro\, Estepona\, Malaga\, España
CATEGORIES:Malaga,Malik mercados tematicos,Mercado Medieval
ATTACH;FMTTYPE=image/png:https://demercadosmedievales.info/wp-content/uploads/2024/01/mercado-carnavalesco-estepona-2024-f.png
ORGANIZER;CN="Malik Culture Eventos":MAILTO:asociacionmalim@hotmail.com
GEO:36.4256345;-5.1510261
X-APPLE-STRUCTURED-LOCATION;VALUE=URI;X-ADDRESS=Estepona (Málaga) (***) en el centro Estepona Malaga España;X-APPLE-RADIUS=500;X-TITLE=en el centro:geo:-5.1510261,36.4256345
END:VEVENT
END:VCALENDAR