BEGIN:VCALENDAR
VERSION:2.0
PRODID:-//Mercados Medievales - ECPv6.15.20//NONSGML v1.0//EN
CALSCALE:GREGORIAN
METHOD:PUBLISH
X-WR-CALNAME:Mercados Medievales
X-ORIGINAL-URL:https://demercadosmedievales.info
X-WR-CALDESC:Eventos para Mercados Medievales
REFRESH-INTERVAL;VALUE=DURATION:PT1H
X-Robots-Tag:noindex
X-PUBLISHED-TTL:PT1H
BEGIN:VTIMEZONE
TZID:Europe/Madrid
BEGIN:DAYLIGHT
TZOFFSETFROM:+0100
TZOFFSETTO:+0200
TZNAME:CEST
DTSTART:20230326T010000
END:DAYLIGHT
BEGIN:STANDARD
TZOFFSETFROM:+0200
TZOFFSETTO:+0100
TZNAME:CET
DTSTART:20231029T010000
END:STANDARD
BEGIN:DAYLIGHT
TZOFFSETFROM:+0100
TZOFFSETTO:+0200
TZNAME:CEST
DTSTART:20240331T010000
END:DAYLIGHT
BEGIN:STANDARD
TZOFFSETFROM:+0200
TZOFFSETTO:+0100
TZNAME:CET
DTSTART:20241027T010000
END:STANDARD
BEGIN:DAYLIGHT
TZOFFSETFROM:+0100
TZOFFSETTO:+0200
TZNAME:CEST
DTSTART:20250330T010000
END:DAYLIGHT
BEGIN:STANDARD
TZOFFSETFROM:+0200
TZOFFSETTO:+0100
TZNAME:CET
DTSTART:20251026T010000
END:STANDARD
END:VTIMEZONE
BEGIN:VEVENT
DTSTART;VALUE=DATE:20240531
DTEND;VALUE=DATE:20240603
DTSTAMP:20260420T094807
CREATED:20240129T092856Z
LAST-MODIFIED:20240523T105208Z
UID:10000832-1717113600-1717372799@demercadosmedievales.info
SUMMARY:Mercado Barroco de La Granja 2024 (Segovia) 31 de Mayo al 02 de Junio
DESCRIPTION:La XXII edición del Mercado Barroco de La Granja de San Ildefonso se celebrará del 31 de Mayo al 02 de de junio de 2024.   Se trata de una recreación de la vida cotidiana en el siglo XVIII\, época en la que el sitio era una de las residencias favoritas de la familia real española. \n \nMercado Barroco\n \nEl Mercado Barroco de La Granja es un evento que se celebra anualmente en el Real Sitio de San Ildefonso\, en la provincia de Segovia\, España. \nDetalles\nCuando se celebra ?\nSera los días del 31 de Mayo al 02 de Junio del 2024 \nEn que localidad y provincia ?\nEn el municipio de La Granja de San Ildefonso\, provincia de SEGOVIA \, Comunidad autónoma de Castilla y León \nCual será la ubicación ? \nEn Plaza de los Dolores\, calle Reina y Calle Valenciana en el centro histórico de La Granja de San Ildefonso \nOrganizador\nLa empresa MUSICAL SPORT es la encargada de la organización y gestión de paradas/puestos de venta.\nInformación e Inscripciones\nartesanos@musicalsport.com \nEn Resumen…\nLa XXII edición del Mercado Barroco de La Granja de San Ildefonso se celebrará del 31 de Mayo al 02 de de junio de 2024\, en Plaza de los Dolores\, calle Reina y Calle Valenciana y será organizado por  MUSICAL SPORT \, la decoración y ambientación será de temática barroca.\nInformación e Inscripciones\nartesanos@musicalsport.com \nAcerca de La Granja de San Ildefonso\nEl Real Sitio de San Ildefonso\, también conocido como La Granja\,​ es un municipio español de la provincia de Segovia\, en la comunidad autónoma de Castilla y León. El municipio comprende las poblaciones de San Ildefonso o La Granja\, La Pradera de Navalhorno\, Valsaín y Riofrío. \nSe encuentra situada a siete km de Segovia capital\, al pie de las montañas del sistema Central\, que separa la provincia de Segovia de la de Madrid (villa a 50 km de la que dista 76 km por el puerto de Navacerrada y 80 km por el túnel del puerto de Guadarrama). \n\nCalendario 2024\n\nFerias y mercados medievales\n\n\nLas Ferias y mercados medievales son eventos populares que recrean el ambiente y la atmósfera de la Edad Media. Durante estas Ferias y mercados medievales\, se recrea un pueblo o una ciudad medieval\, con puestos de artesanía\, alimentos\, entretenimiento y actividades relacionadas con la época. Los participantes\, vestidos con trajes medievales\, venden productos tradicionales como joyería\, armas\, vestimenta\, objetos de cuero\, cerámica y otros productos artesanales. Los alimentos y bebidas también desempeñan un papel importante en las ferias medievales.  + Leer más \n\n\n\n 
URL:https://demercadosmedievales.info/mercadomedieval/31-de-mayo-al-02-de-junio-mercado-barroco-de-la-granja-2024-segovia/
LOCATION:La Granja de San Ildefonso (Segovia) (***)\, en el centro histórico\, La Granja de San Ildefonso\, Segovia\, España
CATEGORIES:Feria barroca,Segovia
ATTACH;FMTTYPE=image/jpeg:https://demercadosmedievales.info/wp-content/uploads/2024/01/barroco_la_granja_facebook.jpg
ORGANIZER;CN="Musical Sport":MAILTO:artesanos@musicalsport.com
GEO:40.9021088;-4.0071683
X-APPLE-STRUCTURED-LOCATION;VALUE=URI;X-ADDRESS=La Granja de San Ildefonso (Segovia) (***) en el centro histórico La Granja de San Ildefonso Segovia España;X-APPLE-RADIUS=500;X-TITLE=en el centro histórico:geo:-4.0071683,40.9021088
END:VEVENT
BEGIN:VEVENT
DTSTART;VALUE=DATE:20240501
DTEND;VALUE=DATE:20240506
DTSTAMP:20260420T094807
CREATED:20240129T064300Z
LAST-MODIFIED:20240427T175007Z
UID:10000830-1714521600-1714953599@demercadosmedievales.info
SUMMARY:Programación de la Feria Medieval de La Adrada (Avila) 01 al 05 de Mayo 2024
DESCRIPTION:La Feria Medieval contará con un amplio programa de actividades de animación\,  música\, teatro de calle\, espectáculos nocturnos de gran formato\, personajes\, rincón infantil\, atracciones\, oficios tradicionales… una completa programación para un gran mercado. \n \nFeria Medieval\nXXII EDICIÓN\n1\, 2\, 3\, 4 Y 5 DE MAYO\nPUENTE DE MAYO \nUn año más\, La Fragua de Vulcano será la organizadora de este Mercado que en esta ocasión celebrará su XXII Edición\, un evento que desde hace más de dos décadas se celebra coincidiendo con el Puente de Mayo en toda España\, y el día de la Comunidad de Madrid.\n\n\nEste mercado contará con un amplio programa de actividades de animación\,  música\, teatro de calle\, espectáculos nocturnos de gran formato\, personajes\, rincón infantil\, atracciones\, oficios tradicionales… una completa programación para un gran mercado. \n\n🎫 Cartel\n \n  \n📋 Programación \nMiércoles 01 de Mayo\n  \nJueves 02 de Mayo\n  \nViernes 03 de Mayo\n  \nLos dias sábado 04 y el domingo 05 de mayo\n  \n🏰Información detallada del Evento\n💬Fechas\, Localidad y ubicación\nCuando se celebra ?\n01 al 05 de Mayo del 2024 \nEn que localidad y provincia ?\nEn el municipio de La Adrada \, provincia de  AVILA  \, Comunidad autónoma de Castilla y León \nCual será la ubicación ? \nPlaza de la Villa y alrededores. Centro Histórico. \n\n👤 Organizador de la Feria Medieval\n\nLA FRAGUA DE VULCANO es la empresa encargada de la organización y gestión de paradas/puestos de venta\, además de la decoración medieval así como también de  la ambientación.\n\n\nMontaje e Inauguración\nEl Montaje del Mercado será por turnos los días Lunes 29 / Martes 30 de Abril. \nComo participar\nPara inscribirte y participar en este Mercado Medieval\,pueden enviar un email a : gestion@espectaculosamb.com lafragua@espectaculosamb.com  indicando en el asunto Mercado Medieval de La Adrada \n\nInformación e Inscripciones:\ngestion@espectaculosamb.com \nlafragua@espectaculosamb.com \n  \n Acerca de La Adrada\nLa Adrada es un municipio y localidad española del sur de la provincia de Ávila\, en la comunidad autónoma de Castilla y León. \n Descripción de la Feria Medieval\nDesde el 2001 se viene celebrando en La Adrada\, durante el puente de mayo\, la feria medieval. El pueblo se llena de puestos de artesanía y banderines de colores. Ocas\, burros\, patos y hasta dragones recorren las calles adoquinadas del centro. Hay exhibición de tiro con arco\, concurso de trajes medievales y mucha animación (cuentacuentos\, teatro\, bailes\, fuegos artificiales). ¡Ya es un evento tradicional para los habitantes del pueblo! \nSABIAS QUE EN LA ADRADA HAY UN CASTILLO ?\nSu monumento más importante es el castillo de La Adrada\, del siglo xiv y recientemente restaurado\, que alberga el Centro de Interpretación Histórica del Valle del Tiétar. Este castillo perteneció a Álvaro de Luna\, valido del rey Juan II de Castilla. \n\n \n Las Ferias y mercados medievales\n\n\nLas Ferias y mercados medievales son eventos populares que recrean el ambiente y la atmósfera de la Edad Media. \n\n\n\nDurante estas Ferias y mercados medievales\, se recrea un pueblo o una ciudad medieval\, con puestos de artesanía\, alimentos\, entretenimiento y actividades relacionadas con la época. Los participantes\, vestidos con trajes medievales\, venden productos tradicionales como joyería\, armas\, vestimenta\, objetos de cuero\, cerámica y otros productos artesanales.\nLos alimentos y bebidas también desempeñan un papel importante en las ferias medievales.  + Leer más \nCalendario 2024 :\n\n\nEnero\nFebrero\nMarzo\nAbril\nMayo\nJunio\nJulio\nAgosto\nSeptiembre\nOctubre\nNoviembre\nDiciembre\n\nTags : Mercados Medievales de Castilla y Leon\, Mercados Medievales de Avila\, Mercado Medieval de La Adrada\, España\, Castilla y Leon\, Avila\, La Adrada\,
URL:https://demercadosmedievales.info/mercadomedieval/01-al-05-de-mayo-2024-feria-medieval-de-la-adrada-avila/
LOCATION:La Adrada (Ávila) (***)\, La Adrada\, Ávila\, 05430\, España
CATEGORIES:Avila,Cartel,La Fragua de Vulcano,Mercado Medieval,Programación
ATTACH;FMTTYPE=image/jpeg:https://demercadosmedievales.info/wp-content/uploads/2024/01/medieval_la_adrada_Post_940-x-673.jpg
ORGANIZER;CN="La Fragua de Vulcano":MAILTO:lafragua@espectaculosamb.com
GEO:40.2995582;-4.6365342
END:VEVENT
BEGIN:VEVENT
DTSTART;TZID=Europe/Madrid:20240201T000000
DTEND;TZID=Europe/Madrid:20240204T235959
DTSTAMP:20260420T094807
CREATED:20240121T185140Z
LAST-MODIFIED:20250104T111929Z
UID:10000796-1706745600-1707091199@demercadosmedievales.info
SUMMARY:Mercado Tradicional de las Candelas de Palencia (Palencia) 2024
DESCRIPTION:El Mercado Tradicional de las Candelas es desde hace muchos años una importante feria de artesanía y gastronomía\, que coincide con la festividad del 2 de febrero. \n \n+ Detalles del Mercado Tradicional\nCuando se celebra ?\n01 al 04 de Febrero del 2024 \nEn que localidad y Provincia \nEn Palencia capital \nQuien organiza ?\nTEMPUS AEVUS   en colaboración con Claxon\nCONTACTO :\nE-Mail:  tempusaevus@gmail.com\nTelf.: 622 712 382 \nPara saber el precio ?\nConsultar con el organizador del Mercado de la Matanza \nComo debe ser el Vestuario y decoración de la parada: \nDebe ser del campo \nCual es la ubicación ?\nplaza del ayuntamiento y plaza de la iglesia \nOBSERVACIONES: no se pueden llevar motivos medievales\, hay que esconderlos o quitarlos y hay que decorar con cosas rusticas\, del campo\, etc.. \n \nQue festividad se celebra el 02 de Febrero ?\nNtra. Sra. de la Calle \nEl día 2 de febrero celebra Palencia la fiesta de su patrona\, la Virgen de la Calle. En la parroquia de su nombre\, conocida también por «La Compañía» de Jesús\, se venera su imagen: una Virgen morena que sostiene a su Hijo en brazos\, a la que los palentinos dedican una fervorosa novena en los días anteriores a su fiesta. \nEl día de las Candelas\, tras realizar la bendición de las candelas\, «la Morenilla» en carroza\, sale de su santuario  y\, en medio de la devoción popular\, es llevada en procesión hasta la Catedral\, donde se le rinde un entrañable homenaje . \nCelebrada la solemne misa\, regresa la Virgen de la Calle a su parroquia donde se le hace una ofrenda  floral . \nAcerca de Palencia\nPalencia es un municipio y ciudad española\, capital de la provincia homónima\, en la comunidad autónoma de Castilla y León. Se encuentra situada en la llanura de la Tierra de Campos\, a orillas del río Carrión. \n  \n  \n 
URL:https://demercadosmedievales.info/mercadomedieval/mercado-tradicional-de-las-candelas-de-palencia-palencia-2024/
LOCATION:Segovia
CATEGORIES:Feria tradicional,Mercado tradicional,Palencia,Palencia capital,Tempus Aevus
ATTACH;FMTTYPE=image/jpeg:https://demercadosmedievales.info/wp-content/uploads/2024/01/mercado_tradicional_candelas_2024_f.jpg
END:VEVENT
END:VCALENDAR