BEGIN:VCALENDAR
VERSION:2.0
PRODID:-//Mercados Medievales - ECPv6.15.20//NONSGML v1.0//EN
CALSCALE:GREGORIAN
METHOD:PUBLISH
X-ORIGINAL-URL:https://demercadosmedievales.info
X-WR-CALDESC:Eventos para Mercados Medievales
REFRESH-INTERVAL;VALUE=DURATION:PT1H
X-Robots-Tag:noindex
X-PUBLISHED-TTL:PT1H
BEGIN:VTIMEZONE
TZID:Europe/Madrid
BEGIN:DAYLIGHT
TZOFFSETFROM:+0100
TZOFFSETTO:+0200
TZNAME:CEST
DTSTART:20230326T010000
END:DAYLIGHT
BEGIN:STANDARD
TZOFFSETFROM:+0200
TZOFFSETTO:+0100
TZNAME:CET
DTSTART:20231029T010000
END:STANDARD
BEGIN:DAYLIGHT
TZOFFSETFROM:+0100
TZOFFSETTO:+0200
TZNAME:CEST
DTSTART:20240331T010000
END:DAYLIGHT
BEGIN:STANDARD
TZOFFSETFROM:+0200
TZOFFSETTO:+0100
TZNAME:CET
DTSTART:20241027T010000
END:STANDARD
BEGIN:DAYLIGHT
TZOFFSETFROM:+0100
TZOFFSETTO:+0200
TZNAME:CEST
DTSTART:20250330T010000
END:DAYLIGHT
BEGIN:STANDARD
TZOFFSETFROM:+0200
TZOFFSETTO:+0100
TZNAME:CET
DTSTART:20251026T010000
END:STANDARD
END:VTIMEZONE
BEGIN:VEVENT
DTSTART;VALUE=DATE:20240423
DTEND;VALUE=DATE:20240424
DTSTAMP:20260422T000759
CREATED:20240202T052033Z
LAST-MODIFIED:20240214T110052Z
UID:10000847-1713830400-1713916799@demercadosmedievales.info
SUMMARY:23 de Abril 2024 Mercado Medieval San Jorge 2024 de Quinto (Zaragoza)
DESCRIPTION:Quinto vuelve a organizar uno de los mayores eventos festivos del municipio. El próximo martes 23 de abril\, la plaza Vieja y alrededores se convertirá en un mercado medieval\, \n \n Detalles del Mercado Medieval\nCuando se celebra ? \nLos dias 23 de abril del  2024. De 10 a 14 y de 16 a 20 HORAS. \nPlazo de Inscripción ( Hasta que día se pueden apuntar los artesanos y mercaderes)\nPlazo de inscripción hasta el 29 de marzo de 2024. \nEn que localidad y provincia ? \nEn el municipio de Quinto en la  provincia de ZARAGOZA \nCual será la ubicación ?  \nSu ubicación será la Plaza vieja y sus alrededores \nDescripción del Evento :\nQuinto vuelve a organizar uno de los mayores eventos festivos del municipio. El próximo martes 23 de abril\, la plaza Vieja y alrededores se convertirá en un mercado medieval con actuaciones\, ambientación y decenas de puestos de venta. \nDia y hora de Montaje :\nEl puesto deberá estar montado a las 9:30h \nFecha y hora de Inauguración\n23 de abril a las 10h. \n Quién lo organiza ? \nAyuntamiento de Quinto\nTeléfono : 682791905\nEmail : tecnicocultura@quinto.es \nEl organizador proveerá de los siguientes servicios para los artesanos : \n\nELECTRICIDAD\n\nRequisitos de participación\nSe pedirá vuestra colaboración con un producto de los que tenéis a la venta y así hacer un sorteo para poder financiar el mercado. \nDecoración : El Mercado es de temática medieval\, por lo que todos los puestos deberán de ir acordes con el estilo\, no estando permitido los cenadores de jardín\, ni las mesas\, cubiertas con banderas. Al igual que los vendedores deberán ir vestidos acordes a la temática. (más requisitos en la hoja de solicitud) \nDescárgate la Hoja de Solicitud  (está en formato PDF) :  Hoja de solicitud del Mercado Medieval San Jorge de Quinto 2024 \nhttps://www.quinto.es/wp-content/uploads/2024/01/SolicitudMercadoMedievalSanJorge2024.pdf \nPrecio\n20€ de fianza que el día del mercado se devolverán \nCartel del Mercado Medieval San Jorge 2024 de Quinto (Zaragoza)\nMercado Medieval San Jorge de Quinto (Zaragoza) 2024\n  \n  \n Acerca de Quinto\nQuinto es un municipio y localidad de España\, en la provincia de Zaragoza\, Aragón. Es capital de la comarca de la Ribera Baja del Ebro. \n  \n\nCalendario de Mercado Medieval y Ferias 2024 :\n\n\nEnero\nFebrero\nMarzo\nAbril\nMayo\nJunio\nJulio\nAgosto\nSeptiembre\nOctubre\nNoviembre\nDiciembre\n\n Las Ferias y mercados medievales\n\n\nLas Ferias y mercados medievales son eventos populares que recrean el ambiente y la atmósfera de la Edad Media. \n\n\n\nDurante estas Ferias y mercados medievales\, se recrea un pueblo o una ciudad medieval\, con puestos de artesanía\, alimentos\, entretenimiento y actividades relacionadas con la época. Los participantes\, vestidos con trajes medievales\, venden productos tradicionales como joyería\, armas\, vestimenta\, objetos de cuero\, cerámica y otros productos artesanales.\nLos alimentos y bebidas también desempeñan un papel importante en las ferias medievales.  + Leer más \n\n  \nMercados Medievales de Aragon\, Mercados Medievales de Zaragoza\, Aragon\,Zaragoza\, Quinto\,
URL:https://demercadosmedievales.info/mercadomedieval/23-de-abril-2024-mercado-medieval-san-jorge-2024-de-quinto-zaragoza/
LOCATION:Quinto (Zaragoza) (***)\, Quinto\, Zaragoza\, 50770\, Spain
CATEGORIES:Mercado Medieval,Zaragoza
ATTACH;FMTTYPE=image/jpeg:https://demercadosmedievales.info/wp-content/uploads/2024/02/Mercado-Medieval-Quinto-2024-f.jpg
ORGANIZER;CN="Ayuntamiento de Quinto":MAILTO:tecnicocultura@quinto.es
GEO:41.4249127;-0.4970165
END:VEVENT
BEGIN:VEVENT
DTSTART;VALUE=DATE:20240421
DTEND;VALUE=DATE:20240422
DTSTAMP:20260422T000759
CREATED:20240207T174808Z
LAST-MODIFIED:20240304T095849Z
UID:10000877-1713657600-1713743999@demercadosmedievales.info
SUMMARY:21 de abril 2024 Feria De Artesanos De La Faldeta De Fragua (Huesca) 2024
DESCRIPTION:Feria De Artesanos durante la celebración de la fiesta del día de la faldeta en Fraga\, de un solo día de duración. \n \n Detalles de la Feria De Artesanos de La Faldeta\nCuando se celebra ? El día 21 de abril 2024 del  2024\nEn que localidad y provincia ? en el municipio de Fraga provincia de HUESCA\nCual será la ubicación ? Paseo Barrón ( Centro Historico ) \n Descripción del evento\n Horario 10:00 horas – 15:00 horas / 16:30 horas – 20:30 horas\n Precio\nMáximo paradas en esta feria 30\nPlazas ocupadas : 5\nPlazas disponibles : 25 \n Quién lo organiza ? Linares Godia producciones\n Como participar ? Cómo Solicitar una parada\nInscripción en la Feria de Artesanos\nPuede solicitar una parada para mostrar y vender productos artesanos de fabricación propia en la Feria de Artesanos de Fraga\, a través de los siguientes medio de contacto :\nmercados@linaresgodiaproducciones.com\nJosé Luis Linares\nTelf.: 654.889.103 \nNota: Las paradas las pone la organización sin ningún tipo de coste para artesanos\nRequisitos : Para poder participar en nuestros mercados es imprescindible estar dado de alta en hacienda y la seguridad social\n«Si no esta dado de alta nos lo comunique para darle de baja de nuestra lista de difusión» \n Acerca de Día de la Faldeta de Fraga\nFoto de Turismo de Aragón\nNo te pierdas la celebración del Día de la Faldeta de Fraga\, jornada festiva en la que se ensalza el traje típico fragatino a través de la recreación de una boda tradicional del siglo XIX. Se celebra el domingo más próximo al 23 de abril. En el año 2024 será el 21 de Abril del 2024. \nLa celebracion del Día de la Faldeta de Fraga comenzó en el año 1977 y tiene lugar el domingo más próximo al 23 de abril. \nCon los años se ha convertido en el Día de exaltación del traje típico\, en el que todos los fragatinos lucen en las calles sus vestimentas centenarias\, las mujeres con sus siete faldas superpuestas\, mantones de manila\, maravillosa orfebrería y característicos peinados. \n¡Todo un espectáculo! \nAntiguamente ese traje era lucido de manera cotidiana en su versión de diario\, en la que predomina el color negro\, y está formado por siete faldas superpuestas\, corsé\, jubón\, mantilla y unos peinados denominados rosca y picaport. \nLa fiesta evoluciona en la línea de recuperación de vestimentas\, peinados y costumbres\, y se complementa con actividades de carácter etnológico\, costumbrista y festivo\, que se alargan durante las semanas anterior y posterior a dicho día con una participación de personas\, que ataviadas con el traje típico\, ronda la cifra de 600. \n Acerca de Fraga\nFraga es un municipio y ciudad española del sureste de la provincia de Huesca\, en la comunidad autónoma de Aragón. Ubicada en el último tramo del valle del río Cinca\, es cabeza de partido judicial y capital de la comarca del Bajo Cinca. El término municipal cuenta con 15 250 habitantes. \n\nCalendario de Mercado Medieval y Ferias 2024 :\n\n\nEnero\nFebrero\nMarzo\nAbril\nMayo\nJunio\nJulio\nAgosto\nSeptiembre\nOctubre\nNoviembre\nDiciembre\n\n Las Ferias y mercados medievales\n\n\nLas Ferias y mercados medievales son eventos populares que recrean el ambiente y la atmósfera de la Edad Media. \n\n\n\nDurante estas Ferias y mercados medievales\, se recrea un pueblo o una ciudad medieval\, con puestos de artesanía\, alimentos\, entretenimiento y actividades relacionadas con la época. Los participantes\, vestidos con trajes medievales\, venden productos tradicionales como joyería\, armas\, vestimenta\, objetos de cuero\, cerámica y otros productos artesanales.\nLos alimentos y bebidas también desempeñan un papel importante en las ferias medievales. \n\nMercados Medievales de Aragon\, Feria de artesanos\, España\, Aragon\, Huesca\, Fraga\, \n  \n 
URL:https://demercadosmedievales.info/mercadomedieval/21-de-abril-2024-feria-de-artesanos-de-la-faldeta-de-fragua-huesca-2024/
LOCATION:Fraga (Huesca) (***)\, Fraga\, Huesca\, 22520\, España
CATEGORIES:Feria de artesanía,Huesca
ATTACH;FMTTYPE=image/jpeg:https://demercadosmedievales.info/wp-content/uploads/2024/02/feria_faldeta_fraga_2024_f.jpg
ORGANIZER;CN="Linares Godia Producciones":MAILTO:mercados@linaresgodiaproducciones.com
GEO:41.5234875;0.3404468
END:VEVENT
BEGIN:VEVENT
DTSTART;VALUE=DATE:20240420
DTEND;VALUE=DATE:20240424
DTSTAMP:20260422T000759
CREATED:20240205T082012Z
LAST-MODIFIED:20240312T191425Z
UID:10000865-1713571200-1713916799@demercadosmedievales.info
SUMMARY:20 al 23 Abril Mercado Medieval de La Almunia De Doña Godina
DESCRIPTION:Mercado medieval en la Plaza del Jardín con paradas de artesanía\, mercaderías \, gastronomía\, etc. con motivo de las fiestas de San Jorge. \n \n Detalles del Mercado Medieval\nCuando se celebra ? Los dias 20 al 23 de Abril del  2024 \nMotivo :  de Las Fiestas De San Jorge \nEn que localidad y provincia ? En la localidad zaragozana de La Almunia de Doña Godina\, provincia de ZARAGOZA \nCual será la ubicación ? Estará ubicado en la Plaza del Jardín de La Almunia de Doña Godina \n Descripción del evento \nDia y hora de Montaje : Sábado día 20 entre las 8:00 y las 12:00 \n Fecha y hora de Inauguración : Sábado día 20 a las 12:00 horas \n Precio :  El precio por metro lineal para artesanía es de 40 euros y para gastronomía 60 euros. \n Quién lo organiza ?   LEYENDA VIVA \n Como participar ? Tendrá que rellenar la solicitud que se encuentra dentro de la página web.\nwww.leyendaviva.es\nMas  información : Telf. 653 232 751\ninfoleyendaviva@gmail.com \n  \nEl organizador proveerá de los siguientes servicios para los artesanos : \n\nPUNTOS DE LUZ Y AGUA – VIGILANCIA NOCTURNA – PUBLICIDAD\n\n \n Acerca de\nLa Almunia de Doña Godina es una localidad y municipio\, capital de la comarca de Valdejalón\, en la provincia de Zaragoza\, en Aragón. Está situada en una importante confluencia de caminos del cuadrante nordeste de España que hace que tenga contacto directo con las ciudades más importantes del país. Pertenece al partido judicial que lleva su mismo nombre. \nEl relieve del municipio es una transición entre las primeras elevaciones del Sistema Ibérico zaragozano (Sierra de Algairén)\, que predominan al sur-suroeste\, y el valle del Jalón que se abre a la Depresión del Ebro\, donde abundan las acequias para el regadío. Al noroeste\, el río Jalón hace de límite con Ricla. \nLa altitud del término municipal oscila entre los 734 metros y los 349 metros. El núcleo principal de población se alza a 366 metros sobre el nivel del mar. \nA su vez\, el término municipal también hace límite con otras poblaciones de los alrededores como Morata de Jalón\, Alpartir\, Alfamén\, Calatorao\, Chodes y Almonacid de la Sierra \nLa Almunia de Doña Godina se ubica al pie de la Sierra de Algairén\, en las fértiles tierras regadas por el río Jalón y sus afluentes Mediano y Grío. La localidad se sitúa a 366 metros de altitud y su término se extiende por 56\,7 km2 de los que más del 83% son zonas agrícolas. \nDistancias kilométricas y comunicaciones\nLa villa se encuentra a 50 kilómetros de Zaragoza\, a 262 de Madrid\, 360 de Barcelona\, 304 de Bilbao y 283 de Valencia y 445 de Toulouse. Ocupa pues un lugar céntrico y privilegiado\, bien comunicado a través de autovías y autopistas\, además de AVE y ferrocarril convencional. El aeropuerto de Zaragoza se encuentra a 46 kilómetros y la estación del AVE de Calatayud a 34. \nEl norte de su término municipal está atravesado por la Autovía del Nordeste (A-2)\, entre los puntos kilométricos 271 y 276. Además varias carreteras autonómicas nacen o finalizan en el término municipal: la A-220 que pasa por Cariñena y termina en Belchite\, la A-121 que comienza en Magallón y finaliza en la localidad\, y la A-122 que nace en Alagón y pasa por Épila para finalizar también en La Almunia. \n\nCalendario de Mercado Medieval y Ferias 2024 :\n\n\nEnero\nFebrero\nMarzo\nAbril\nMayo\nJunio\nJulio\nAgosto\nSeptiembre\nOctubre\nNoviembre\nDiciembre\n\n Las Ferias y mercados medievales\n\n\nLas Ferias y mercados medievales son eventos populares que recrean el ambiente y la atmósfera de la Edad Media. Durante estas Ferias y mercados medievales\, se recrea un pueblo o una ciudad medieval\, con puestos de artesanía\, alimentos\, entretenimiento y actividades relacionadas con la época. \n\n\n\nLos participantes\, vestidos con trajes medievales\, venden productos tradicionales como joyería\, armas\, vestimenta\, objetos de cuero\, cerámica y otros productos artesanales. Los alimentos y bebidas también desempeñan un papel importante en las ferias medievales.\n\n 
URL:https://demercadosmedievales.info/mercadomedieval/20-al-23-abril-mercado-medieval-de-la-almunia-de-dona-godina/
LOCATION:La Almunia de Doña Godina (Zaragoza) (***)\, Avenida Zaragoza\, La Almunia de Doña Godina\, Zaragoza\, 50100\, España
CATEGORIES:Leyenda viva,Mercado Medieval,Zaragoza
ATTACH;FMTTYPE=image/jpeg:https://demercadosmedievales.info/wp-content/uploads/2024/02/medieval_almunia_2024_f.jpg
ORGANIZER;CN="Leyenda viva":MAILTO:infoleyendaviva@gmail.com
GEO:41.4817372;-1.3718219
X-APPLE-STRUCTURED-LOCATION;VALUE=URI;X-ADDRESS=La Almunia de Doña Godina (Zaragoza) (***) Avenida Zaragoza La Almunia de Doña Godina Zaragoza 50100 España;X-APPLE-RADIUS=500;X-TITLE=Avenida Zaragoza:geo:-1.3718219,41.4817372
END:VEVENT
END:VCALENDAR