BEGIN:VCALENDAR
VERSION:2.0
PRODID:-//Mercados Medievales - ECPv6.15.20//NONSGML v1.0//EN
CALSCALE:GREGORIAN
METHOD:PUBLISH
X-WR-CALNAME:Mercados Medievales
X-ORIGINAL-URL:https://demercadosmedievales.info
X-WR-CALDESC:Eventos para Mercados Medievales
REFRESH-INTERVAL;VALUE=DURATION:PT1H
X-Robots-Tag:noindex
X-PUBLISHED-TTL:PT1H
BEGIN:VTIMEZONE
TZID:Europe/Madrid
BEGIN:DAYLIGHT
TZOFFSETFROM:+0100
TZOFFSETTO:+0200
TZNAME:CEST
DTSTART:20240331T010000
END:DAYLIGHT
BEGIN:STANDARD
TZOFFSETFROM:+0200
TZOFFSETTO:+0100
TZNAME:CET
DTSTART:20241027T010000
END:STANDARD
BEGIN:DAYLIGHT
TZOFFSETFROM:+0100
TZOFFSETTO:+0200
TZNAME:CEST
DTSTART:20250330T010000
END:DAYLIGHT
BEGIN:STANDARD
TZOFFSETFROM:+0200
TZOFFSETTO:+0100
TZNAME:CET
DTSTART:20251026T010000
END:STANDARD
BEGIN:DAYLIGHT
TZOFFSETFROM:+0100
TZOFFSETTO:+0200
TZNAME:CEST
DTSTART:20260329T010000
END:DAYLIGHT
BEGIN:STANDARD
TZOFFSETFROM:+0200
TZOFFSETTO:+0100
TZNAME:CET
DTSTART:20261025T010000
END:STANDARD
END:VTIMEZONE
BEGIN:VEVENT
DTSTART;TZID=Europe/Madrid:20250312T000000
DTEND;TZID=Europe/Madrid:20250319T235959
DTSTAMP:20260420T012016
CREATED:20241124T071243Z
LAST-MODIFIED:20241124T071309Z
UID:10001970-1741737600-1742428799@demercadosmedievales.info
SUMMARY:Mercado Tradicional de Falla Tajo-Cavite 2025
DESCRIPTION:El mercado se montará entre la avenida Malvarrosa y algunos puestos debajo de las luces\, Esta Falla es ganadora de varios premios en iluminación  \n\n\n \n\n\n\n\n\n\n\nMercado Tradicional de Falla Tajo-Cavite\n\n\n\nPara artesanía\, complementos\, mercaderías varias y alimentación envasada. \n\n\n\nLa Falla Tajo-Cavite está ubicada en el barrio del Cabañal\, en Valencia\, cerca de la playa de la Malvarrosa. Su ubicación concreta suele encontrarse en el cruce de las calles Tajo y Cavite\, de donde toma su nombre. Esta falla pertenece a las comisiones más tradicionales de la ciudad y se caracteriza por su activa participación en las fiestas falleras\, destacándose por su espíritu comunitario y los eventos que organiza para vecinos y visitantes. \n\n\n\n\n\n\n\n\n\n\n\nInformación básica del Mercado\n\n\n\nFecha de celebración Los dias 12 al 19 de Marzo del 2025 \n\n\n\nDonde se realizaEn la localidad de Valencia que pertenece a la provincia de   VALENCIA /  Valencia ​ es un municipio​ y una ciudad de España\, capital de la provincia homónima y de la Comunidad Valenciana. Su población es de 807 693 habitantes\, alcanzando los 1 581 057 habitantes si se incluye su espacio urbano. \n\n\n\nSe ubicará : Se monta en la Avenida Malvarrosa\, ganadora de varios premios en iluminación \n\n\n\n\n Requisitos : Documentación en Regla ( Seguridad Social\, Autónomos ) \n\n\n\nEn esta falla se habitará una plaza para que los artesanos puedan dejar las furgones cerca de donde se monta el mercado \n\n\n\n\nInformación del Organizador\n\n\n\nEs organizado por :  CORONA EVENTOS \n\n\n\nPara más Información e Inscripciones: TELEFONO :  653472245   EMAIL : coronaeventoscc@gmail.com \n\n\n\nPara participar en este mercado\, lo primero que debes hacer es ponerte en contacto con el organizador y te explicarán las condiciones y te darán todos los detalles\, como el precio\, el montaje\, el tipo de puestos\, los servicios que ofrecen\, etc. \n\n\n\nMás fechasPuedes conocer mas ferias y mercados en está provincia\, consultando nuestra sección de Eventos en la provincia de Valencia \n\n\n\nOtros eventos del organizadorConsulta Aquí otras ferias y mercados que organizará la empresa Corona Eventos \n\n\n\notros mercados temáticos y FeriasSi quieres conocer cuando se realizan más ferias y mercados\, puedes consultarlos visitando nuestro   Calendario de Eventos \n\n\n\nLAS FALLAS DE VALENCIA\n\n\n\nLas fechas clave son del día 13 al 19 de marzo 2024\, pero toda la comunidad se vuelca en la celebración de las Fallas en lo que se denomina la «Semana Fallera»\, por lo que las fiestas pueden empezar desde el día 1 de marzo. \n\n\n\nLos mercados tradicionales de fallas es posible que comiencen el 13 de Marzo hasta el 19 de Marzo\, la fecha exacta se conocerá más adelante. \n\n\n\nLas  Fallas de Valencia (Falles en valenciano) son unas fiestas cercanas al  19 (cremá) de marzo con una tradición arraigada en la ciudad española de  Valencia y diferentes poblaciones de la Comunidad Valenciana. Oficialmente empiezan el último domingo de febrero con el acto de la crida (en valenciano; ‘pregón o llamada’\, en español). \n\n\n\nActualmente\, esta festividad se ha convertido en un atractivo turístico muy importante\, ya que además de estar catalogadas como fiesta de Interés Turístico Internacional\, en noviembre de 2016 la Unesco las inscribió en su Lista Representativa del Patrimonio Cultural Inmaterial de la Humanidad.​ \n\n\n\nEstas fiestas también son llamadas fiestas josefinas o festes de Sant Josep (en valenciano)\, ya que se celebran en honor de san José\, patrón de los carpinteros\, que era un gremio muy extendido en la ciudad cuando empezaron a celebrarse a finales del siglo XIX\, y que conservó hasta la actualidad\, dada la importancia de la industria del mueble en la región. \n\n\n\nCalendario 2025 \n\n\n\n\n\n\n\nOrganiza
URL:https://demercadosmedievales.info/mercadomedieval/mercado-tradicional-de-falla-tajo-cavite-2025/
CATEGORIES:Fallas,Valencia
ATTACH;FMTTYPE=image/jpeg:https://demercadosmedievales.info/wp-content/uploads/2024/11/falla_tajo_cavite_2025_f.jpg
ORGANIZER;CN="Corona eventos":MAILTO:coronaeventoscc@gmail.com
END:VEVENT
END:VCALENDAR